BEGIN:VCALENDAR
VERSION:2.0
PRODID:-//Kingdom Fire - ECPv6.15.20//NONSGML v1.0//EN
CALSCALE:GREGORIAN
METHOD:PUBLISH
X-WR-CALNAME:Kingdom Fire
X-ORIGINAL-URL:https://kingdomfire.us
X-WR-CALDESC:Events for Kingdom Fire
REFRESH-INTERVAL;VALUE=DURATION:PT1H
X-Robots-Tag:noindex
X-PUBLISHED-TTL:PT1H
BEGIN:VTIMEZONE
TZID:UTC
BEGIN:STANDARD
TZOFFSETFROM:+0000
TZOFFSETTO:+0000
TZNAME:UTC
DTSTART:20220101T000000
END:STANDARD
END:VTIMEZONE
BEGIN:VEVENT
DTSTART;TZID=UTC:20240818T140000
DTEND;TZID=UTC:20240818T160000
DTSTAMP:20260424T161151
CREATED:20240229T222343Z
LAST-MODIFIED:20240815T015343Z
UID:10000248-1723989600-1723996800@kingdomfire.us
SUMMARY:Community Beach Block Party | Faith Christian Center | New Baltimore\, MI
DESCRIPTION:Community Beach Block Party  \nFREE  FAMILY  FUN\n\n\n\n** SUNDAY – AUGUST 18TH **\n 2:00PM – 4:00PM \n\n\n\nOur good friends at Faith Christian Center are hosting an amazing opportunity to have fun with the whole family!\n\n\n\nLocation:\nNew Baltimore Beach Pavilion\nWalter & Mary Burke Park\n36300 Front\, Street\nNew Baltimore\, Michigan 48047\n\n\n\n FREE Raffle Prizes \n Activities and Games \n Free Food \n Sharing Testimonies \n Face Painting \n Baptisms \n\n\n\n** I’ve been invited to come and share my testimony of being radically delivered from a 14 year drug addiction\, sharing the Gospel and giving everyone an opportunity to receive Salvation!**\n\n\n\nBring your kids\, teens and family out to have fun on the beach and have fun with us!\n\n\nSee you there!
URL:https://kingdomfire.us/event/community-beach-block-party-faith-christian-center-new-baltimore-mi-3/
LOCATION:Walter & Mary Burke Park\, 36300 Front St.\, New Baltimore\, MI\, 48047\, United States
CATEGORIES:Evangelism Outreach
ATTACH;FMTTYPE=image/jpeg:https://kingdomfire.us/wp-content/uploads/2024/02/455071279_908756684625404_3021825014936848402_n.jpg
END:VEVENT
BEGIN:VEVENT
DTSTART;TZID=UTC:20240728T140000
DTEND;TZID=UTC:20240728T160000
DTSTAMP:20260424T161151
CREATED:20240229T222030Z
LAST-MODIFIED:20240725T202446Z
UID:10000247-1722175200-1722182400@kingdomfire.us
SUMMARY:Community Beach Block Party | Faith Christian Center | New Baltimore\, MI
DESCRIPTION:Community Beach Block Party  \nFREE  FAMILY  FUN\n\n\n\n** SUNDAY – JULY 28TH **\n 2:00PM – 4:30PM \n\n\n\nOur good friends at Faith Christian Center are hosting an amazing opportunity to have fun with the whole family!\n\n\n\nLocation:\nNew Baltimore Beach Pavilion\nWalter & Mary Burke Park\n36300 Front\, Street\nNew Baltimore\, Michigan 48047\n\n\n\n FREE Raffle Prizes \n Activities and Games \n Free Food \n Sharing Testimonies \n Face Painting \n Baptisms \n\n\n\n** I’ve been invited to come and share my testimony of being radically delivered from a 14 year drug addiction\, sharing the Gospel and giving everyone an opportunity to receive Salvation!**\n\n\n\nBring your kids\, teens and family out to have fun on the beach and have fun with us!\n\n\nSee you there!
URL:https://kingdomfire.us/event/community-beach-block-party-faith-christian-center-new-baltimore-mi-2/
LOCATION:Walter & Mary Burke Park\, 36300 Front St.\, New Baltimore\, MI\, 48047\, United States
CATEGORIES:Evangelism Outreach
ATTACH;FMTTYPE=image/jpeg:https://kingdomfire.us/wp-content/uploads/2024/02/452627504_897488925752180_1980933541432164434_n.jpg
END:VEVENT
BEGIN:VEVENT
DTSTART;TZID=UTC:20230813T140000
DTEND;TZID=UTC:20230813T160000
DTSTAMP:20260424T161151
CREATED:20230809T220519Z
LAST-MODIFIED:20230809T220519Z
UID:10000194-1691935200-1691942400@kingdomfire.us
SUMMARY:Community Beach Block Party | Faith Christian Center | New Baltimore\, MI
DESCRIPTION:Community Beach Block Party  \nFREE  FAMILY  FUN\n\n\n\n** THIS SUNDAY – AUGUST 13TH **\n 2:00PM – 4:00PM \n\n\n\nOur good friends at Faith Christian Center are hosting an amazing opportunity to have fun with the whole family!\n\n\n\nLocation:\nNew Baltimore Beach Pavilion\nWalter & Mary Burke Park\n36300 Front\, Street\nNew Baltimore\, Michigan 48047\n\n\n\n FREE Raffle Prizes \n Activities and Games \n Free Food \n Sharing Testimonies \n Face Painting \n Baptisms \n\n\n\n** I’ve been invited to come and share my testimony of being radically delivered from a 14 year drug addiction\, sharing the Gospel and giving everyone an opportunity to receive Salvation!**\n\n\n\nBring your kids\, teens and family out to have fun on the beach and have fun with us!\n\n\nSee you there!
URL:https://kingdomfire.us/event/community-beach-block-party-faith-christian-center-new-baltimore-mi/
LOCATION:Walter & Mary Burke Park\, 36300 Front St.\, New Baltimore\, MI\, 48047\, United States
CATEGORIES:Evangelism Outreach
ATTACH;FMTTYPE=image/jpeg:https://kingdomfire.us/wp-content/uploads/2023/08/362232479_669046648596410_7263970977125895853_n-1.jpg
END:VEVENT
END:VCALENDAR