BEGIN:VCALENDAR
VERSION:2.0
PRODID:-//Kingdom Fire - ECPv6.15.20//NONSGML v1.0//EN
CALSCALE:GREGORIAN
METHOD:PUBLISH
X-WR-CALNAME:Kingdom Fire
X-ORIGINAL-URL:https://kingdomfire.us
X-WR-CALDESC:Events for Kingdom Fire
REFRESH-INTERVAL;VALUE=DURATION:PT1H
X-Robots-Tag:noindex
X-PUBLISHED-TTL:PT1H
BEGIN:VTIMEZONE
TZID:UTC
BEGIN:STANDARD
TZOFFSETFROM:+0000
TZOFFSETTO:+0000
TZNAME:UTC
DTSTART:20210101T000000
END:STANDARD
END:VTIMEZONE
BEGIN:VEVENT
DTSTART;TZID=UTC:20220820T180000
DTEND;TZID=UTC:20220820T200000
DTSTAMP:20260425T114732
CREATED:20220804T215627Z
LAST-MODIFIED:20220804T220841Z
UID:10000141-1661018400-1661025600@kingdomfire.us
SUMMARY:Ignite The Thumb Praise Rally- Vassar\, Michigan
DESCRIPTION:Come on out and join us on Saturday\, August 20th in Vassar! \n*Many Churches\, denominations\, Pastors and Leaders come together for a common cause: Igniting and Uniting the Thumb!* \nPrayer – Praise – Proclomation
URL:https://kingdomfire.us/event/ignite-the-thumb-praise-rally-vassar-michigan/
LOCATION:Vassar Victory Center\, 800 State Rd.\, Vassar\, 48768\, United States
CATEGORIES:Guest Speaker for Church Service
END:VEVENT
BEGIN:VEVENT
DTSTART;TZID=UTC:20220806T120000
DTEND;TZID=UTC:20220806T170000
DTSTAMP:20260425T114732
CREATED:20220727T211519Z
LAST-MODIFIED:20220727T221214Z
UID:10000137-1659787200-1659805200@kingdomfire.us
SUMMARY:"Praise and Proclaim"  Equipping & Outreach
DESCRIPTION:“Praise and Proclaim Rally”\n\n\n🎼Evangelism Equipping\, Outreach and Praise! 🎼\n\n\n \n\n\nVASSAR\, MICHIGAN!\n\n\n \n\n\nNext SATURDAY (8/6/2022)\, Vassar Victory Center will be hosting a FREE evangelism equipping class and outreach opportunity for anyone and everyone to join!!\n\n\n \n\n\nEvangelists Justin Fahrenbruch and Adam Maher have been invited to come in and share their hearts on personal evangelism and give some practical tools on how to share your faith with others\, anywhere – anytime.\n\n\n \n\n\n \n\n\nAfter the equipping\, we will be splitting up into teams and bringing “the church” to the streets!!  No matter what level of comfortability you may be at\, we would love to be able to help you share your faith with others as we go into the community together to share our faith with others – whether that be coming along just to witness and pray\, giving smiles to others around you or taking it a step further and witnessing! There’s no pressure\, it’s totally up to you! We just want to be able to help you where you’re at and give you tools and encouragement to take the next step in your walk with the Lord.\n\n\n \n\n\n💥Don’t let the spirit of fear in\, let the Christ in you OUT!! 💥\n\n\n \n\n\nIt’s going to be a great time!\n\n\nCome on out and join us!\n\n\n \n\n\nALL ARE WELCOME!!\n\n\n \n\n\n \n\n\n12:00 – 1:00PM – Equipping / Teaching\n\n\n \n\n\n1:00 – 3:00PM – Outreach in the community\n\n\n \n\n\n3:00 – 3:30PM – FREE Lunch Provided at V.V.C.\n\n\n \n\n\n3:30 – 5:00PM – Sharing Testimonies\, Fellowship – Praise and Worship to end the night
URL:https://kingdomfire.us/event/praise-and-proclaim-equipping-outreach/
LOCATION:Vassar Victory Center\, 800 State Rd.\, Vassar\, 48768\, United States
ORGANIZER;CN="Justin Fahrenbruch":MAILTO:Admin@Kingdomfire.us
END:VEVENT
BEGIN:VEVENT
DTSTART;TZID=UTC:20220717T100000
DTEND;TZID=UTC:20220717T120000
DTSTAMP:20260425T114732
CREATED:20220524T220704Z
LAST-MODIFIED:20220524T220704Z
UID:10000129-1658052000-1658059200@kingdomfire.us
SUMMARY:Preaching at Vassar Victory Center - Vassar\, Michigan
DESCRIPTION:**Justin was a drug addict for 14 years of his life. In 2018 he was radically and miraculously set free when a chain of events lead to the surrender of his life to Christ in the middle of a parking lot. Since the surrender of his life\, Justin has seen the miraculous power of God move mightily through his life and many others around him.**\n\n\n\nHealing Services \nProphetic Words \nFresh Fire\nPreaching the Kingdom \n\n\n\nMiracles signs and wonders!!\nCome Expecting your Breakthrough!\n\n\nIt’s time to change the world!\nLet’s go!
URL:https://kingdomfire.us/event/preaching-at-vassar-victory-center-vassar-michigan/
LOCATION:Vassar Victory Center\, 800 State Rd.\, Vassar\, 48768\, United States
CATEGORIES:Guest Speaker for Church Service
END:VEVENT
BEGIN:VEVENT
DTSTART;TZID=UTC:20220515T103000
DTEND;TZID=UTC:20220515T120000
DTSTAMP:20260425T114732
CREATED:20220512T020713Z
LAST-MODIFIED:20220512T021138Z
UID:10000118-1652610600-1652616000@kingdomfire.us
SUMMARY:Preaching at Vassar Victory Center
DESCRIPTION:
URL:https://kingdomfire.us/event/preaching-at-vassar-victory-center/
LOCATION:Vassar Victory Center\, 800 State Rd.\, Vassar\, 48768\, United States
ATTACH;FMTTYPE=image/jpeg:https://kingdomfire.us/wp-content/uploads/2022/05/Kingdom-Fire_About-Us_2_1600x1000.jpg
END:VEVENT
BEGIN:VEVENT
DTSTART;TZID=UTC:20220220T103000
DTEND;TZID=UTC:20220220T120000
DTSTAMP:20260425T114732
CREATED:20220121T011546Z
LAST-MODIFIED:20220121T011546Z
UID:10000117-1645353000-1645358400@kingdomfire.us
SUMMARY:Preaching in Vassar\, Michigan!
DESCRIPTION:Justin has been invited by Pastor Mark Seppo to share his heart and preach at the Vassar Victory Center!
URL:https://kingdomfire.us/event/preaching-in-vassar-michigan/
LOCATION:Vassar Victory Center\, 800 State Rd.\, Vassar\, 48768\, United States
END:VEVENT
END:VCALENDAR