BEGIN:VCALENDAR
VERSION:2.0
PRODID:-//Kingdom Fire - ECPv6.15.20//NONSGML v1.0//EN
CALSCALE:GREGORIAN
METHOD:PUBLISH
X-WR-CALNAME:Kingdom Fire
X-ORIGINAL-URL:https://kingdomfire.us
X-WR-CALDESC:Events for Kingdom Fire
REFRESH-INTERVAL;VALUE=DURATION:PT1H
X-Robots-Tag:noindex
X-PUBLISHED-TTL:PT1H
BEGIN:VTIMEZONE
TZID:UTC
BEGIN:STANDARD
TZOFFSETFROM:+0000
TZOFFSETTO:+0000
TZNAME:UTC
DTSTART:20230101T000000
END:STANDARD
END:VTIMEZONE
BEGIN:VEVENT
DTSTART;TZID=UTC:20250726T110000
DTEND;TZID=UTC:20250726T150000
DTSTAMP:20260424T092119
CREATED:20250421T193534Z
LAST-MODIFIED:20250421T193534Z
UID:10000970-1753527600-1753542000@kingdomfire.us
SUMMARY:3 on 3 Basketball Tournament  ||  Special Speaker  || T-North Pavilion - Vassar\, MI
DESCRIPTION:Let’s Go — VASSAR\, MICHIGAN! \n\n\n\nSoul’d Out Youth and my good friend\, Jen Gillman will be bringing an amazing opportunity to not only give the youth something FUN to do… but also keeping it CHRIST-Centered.\n\n\n\n Our brother\, Pastor & Gospel Rapper Joe Brown… and his team with The Blessings Are Real – are going to be together bringin’ the heat and performing LIVE during this 3 on 3 Basketball Tournament.\n\n\nIf you haven’t ever heard Joe perform… you’re in for a treat! Y ou’ll want to make it out to Vassar at the Pavilion on Saturday\, July 26th!\n\n\n\n Justin Fahrenbruch also be there to share my heart and story. Giving everyone an opportunity to accept Christ… and of course there will be a water baptismal tank ready for anyone who’s ready to take that next step! \n\n\nIf you know someone who would like to be involved\, please SHARE this information & flyer! See you soon!\n\n\n\nCLEAN\nFAMILY\nFUN\nIN\nTHE\nTHUMB
URL:https://kingdomfire.us/event/3-on-3-basketball-tournament-special-speaker-t-north-pavilion-vassar-mi/
LOCATION:T PAVILION\, S. Cass Ave. & E. Spring St.\, Vassar\, MI\, 48768\, United States
CATEGORIES:Guest Speaker for Special Event
ATTACH;FMTTYPE=image/jpeg:https://kingdomfire.us/wp-content/uploads/2025/04/489425216_4117781485127768_8169904410001993502_n.jpg
ORGANIZER;CN="Jenn Gillman":MAILTO:eversosweetjennyj@yahoo.com
END:VEVENT
BEGIN:VEVENT
DTSTART;TZID=UTC:20240817T110000
DTEND;TZID=UTC:20240817T170000
DTSTAMP:20260424T092119
CREATED:20240810T154251Z
LAST-MODIFIED:20240810T154251Z
UID:10000277-1723892400-1723914000@kingdomfire.us
SUMMARY:3 on 3 Basketball Tournament  ||  T-North Pavilion - Vassar\, MI
DESCRIPTION:Let’s Go — VASSAR\, MICHIGAN! \n\n\n\nSoul’d Out Youth and my good friend\, Jen Gillman will be bringing an amazing opportunity to not only give the youth something FUN to do… but also keeping it CHRIST-Centered.\n\n\n\n Our brother\, Pastor & Gospel Rapper Joe Brown… and his team with The Blessings Are Real – are going to be together bringin’ the heat and performing LIVE during this 3 on 3 Basketball Tournament.\n\n\nIf you haven’t ever heard Joe perform… you’re in for a treat! You’ll want to make it out to Vassar at the Pavilion on Saturday\, August 17th!\n\n\n\n Justin Fahrenbruch also be there to share my heart and story. Giving everyone an opportunity to accept Christ… and of course there will be a water baptismal tank ready for anyone who’s ready to take that next step! \n\n\nIf you know someone who would like to be involved\, please SHARE this information & flyer! See you soon!\n\n\n\nCLEAN\nFAMILY\nFUN\nIN\nTHE\nTHUMB
URL:https://kingdomfire.us/event/3-on-3-basketball-tournament/
LOCATION:T PAVILION\, S. Cass Ave. & E. Spring St.\, Vassar\, MI\, 48768\, United States
CATEGORIES:Guest Speaker for Special Event
ATTACH;FMTTYPE=image/jpeg:https://kingdomfire.us/wp-content/uploads/2024/08/454571357_1252643789238483_7530959221688026889_n.jpg
ORGANIZER;CN="Jenn Gillman":MAILTO:eversosweetjennyj@yahoo.com
END:VEVENT
BEGIN:VEVENT
DTSTART;TZID=UTC:20240714T103000
DTEND;TZID=UTC:20240714T123000
DTSTAMP:20260424T092119
CREATED:20240422T001206Z
LAST-MODIFIED:20240707T185445Z
UID:10000267-1720953000-1720960200@kingdomfire.us
SUMMARY:Guest Speaker for Unity Service | Multi-Church Event | T-North Pavilion Vassar\, MI
DESCRIPTION:VASSAR\, MICHIGAN\n\n\n\nIf you are near “THE THUMB” (and do not have a home church or haven’t been to church in a while) we would LOVE to see you at T-NORTH PAVILION in Vassar\, Michigan – July 14th\, 2024!!\n\nLocation:\nT-North Pavilion\nS Cass Ave & E Spring St\, Vassar\, MI 48768\n\nSERVICE STARTS:\n10:00AM\n\n\n\n\nEvangelist Justin Fahrenbruch will be sharing his testimony and heart on “Unity” during this multiple church\, city-wide Unity Service.\n\n\n\n**Justin was a drug addict for 14 years of his life. In 2018 he was radically and miraculously set free when a chain of events lead to the surrender of his life to Christ in the middle of a parking lot. Since the surrender of his life\, Justin has seen the miraculous power of God move mightily through his life and many others around him.**\n\n\n\nIt’s time to change the world!\nLet’s go!
URL:https://kingdomfire.us/event/guest-speaker-church-service-vassar-michigan/
LOCATION:T PAVILION\, S. Cass Ave. & E. Spring St.\, Vassar\, MI\, 48768\, United States
CATEGORIES:Guest Speaker for Special Event
ATTACH;FMTTYPE=image/png:https://kingdomfire.us/wp-content/uploads/2024/04/church-1.png
END:VEVENT
END:VCALENDAR