BEGIN:VCALENDAR
VERSION:2.0
PRODID:-//Kingdom Fire - ECPv6.15.20//NONSGML v1.0//EN
CALSCALE:GREGORIAN
METHOD:PUBLISH
X-WR-CALNAME:Kingdom Fire
X-ORIGINAL-URL:https://kingdomfire.us
X-WR-CALDESC:Events for Kingdom Fire
REFRESH-INTERVAL;VALUE=DURATION:PT1H
X-Robots-Tag:noindex
X-PUBLISHED-TTL:PT1H
BEGIN:VTIMEZONE
TZID:UTC
BEGIN:STANDARD
TZOFFSETFROM:+0000
TZOFFSETTO:+0000
TZNAME:UTC
DTSTART:20210101T000000
END:STANDARD
END:VTIMEZONE
BEGIN:VEVENT
DTSTART;TZID=UTC:20230915T180000
DTEND;TZID=UTC:20230915T230000
DTSTAMP:20260424T063831
CREATED:20230816T003504Z
LAST-MODIFIED:20230819T025052Z
UID:10000195-1694800800-1694818800@kingdomfire.us
SUMMARY:Community United - Flint\, MI | Free Movie Night at the Park
DESCRIPTION:“Community United – Round 3”\nFREE – FAMILY – FUN\n\n\n\nFree Food Provided ALL – Weekend long!\nBounce Houses Face Painting Balloons\nVolleyball KickBall Games\nCornHole Tournament Prizes\nLive Worship Bands Prayer Tents\nFREE Raffles and Give-A-ways!!\n\n\n\nCome join us again in FLINT\, MICHIGAN for our BIGGEST event of the year!!!\n\n\nYOU DON’T WANT TO MISS THIS!!!\n\n\n\nLocation:\nSarginson Park\n1400 Beaver Ave.\nFlint\, MI 48503\n\n\n\nFriday September 15th – “MOVIE NIGHT”\n Event starting at 6:00PM \nFree Movie for the Community\n Popcorn  Snow cones\nVolleyball  Baptisms\nBounce Houses\n Praise and Worship\n\n\n\nSaturday September 16th – “LIVE MUSIC FEST + GLOAM FOAM PARTY”\n Event starting at 2:00PM \n Live Music with Guest Performers\n Baptisms Prayer\n Bounce Houses\n😶‍🌫️ Glow Foam Party at Night!\n\n\n\n*Guest Speaker: Ramon Barrera*\n\n\n\nSunday September 17th – “CHURCH IN THE PARK”\n Event starting at 12:00PM \n\nUnder the Big White Tent\n Live Band Praise and Worship\n Baptisms Prayer\n Sharing the Word\nHealing and Deliverance
URL:https://kingdomfire.us/event/community-united-flint-mi-free-movie-night-at-the-park/
LOCATION:Sarginson Park\, 1400 Beaver Ave.\, Flint\, MI\, 48503\, United States
CATEGORIES:Evangelism Outreach
ATTACH;FMTTYPE=image/jpeg:https://kingdomfire.us/wp-content/uploads/2023/08/theatre-and-film-scaled.jpg
END:VEVENT
BEGIN:VEVENT
DTSTART;TZID=UTC:20230722T180000
DTEND;TZID=UTC:20230722T220000
DTSTAMP:20260424T063831
CREATED:20230715T192506Z
LAST-MODIFIED:20230715T192506Z
UID:10000192-1690048800-1690063200@kingdomfire.us
SUMMARY:Water Wars At The Park | FREE for Everyone! | Sarginson Park - Flint\, MI
DESCRIPTION:Flint Driven Church Presents: \nJoin us July 22nd for “Water Wars” and a glow party following!! \nWe will have games from 6-9pm and then our Glow After Party from 9-10pm with Fantastic Foam Party – Michigan! \nFREE AT THE PARK: \nSarginson Park \n1400 Beaver Ave. Flint\, MI 48503 \nBring your kids and teens out to have fun in the water with us!
URL:https://kingdomfire.us/event/water-wars-at-the-park-free-for-everyone-sarginson-park-flint-mi/
LOCATION:Sarginson Park\, 1400 Beaver Ave.\, Flint\, MI\, 48503\, United States
CATEGORIES:Evangelism Outreach
ATTACH;FMTTYPE=image/jpeg:https://kingdomfire.us/wp-content/uploads/2023/07/358061368_646957837468603_1346498805816716863_n.jpg
END:VEVENT
BEGIN:VEVENT
DTSTART;TZID=UTC:20230624T183000
DTEND;TZID=UTC:20230624T220000
DTSTAMP:20260424T063831
CREATED:20230606T233146Z
LAST-MODIFIED:20230606T233146Z
UID:10000184-1687631400-1687644000@kingdomfire.us
SUMMARY:Free Movie Night At The Park  |  Flint\, MI
DESCRIPTION:FREE Movie Night at Sarginson Park: Saturday\, June 24th\n\nBounce houses\, games\, and hot dogs before the movie starting at 6:30pm\nPopcorn and candy bar served at Movie time (at dusk/night fall)\n\nMOVIE To Be Determined.\n\nBring your family and friends!
URL:https://kingdomfire.us/event/free-movie-night-at-the-park-flint-mi/
LOCATION:Sarginson Park\, 1400 Beaver Ave.\, Flint\, MI\, 48503\, United States
CATEGORIES:Evangelism Outreach
ATTACH;FMTTYPE=image/jpeg:https://kingdomfire.us/wp-content/uploads/2023/06/351812570_1424710375016030_8738075522642034449_n.jpg
END:VEVENT
BEGIN:VEVENT
DTSTART;TZID=UTC:20230528T120000
DTEND;TZID=UTC:20230528T170000
DTSTAMP:20260424T063831
CREATED:20230426T021258Z
LAST-MODIFIED:20230426T021611Z
UID:10000170-1685275200-1685293200@kingdomfire.us
SUMMARY:Free Community BBQ - Flint\, MI
DESCRIPTION:“Community BBQ”\nFREE FAMILY  FUN\n\n\n\n\n\nWe will be partnering with Flint Driven Church to bring Jesus to the People!\n\n\nCome on out and join us in FLINT\, Michigan!\n\n\n\nLocation:\nSarginson Park\n1400 Beaver Ave.\nFlint\, Michigan 48503\n\n\nSunday May 28th\n\n12:00PM – 5:00PM\n\n\n Praise and Worship \nBounce Houses \nSnow Cones \nPopcorn \n Sharing Testimonies \n Healing and Freedom \n Baptisms \n Sharing the love of Christ \n\n\n\n“And this gospel of the KINGDOM will be preached in all the world as a witness to all the nations\, and then the end will come.”\nMatthew 24:14\n\n\n“…He will baptize you with the Holy Spirit and FIRE.”\nMatthew 3:11\n\n\n\nIt’s time to change the world!\nLet’s Go!!
URL:https://kingdomfire.us/event/free-community-bbq-flint-mi/
LOCATION:Sarginson Park\, 1400 Beaver Ave.\, Flint\, MI\, 48503\, United States
CATEGORIES:Evangelism Outreach
ATTACH;FMTTYPE=image/jpeg:https://kingdomfire.us/wp-content/uploads/2023/04/Free-Community-BBQ.jpg
END:VEVENT
BEGIN:VEVENT
DTSTART;TZID=UTC:20220909T180000
DTEND;TZID=UTC:20220911T150000
DTSTAMP:20260424T063831
CREATED:20220818T023045Z
LAST-MODIFIED:20220818T023135Z
UID:10000143-1662746400-1662908400@kingdomfire.us
SUMMARY:Community United - Part 2
DESCRIPTION:“Community United – Round 2”\nFREE – FAMILY – FUN\n\nFood Provided ALL – Weekend long\nBounce Houses Face Painting Balloons\nVolleyball KickBall Games\nCornHole Tournament Prizes\nLive Worship Bands Prayer Tents\nFREE Raffles and Give-A-ways!!\n\nCome join us again in FLINT\, MICHIGAN for our BIGGEST event of the year!!!\nYOU DON’T WANT TO MISS THIS!!!\n\nLocation:\nSarginson Park\n1400 Beaver Ave.\nFlint\, MI 48503\n\nFriday September 9th – “MOVIE NIGHT”\n Event starting at 6:00PM \nFree Movie for the Community\n Popcorn  Snow cones\nVolleyball  Baptisms\nBounce Houses\n Praise and Worship\n\nSaturday September 10th – “LIVE MUSIC FESTIVAL”\n Event starting at 2:00PM \n Live Music with Guest Performers\n Baptisms Prayer\n Bounce Houses\n\n*Guest Speaker: Evangelist Ramon Barrera*\n\nSunday September 11th – “CHURCH IN THE PARK”\n Event starting at 12:00PM \nUnder the Big White Tent\n Live Band Praise and Worship\n Baptisms Prayer\n Sharing the Word\nHealing and Freedom
URL:https://kingdomfire.us/event/community-united-part-2/
LOCATION:Sarginson Park\, 1400 Beaver Ave.\, Flint\, MI\, 48503\, United States
CATEGORIES:Evangelism Outreach
END:VEVENT
END:VCALENDAR