BEGIN:VCALENDAR
VERSION:2.0
PRODID:-//Kingdom Fire - ECPv6.15.20//NONSGML v1.0//EN
CALSCALE:GREGORIAN
METHOD:PUBLISH
X-WR-CALNAME:Kingdom Fire
X-ORIGINAL-URL:https://kingdomfire.us
X-WR-CALDESC:Events for Kingdom Fire
REFRESH-INTERVAL;VALUE=DURATION:PT1H
X-Robots-Tag:noindex
X-PUBLISHED-TTL:PT1H
BEGIN:VTIMEZONE
TZID:UTC
BEGIN:STANDARD
TZOFFSETFROM:+0000
TZOFFSETTO:+0000
TZNAME:UTC
DTSTART:20210101T000000
END:STANDARD
END:VTIMEZONE
BEGIN:VEVENT
DTSTART;TZID=UTC:20221209T180000
DTEND;TZID=UTC:20221209T200000
DTSTAMP:20260425T132612
CREATED:20221116T201504Z
LAST-MODIFIED:20221116T203423Z
UID:10000152-1670608800-1670616000@kingdomfire.us
SUMMARY:An Inspired Holiday Festival
DESCRIPTION:The New Millennium Academy\nPresents\n\n\n“An Inspired Holiday Festival “\n\n\nFri. Dec. 9\, 2022\n6:00 PM – 8:00 PM\n3427 Adams Ave.\nSaginaw\, MI 48602 (GYM)\n\n\n\nExperience A Night of Inspiration Through:\nMusic\nA Christmas Skit\nMinistry by Special Guest:\nEvangelist Justin Fahrenbruch of\nKingdom Fire Ministry\nChristmas Carolers & More!\n\n\n\nOffering the taste of foods\nmade famous from\nPopular cities.\n\n\nThe Menu will consist of:\n\n\nNew York (Pizza)\nChicago (Hot Dog)\nDallas (BBQ)\nand\nLos Angeles (Tacos).\n\n\nBrought to you by\nthe students\, staff\,\nand families of\nThe New Millennium\nAcademy.\n\n\n\nThis is a Free Event.\n\n\nAll are welcome.\n\n\n\nDonations are appreciated.\n\n\nBe ready to experience\nA Night of Inspiration\nfor the entire family.\n\n 
URL:https://kingdomfire.us/event/an-inspired-holiday-festival/
LOCATION:Peace Lutheran School (in gym)\, 3427 Adams Ave.\, Saginaw\, MI\, 48602\, United States
CATEGORIES:Guest Speaker for Church Service
ATTACH;FMTTYPE=image/jpeg:https://kingdomfire.us/wp-content/uploads/2022/11/315105161_509172161251407_8147893392865542565_n.jpg
END:VEVENT
END:VCALENDAR