BEGIN:VCALENDAR
VERSION:2.0
PRODID:-//Kingdom Fire - ECPv6.15.20//NONSGML v1.0//EN
CALSCALE:GREGORIAN
METHOD:PUBLISH
X-WR-CALNAME:Kingdom Fire
X-ORIGINAL-URL:https://kingdomfire.us
X-WR-CALDESC:Events for Kingdom Fire
REFRESH-INTERVAL;VALUE=DURATION:PT1H
X-Robots-Tag:noindex
X-PUBLISHED-TTL:PT1H
BEGIN:VTIMEZONE
TZID:UTC
BEGIN:STANDARD
TZOFFSETFROM:+0000
TZOFFSETTO:+0000
TZNAME:UTC
DTSTART:20220101T000000
END:STANDARD
END:VTIMEZONE
BEGIN:VEVENT
DTSTART;TZID=UTC:20251017T090000
DTEND;TZID=UTC:20251017T150000
DTSTAMP:20260424T161149
CREATED:20251006T163843Z
LAST-MODIFIED:20251008T183513Z
UID:10001012-1760691600-1760713200@kingdomfire.us
SUMMARY:"Time to Lead" | Special Speaker | New Life Church | Attica\, MI
DESCRIPTION:ATTICA\, MICHIGAN \n\n\n\nMark your calendars! You won’t want to miss this!!\n Friday\, October 17th  \n\n\n\n SPECIAL SPEAKER – 9:00AM-3:00PM \n\n\n\n“Time to Lead” is an exciting and vital initiative designed to empower pastors\, faith leaders\, and grassroots activists across Michigan.\n\n\n\n**Justin was a drug addict for 14 years of his life. In 2018 he was radically and miraculously set free when a chain of events lead to an encounter with Jesus Christ in the middle of a parking lot. Since the surrender of his life\, Justin has seen the miraculous power of The Holy Spirit move mightily through his life and many others around him.**\n\n\n✔ NETWORKING\n🎁 LEADERSHIP TRAINING\n💥 TEAM BUILDING\nALL FOR KINGDOM IMPACT!!!\n\n\n\nCome expecting to be filled up!!\n\nLet’s Go!
URL:https://kingdomfire.us/event/time-to-lead-special-speaker-new-life-church-attica-mi/
LOCATION:New Life Church\, 4411 Newark Rd.\, Attica\, MI\, 48412\, United States
CATEGORIES:Guest Speaker at Conference,Guest Speaker for Special Event,Special Event
ATTACH;FMTTYPE=image/jpeg:https://kingdomfire.us/wp-content/uploads/2025/10/0201c9b8-c275-45e0-ac88-621c4382e57b.jpg
ORGANIZER;CN="Pastor Tim Martin":MAILTO:nlcc@newlifechristian.net
END:VEVENT
BEGIN:VEVENT
DTSTART;TZID=UTC:20250712T083000
DTEND;TZID=UTC:20250712T170000
DTSTAMP:20260424T161149
CREATED:20250604T011630Z
LAST-MODIFIED:20250604T011630Z
UID:10000994-1752309000-1752339600@kingdomfire.us
SUMMARY:"Kingdom Encounter" Evangelism Equipping  |  Attica\, Michigan - New Life Christian Church | Evangelists Justin Fahrenbruch and Tim Grisham
DESCRIPTION:Join us for the “Kingdom Encounter” Evangelism Equipping Event! \nPrepare to Ignite Revival \nAs we approach the transformative Tent Revival Crusade during the Cheeseburger Festival in Caseville\, Michigan\, Kingdom Encounter Ministries invites you to a pivotal Evangelism Equipping Event. This gathering is designed to empower believers with the tools\, confidence\, and spiritual fervor needed to share the Gospel effectively in today’s world. \nExperience Spirit-Filled Training \nGet ready to be equipped and empowered to share the Gospel with confidence! Our event will provide practical training on how to effectively reach others with the message of Jesus. Whether you’re new to evangelism or have been sharing your faith for years\, this event is for you! \nJoin us for an immersive experience where you’ll: \n\nDeepen Your Understanding: Engage in teachings that illuminate the heart of evangelism\, rooted in Scripture and led by the Holy Spirit.\nActivate Spiritual Gifts: Participate in workshops that encourage the use of prophetic insight\, healing\, and discernment in outreach.\nCultivate Compassion: Learn to approach every individual with the love and empathy that reflects Jesus’ ministry.\n\nEvent Highlights: \n\nInteractive workshops\nLive demonstrations and activations\nGo out on Outreach and Share your faith\nQ&A sessions with experienced evangelists\n\nJoin the Movement \nBe a part of this divine initiative to equip the saints for the harvest. Whether you’re a seasoned evangelist or stepping out for the first time\, this event will inspire and prepare you to carry the light of Christ into every corner of the festival and beyond. \nFor more information and updates\, visit our website: www.kingdom-encounter.com \nDon’t miss this opportunity to grow in your evangelism skills and be inspired to impact your community for Christ! See you there!
URL:https://kingdomfire.us/event/kingdom-encounter-evangelism-equipping-attica-michigan-new-life-christian-church-evangelists-justin-fahrenbruch-and-tim-grisham/
LOCATION:New Life Church\, 4411 Newark Rd.\, Attica\, MI\, 48412\, United States
CATEGORIES:Evangelism Equipping
ATTACH;FMTTYPE=image/png:https://kingdomfire.us/wp-content/uploads/2025/06/CHEESEBURGER-FLYER-SERVE-FLYER-SIZE-Artboard-2.png
ORGANIZER;CN="Justin Fahrenbruch":MAILTO:Admin@Kingdomfire.us
END:VEVENT
BEGIN:VEVENT
DTSTART;TZID=UTC:20250420T103000
DTEND;TZID=UTC:20250420T120000
DTSTAMP:20260424T161149
CREATED:20250216T211949Z
LAST-MODIFIED:20250216T212749Z
UID:10000697-1745145000-1745150400@kingdomfire.us
SUMMARY:Guest Speaker for "Easter" Sunday Church Service  |  New Life Christian Church  |  Attica\, MI
DESCRIPTION:🔥🔥 Attica\, Michigan 🔥🔥 \n🐣✝️ “Easter” Resurrection Weekend ✝️🐣 \nI am beyond humbled and honored to come and share my heart on my absolute favorite subject – “Living The Resurrection Life” on GOOD FRIDAY & EASTER (RESURRECTION) SUNDAY!! \nIf you are from the thumb area of Michigan (and do not have a home church or haven’t been to church in a while) we would LOVE to see you at the New Life Christian Church this weekend! \n✝️ GOOD FRIDAY SERVICE – April 18th Potluck Dinner @ 6:00PM \n🐣 EASTER SUNDAY SERVICE – April 20th Worship begins @ 10AM \n**Justin was a drug addict for 14 years of his life. In 2018 he was radically and miraculously set free when a chain of events lead to the surrender of his life to Christ in the middle of a parking lot. Since the surrender of his life\, Justin has seen the miraculous power of God move mightily through his life and many others around him.** \nMiracles signs and wonders!!\nCome Expecting your Breakthrough! \nHallelujah – He’s Alive!\nLet’s Go!! \n“Most assuredly\, I say to you\, he who believes in Me\, the works that I do he will do also; and greater works than these he will do\, because I go to My Father.”\nJohn 14:12
URL:https://kingdomfire.us/event/guest-speaker-for-easter-sunday-church-service-new-life-christian-church-attica-mi/
LOCATION:New Life Church\, 4411 Newark Rd.\, Attica\, MI\, 48412\, United States
CATEGORIES:Guest Speaker for Church Service
ATTACH;FMTTYPE=image/jpeg:https://kingdomfire.us/wp-content/uploads/2025/02/Church-Flyer-Template-1.jpg
ORGANIZER;CN="Pastor Tim Martin":MAILTO:nlcc@newlifechristian.net
END:VEVENT
BEGIN:VEVENT
DTSTART;TZID=UTC:20250418T180000
DTEND;TZID=UTC:20250418T200000
DTSTAMP:20260424T161149
CREATED:20250216T210932Z
LAST-MODIFIED:20250216T213005Z
UID:10000696-1744999200-1745006400@kingdomfire.us
SUMMARY:Guest Speaker for "Good Friday" Church Service  |  New Life Christian Church  |  Attica\, MI
DESCRIPTION:🔥🔥 Attica\, Michigan 🔥🔥 \n🐣✝️ “Easter” Resurrection Weekend ✝️🐣 \nI am beyond humbled and honored to come and share my heart on my absolute favorite subject – “Living The Resurrection Life” on GOOD FRIDAY & EASTER (RESURRECTION) SUNDAY!! \nIf you are from the thumb area of Michigan (and do not have a home church or haven’t been to church in a while) we would LOVE to see you at the New Life Christian Church this weekend! \n✝️ GOOD FRIDAY SERVICE – April 18th Potluck Dinner @ 6:00PM \n🐣 EASTER SUNDAY SERVICE – April 20th Worship begins @ 10AM \n**Justin was a drug addict for 14 years of his life. In 2018 he was radically and miraculously set free when a chain of events lead to the surrender of his life to Christ in the middle of a parking lot. Since the surrender of his life\, Justin has seen the miraculous power of God move mightily through his life and many others around him.** \nMiracles signs and wonders!!\nCome Expecting your Breakthrough! \nHallelujah – He’s Alive!\nLet’s Go!! \n“Most assuredly\, I say to you\, he who believes in Me\, the works that I do he will do also; and greater works than these he will do\, because I go to My Father.”\nJohn 14:12
URL:https://kingdomfire.us/event/good-friday-church-service-guest-speaker-lapeer-county-michigan/
LOCATION:New Life Church\, 4411 Newark Rd.\, Attica\, MI\, 48412\, United States
CATEGORIES:Guest Speaker for Church Service
ATTACH;FMTTYPE=image/jpeg:https://kingdomfire.us/wp-content/uploads/2025/02/Church-Flyer-Template-1.jpg
ORGANIZER;CN="Pastor Tim Martin":MAILTO:nlcc@newlifechristian.net
END:VEVENT
BEGIN:VEVENT
DTSTART;TZID=UTC:20230924T100000
DTEND;TZID=UTC:20230924T120000
DTSTAMP:20260424T161149
CREATED:20230817T004528Z
LAST-MODIFIED:20230817T004528Z
UID:10000206-1695549600-1695556800@kingdomfire.us
SUMMARY:Revival Church Service | New Life Church | Attica\, MI
DESCRIPTION:ATTICA\, MICHIGAN \n\n\n\nMark your calendars! You won’t want to miss this!!\n Sunday\, September 23rd \n\n\n\n REVIVAL CHURCH SERVICE – 10:00AM \n\n\n\nCome and receive your blessing from the Lord.\n\n\n\n**Justin was a drug addict for 14 years of his life. In 2018 he was radically and miraculously set free when a chain of events lead to an encounter with Jesus Christ in the middle of a parking lot. Since the surrender of his life\, Justin has seen the miraculous power of The Holy Spirit move mightily through his life and many others around him.**\n\n\n\n Amazing Praise and Worship \n Healing and Deliverance \n Prophetic Words \n Preaching the Kingdom \n Holy Spirit Baptisms \n Fresh Fire \n\n\n\nMiracles signs and wonders!!\nCome Expecting your Breakthrough!\n\n\n\nHallelujah – He’s Alive!\nLet’s Go!
URL:https://kingdomfire.us/event/revival-church-service-new-life-church-attica-mi/
LOCATION:New Life Church\, 4411 Newark Rd.\, Attica\, MI\, 48412\, United States
CATEGORIES:Guest Speaker for Church Service,Revival Services
ATTACH;FMTTYPE=image/jpeg:https://kingdomfire.us/wp-content/uploads/2023/08/New-Life-Church-Revival-Service.jpg
ORGANIZER;CN="Pastor Tim Martin":MAILTO:nlcc@newlifechristian.net
END:VEVENT
BEGIN:VEVENT
DTSTART;TZID=UTC:20230922T180000
DTEND;TZID=UTC:20230922T203000
DTSTAMP:20260424T161149
CREATED:20230817T003211Z
LAST-MODIFIED:20230817T003211Z
UID:10000204-1695405600-1695414600@kingdomfire.us
SUMMARY:REVIVAL FIRE Weekend | Evangelism Equipping and Outreach | Lapeer County
DESCRIPTION:🚨 Friends in THE THUMB of Michigan 🚨 \nWe’re coming back! \nIt’s going UPPP again for a REVIVAL FIRE weekend with Pastor Tim Martin and New Life Church in Attica\, Michigan! \nOn Friday\, September 22nd – We’ll be holding an Evangelism Equipping Service at New Life Church – 6:00PM. \nPastor Dion Lewellen from Flint Driven Church will be joining as we tag team a FIRE-FILLED session on different types of Evangelism! \nJustin will be sharing on POWER EVANGELISM –  How to heal the sick and help people that are oppressed\,  SETTING THE CAPTIVES FREE is one of the BEST forms of Evangelism there is! \nPastor Dion will be sharing on STREET EVANGELISM – How to reach people where their at\, leading people to Christ and sharing his heart on over 4 years of hosting Street Evangelism Outreaches with Flint Driven Church! \n  \nOn Saturday\, September 23rd – We’ll be putting into practice what we learned and hitting the streets in Lapeer at CRAMTON PARK!  Flint Driven Church will be joining in as we FAN THE REVIVAL FLAME FOR OUTREACH IN THE THUMB!! \n  \n\nMultiple Ministries\, Multiple Churches\, Many People…\nONE COMMON DENOMINATOR = SOULS!\n\n\nIt’s a KINGDOM thing!\n\n\n\n Pull Over 4 Prayer \n Praise and Worship in the Park \n Free Food for the Community \n Praying for our City \n Being the Light \n\n\n\nLocation:\nCRAMTON PARK\n130 S. Monroe St.\nLapeer\, MI 48446\n\n\n\nThen on Sunday Morning – Revival Service – September 24th –  Beginning @ 10:00AM\n\nLocation\nNew Life Church\n4411 Newark Rd.\nAttica\, MI 48412\n\nJustin will be bringing the heat\, sharing his testimony and sharing the KINGDOM FIRE!!  You won’t want to miss it!\n\n\n\n\n**A drug addict for 14 years of his life.  In 2018 Justin was radically and miraculously set free when a chain of events lead to the surrender of his life to Christ in the middle of a parking lot. Since the surrender of his life\, Justin has seen the miraculous power of God move mightily through his life and many others around him.**\n\n\n\nHealing Services \nProphetic Words \nPreaching the Kingdom \nFresh Revival Fire\n\n\n\nMiracles signs and wonders!!\nCome Expecting your Breakthrough!\n\n\n\nHallelujah – He’s Alive!\nLet’s Go!!\n\n\n\n“And they went out and preached everywhere\, the Lord working with them and confirming the word through the accompanying signs. Amen.”\nMark 16:20
URL:https://kingdomfire.us/event/revival-fire-weekend-evangelism-equipping-and-outreach-lapeer-county/
LOCATION:New Life Church\, 4411 Newark Rd.\, Attica\, MI\, 48412\, United States
CATEGORIES:Evangelism Equipping
ATTACH;FMTTYPE=image/jpeg:https://kingdomfire.us/wp-content/uploads/2023/08/Attica-Weekend-Revival.jpg
ORGANIZER;CN="Kingdom Fire Ministries":MAILTO:Admin@Kingdomfire.us
END:VEVENT
BEGIN:VEVENT
DTSTART;TZID=UTC:20230825T190000
DTEND;TZID=UTC:20230825T203000
DTSTAMP:20260424T161149
CREATED:20230818T172104Z
LAST-MODIFIED:20230818T172104Z
UID:10000212-1692990000-1692995400@kingdomfire.us
SUMMARY:Ignite The Thumb | Attica\, MI | New Life Church
DESCRIPTION:Headed back out to our friends at New Life Church in Attica\, Michigan as they host this month’s Praise Rally!!\n\n\n\nPraise Rallies are powerful warfare\, as more churches and leaders come together to fulfill Jesus’ prophecy:’\n\n\n\nJohn 17:20-21\n“I do not pray for these alone\, but also for those who will believe in Me through their word; that they all may be one\, as You\, Father\, are in Me\, and I in You; that they also may be one in Us\, that the world may believe that You sent Me.”\n\n\n\nCome on out\, support and what the Lord is doing in the Thumb of Michigan!\n\n\n\n#UNITE\n#IGNITE\n#THETHUMB\n\n\n\nLet’s Get our Praise on!
URL:https://kingdomfire.us/event/ignite-the-thumb-attica-mi-new-life-church/
LOCATION:New Life Church\, 4411 Newark Rd.\, Attica\, MI\, 48412\, United States
ATTACH;FMTTYPE=image/jpeg:https://kingdomfire.us/wp-content/uploads/2023/08/fire-545374_1280.jpg
END:VEVENT
END:VCALENDAR