BEGIN:VCALENDAR
VERSION:2.0
PRODID:-//Kingdom Fire - ECPv6.15.20//NONSGML v1.0//EN
CALSCALE:GREGORIAN
METHOD:PUBLISH
X-ORIGINAL-URL:https://kingdomfire.us
X-WR-CALDESC:Events for Kingdom Fire
REFRESH-INTERVAL;VALUE=DURATION:PT1H
X-Robots-Tag:noindex
X-PUBLISHED-TTL:PT1H
BEGIN:VTIMEZONE
TZID:UTC
BEGIN:STANDARD
TZOFFSETFROM:+0000
TZOFFSETTO:+0000
TZNAME:UTC
DTSTART:20210101T000000
END:STANDARD
END:VTIMEZONE
BEGIN:VEVENT
DTSTART;TZID=UTC:20220619T100000
DTEND;TZID=UTC:20220619T120000
DTSTAMP:20260424T124902
CREATED:20220524T191913Z
LAST-MODIFIED:20220524T191913Z
UID:10000125-1655632800-1655640000@kingdomfire.us
SUMMARY:Preaching at Word of Truth Church - Plymouth\, Indiana
DESCRIPTION:Evangelist Justin Fahrenbruch will be sharing his heart and preaching the Gospel of the Kingdom in Northern Indiana! \n\n**Justin was a drug addict for 14 years of his life. In 2018 he was radically and miraculously set free when a chain of events lead to the surrender of his life to Christ in the middle of a parking lot. Since the surrender of his life\, Justin has seen the miraculous power of God move mightily through his life and many others around him.**\n\n\n\nHealing Services \nProphetic Words \nFresh Fire\nPreaching the Kingdom \n\n\n\nMiracles signs and wonders!!\nCome Expecting your Breakthrough!\n\n\n“And this gospel of the KINGDOM will be preached in all the world as a witness to all the nations\, and then the end will come.” \n\nMatthew 24:14\n\n\n\n“…He will baptize you with the Holy Spirit and fire.”\nMatthew 3:11b
URL:https://kingdomfire.us/event/preaching-at-word-of-truth-church-plymouth-indiana/
LOCATION:LifePlex Center\, 2855 Miller Dr.\, Plymouth\, IN\, 48653\, United States
END:VEVENT
END:VCALENDAR