BEGIN:VCALENDAR
VERSION:2.0
PRODID:-//Kingdom Fire - ECPv6.15.20//NONSGML v1.0//EN
CALSCALE:GREGORIAN
METHOD:PUBLISH
X-ORIGINAL-URL:https://kingdomfire.us
X-WR-CALDESC:Events for Kingdom Fire
REFRESH-INTERVAL;VALUE=DURATION:PT1H
X-Robots-Tag:noindex
X-PUBLISHED-TTL:PT1H
BEGIN:VTIMEZONE
TZID:UTC
BEGIN:STANDARD
TZOFFSETFROM:+0000
TZOFFSETTO:+0000
TZNAME:UTC
DTSTART:20210101T000000
END:STANDARD
END:VTIMEZONE
BEGIN:VEVENT
DTSTART;TZID=UTC:20231119T090000
DTEND;TZID=UTC:20231119T103000
DTSTAMP:20260424T003722
CREATED:20231024T200803Z
LAST-MODIFIED:20231024T200803Z
UID:10000222-1700384400-1700389800@kingdomfire.us
SUMMARY:Guest Speaker | Les Cheneaux Christian Fellowship - Cedarville\, MI | "Baptism of the Holy Spirit"
DESCRIPTION:UPPER PENINSULA\, MICHIGAN \n\n\n\nIf you are from the Upper Peninsula (and do not have a home church or haven’t been to church in a while) we would LOVE to see you at Les Cheneaux Christian Fellowship – Cedarville\, Michigan – Sunday\, November 19th!\n\n\n\nJustin will be speaking on the “Baptism of the Holy Spirit”\n\n\n\n\n\n\n**Drug addict for 14 years of his life. In 2018 Justin was radically and miraculously set free when a chain of events lead to an encounter with Jesus Christ in the middle of a parking lot.  Since the surrender of his life\, Justin has seen the miraculous power of The Holy Spirit move mightily through his life and many others around him.**\n\n\n\n\n\nIt’s time to change the world!\nLet’s Go!!\n\n\n\n\n\n\n\n\n\n“But you shall receive power when the Holy Spirit has come upon you; and you shall be witnesses to Me in Jerusalem\, and in all Judea and Samaria\, and to the end of the earth.”\n Acts 1:8\n\n\n\n“Most assuredly\, I say to you\, he who believes in Me\, the works that I do he will do also; and greater works than these he will do\, because I go to My Father.”\n John 14:12\n\n\n\n“I indeed baptize you with water unto repentance\, but He who is coming after me is mightier than I\, whose sandals I am not worthy to carry. He will baptize you with the Holy Spirit and fire.”\n Matthew 3:11
URL:https://kingdomfire.us/event/guest-speaker-les-cheneaux-christian-fellowship-cedarville-mi-baptism-of-the-holy-spirit/
LOCATION:Les Cheneaux Christian Fellowship\, 202 N Blindline Rd.\, Cedarville\, Michigan\, 49719
CATEGORIES:Guest Speaker for Church Service
ATTACH;FMTTYPE=image/jpeg:https://kingdomfire.us/wp-content/uploads/2023/10/CHURCH-MENS-SEMINAR-CONFERENCE-EVENT-1.jpg
END:VEVENT
BEGIN:VEVENT
DTSTART;TZID=UTC:20230507T093000
DTEND;TZID=UTC:20230507T103000
DTSTAMP:20260424T003722
CREATED:20230405T212128Z
LAST-MODIFIED:20230426T031215Z
UID:10000162-1683451800-1683455400@kingdomfire.us
SUMMARY:Guest Speaker | Les Cheneaux Christian Fellowship | Les Cheneaux\, Michigan
DESCRIPTION:UPPER PENINSULA\, MICHIGAN \n\n\n\nIf you are from the U.P. (and do not have a home church or haven’t been to church in a while) we would LOVE to see you at Soo Christian Fellowship Church Sault Ste. Marie\, Michigan – Sunday\, May 7th!\n\n\n\nJustin will be speaking on “Kingdom Infiltration” | Kingdom Evangelism\n\n\n\n**Drug addict for 14 years of his life. In 2018 Justin was radically and miraculously set free when a chain of events lead to an encounter with Jesus Christ in the middle of a parking lot.  Since the surrender of his life\, Justin has seen the miraculous power of The Holy Spirit move mightily through his life and many others around him.**\n\n\n\n\n\nIt’s time to change the world!\nLet’s Go!!\n\n\n\n\n\n\n“Thy kingdom come\, Thy will be done in earth\, as it is in heaven.”\n Matthew 6:10\n\n\n\n“And he said unto them\, Go ye into all the world\, and preach the gospel to every creature.”\n Mark 16:15\n\n\n\n“And this gospel of the kingdom shall be preached in all the world for a witness unto all nations; and then shall the end come.”\n Matthew 24:14\n\n\n\n“…he shall baptize you with the Holy Ghost\, and with fire.”\n Matthew 3:11
URL:https://kingdomfire.us/event/220536/
LOCATION:Les Cheneaux Christian Fellowship\, 202 N Blindline Rd.\, Cedarville\, Michigan\, 49719
CATEGORIES:Guest Speaker for Church Service
ATTACH;FMTTYPE=image/jpeg:https://kingdomfire.us/wp-content/uploads/2023/04/CHURCH-MENS-SEMINAR-CONFERENCE-EVENT.jpg
END:VEVENT
BEGIN:VEVENT
DTSTART;TZID=UTC:20220703T090000
DTEND;TZID=UTC:20220703T104500
DTSTAMP:20260424T003722
CREATED:20220524T214912Z
LAST-MODIFIED:20220622T210249Z
UID:10000127-1656838800-1656845100@kingdomfire.us
SUMMARY:Preaching at Les Cheneaux Christian Fellowship - Cedarville\, Michigan
DESCRIPTION:**Justin was a drug addict for 14 years of his life. In 2018 he was radically and miraculously set free when a chain of events lead to the surrender of his life to Christ in the middle of a parking lot. Since the surrender of his life\, Justin has seen the miraculous power of God move mightily through his life and many others around him.**\n\n\n\nHealing Services \nProphetic Words \nFresh Fire\nPreaching the Kingdom \n\n\n\nMiracles signs and wonders!!\nCome Expecting your Breakthrough!
URL:https://kingdomfire.us/event/preaching-at-les-cheneaux-christian-fellowship-cedarville-michigan/
LOCATION:Les Cheneaux Christian Fellowship\, 202 N Blindline Rd.\, Cedarville\, Michigan\, 49719
CATEGORIES:Guest Speaker for Church Service
ATTACH;FMTTYPE=image/jpeg:https://kingdomfire.us/wp-content/uploads/2022/05/Kingdom-Fire_About-Us_2_1600x1000.jpg
END:VEVENT
BEGIN:VEVENT
DTSTART;TZID=UTC:20220130T090000
DTEND;TZID=UTC:20220130T223000
DTSTAMP:20260424T003722
CREATED:20220121T001902Z
LAST-MODIFIED:20220121T002551Z
UID:10000113-1643533200-1643581800@kingdomfire.us
SUMMARY:Preaching in Cedarville\, Michigan!
DESCRIPTION:Justin has been invited by Pastor Scout Hester to share his heart at Les Cheneaux Christian Fellowship in Cedarville\, Michigan.
URL:https://kingdomfire.us/event/preaching-in-cedarville-michigan/
LOCATION:Les Cheneaux Christian Fellowship\, 202 N Blindline Rd.\, Cedarville\, Michigan\, 49719
END:VEVENT
END:VCALENDAR