BEGIN:VCALENDAR
VERSION:2.0
PRODID:-//Kingdom Fire - ECPv6.15.20//NONSGML v1.0//EN
CALSCALE:GREGORIAN
METHOD:PUBLISH
X-ORIGINAL-URL:https://kingdomfire.us
X-WR-CALDESC:Events for Kingdom Fire
REFRESH-INTERVAL;VALUE=DURATION:PT1H
X-Robots-Tag:noindex
X-PUBLISHED-TTL:PT1H
BEGIN:VTIMEZONE
TZID:UTC
BEGIN:STANDARD
TZOFFSETFROM:+0000
TZOFFSETTO:+0000
TZNAME:UTC
DTSTART:20240101T000000
END:STANDARD
END:VTIMEZONE
BEGIN:VEVENT
DTSTART;TZID=UTC:20250223T080000
DTEND;TZID=UTC:20250223T150000
DTSTAMP:20260424T024801
CREATED:20250105T015508Z
LAST-MODIFIED:20250105T015508Z
UID:10000678-1740297600-1740322800@kingdomfire.us
SUMMARY:Michigan Men's Encounter Retreat | Imlay City\, Michigan
DESCRIPTION:Encounter Ministry exists to facilitate & encourage ENCOUNTERS with God that AWAKEN people to walk in AUTHENTIC relationship with Jesus Christ. \n\n\n Men’s Encounter: Michigan | February 2025 \n\n\n\nMy wife was blessed to be able go to a 3-day women’s retreat called “Women’s Encounter”.  She didn’t know what to expect… but just came expecting God to show up.\n\n\n\nSince that time\, she’s been ecstatic talking about how AWESOME of a time she had at this “Encounter”! She won’t to tell me details about the time she had because she said… “I had to experience it for myself”.\n\n\n\nWell\, I went for it\, fully expecting and believing to have an “Encounter” of my own and that’s exactly what happened!  \n\n\n\n  As men\, we are called to seek God first. “The Encounter” is 3 days of intense Spirit-led learning and testimonies by men from all walks of life. Every Encounter Weekend is a unique and individual experience where men have an opportunity to discover what happened at the Cross\, and how their lives can be changed forever because of God’s infinite grace.  \n\n\n\nThere are still some open spots available for any MEN who would like to join in on this “Encounter Experience”. I would love to lock arms with you and have you join us on this amazing weekend!!\n\n\n\n\nNo matter your past or present circumstances\, everything can change in a matter of 48 hours. Come encounter the living God through 3 days and 2 nights of intense heart transformation like you’ve never felt experienced before.  Encounter creates a culture that invites everybody to get real about life’s struggles and turn to Jesus as the one and only hope for healing\, deliverance and salvation. Encounter is a multi-denominational weekend where the focus is placed on love\, forgiveness & freedom in Christ rather than the denominational issues that divide us. We keep the main thing\, the main thing\, and His name is Jesus! \n\n\n\n\n\n\nIf you have additional questions\, please let me know. The link to registration will be in the Description \n\n\nFebruary 21st\, 22nd and 23rd – 2025\n\n\nSee you there!!
URL:https://kingdomfire.us/event/michigan-mens-encounter-retreat-imlay-city-michigan-2/
LOCATION:Imlay City Christian Church\, 395 N. Cedar St.\, Imlay City\, MI\, 48444\, United States
CATEGORIES:Guest Speaker for Special Event
ATTACH;FMTTYPE=image/jpeg:https://kingdomfire.us/wp-content/uploads/2023/12/329344481_1157405331495141_1259914279099343960_n.jpg
END:VEVENT
BEGIN:VEVENT
DTSTART;TZID=UTC:20250221T150000
DTEND;TZID=UTC:20250221T220000
DTSTAMP:20260424T024801
CREATED:20250105T014757Z
LAST-MODIFIED:20250105T015036Z
UID:10000676-1740150000-1740175200@kingdomfire.us
SUMMARY:Michigan Men's Encounter Retreat | Imlay City\, Michigan
DESCRIPTION:Encounter Ministry exists to facilitate & encourage ENCOUNTERS with God that AWAKEN people to walk in AUTHENTIC relationship with Jesus Christ. \n\n\n Men’s Encounter: Michigan | February 2025 \n\n\n\nMy wife was blessed to be able go to a 3-day women’s retreat called “Women’s Encounter”.  She didn’t know what to expect… but just came expecting God to show up.\n\n\n\nSince that time\, she’s been ecstatic talking about how AWESOME of a time she had at this “Encounter”! She won’t to tell me details about the time she had because she said… “I had to experience it for myself”.\n\n\n\nWell\, I went for it\, fully expecting and believing to have an “Encounter” of my own and that’s exactly what happened!  \n\n\n\n  As men\, we are called to seek God first. “The Encounter” is 3 days of intense Spirit-led learning and testimonies by men from all walks of life. Every Encounter Weekend is a unique and individual experience where men have an opportunity to discover what happened at the Cross\, and how their lives can be changed forever because of God’s infinite grace.  \n\n\n\nThere are still some open spots available for any MEN who would like to join in on this “Encounter Experience”. I would love to lock arms with you and have you join us on this amazing weekend!!\n\n\n\n\nNo matter your past or present circumstances\, everything can change in a matter of 48 hours. Come encounter the living God through 3 days and 2 nights of intense heart transformation like you’ve never felt experienced before.  Encounter creates a culture that invites everybody to get real about life’s struggles and turn to Jesus as the one and only hope for healing\, deliverance and salvation. Encounter is a multi-denominational weekend where the focus is placed on love\, forgiveness & freedom in Christ rather than the denominational issues that divide us. We keep the main thing\, the main thing\, and His name is Jesus! \n\n\n\n\n\n\nIf you have additional questions\, please let me know. The link to registration will be in the Description \n\n\nFebruary 21st\, 22nd and 23rd – 2025\n\n\nSee you there!!
URL:https://kingdomfire.us/event/mens-encounter-weekend/
LOCATION:Imlay City Christian Church\, 395 N. Cedar St.\, Imlay City\, MI\, 48444\, United States
CATEGORIES:Guest Speaker for Special Event
ATTACH;FMTTYPE=image/jpeg:https://kingdomfire.us/wp-content/uploads/2023/12/329344481_1157405331495141_1259914279099343960_n.jpg
END:VEVENT
END:VCALENDAR