BEGIN:VCALENDAR
VERSION:2.0
PRODID:-//Kingdom Fire - ECPv6.15.20//NONSGML v1.0//EN
CALSCALE:GREGORIAN
METHOD:PUBLISH
X-WR-CALNAME:Kingdom Fire
X-ORIGINAL-URL:https://kingdomfire.us
X-WR-CALDESC:Events for Kingdom Fire
REFRESH-INTERVAL;VALUE=DURATION:PT1H
X-Robots-Tag:noindex
X-PUBLISHED-TTL:PT1H
BEGIN:VTIMEZONE
TZID:UTC
BEGIN:STANDARD
TZOFFSETFROM:+0000
TZOFFSETTO:+0000
TZNAME:UTC
DTSTART:20210101T000000
END:STANDARD
END:VTIMEZONE
BEGIN:VEVENT
DTSTART;TZID=UTC:20220206T110000
DTEND;TZID=UTC:20220206T130000
DTSTAMP:20260424T112214
CREATED:20220121T003719Z
LAST-MODIFIED:20220121T003719Z
UID:10000115-1644145200-1644152400@kingdomfire.us
SUMMARY:Preaching in Saginaw\, Michigan!
DESCRIPTION:Justin has been invited by Pastor James Snead\, of Greater Love Ministries\, to come share his heart at church service!
URL:https://kingdomfire.us/event/preaching-in-saginaw-michigan/
LOCATION:Greater Love Ministries Church\, 3829 Lamson\, Saginaw\, MI\, Saginaw\, MI\, 48602\, United States
END:VEVENT
END:VCALENDAR