BEGIN:VCALENDAR
VERSION:2.0
PRODID:-//Kingdom Fire - ECPv6.15.20//NONSGML v1.0//EN
CALSCALE:GREGORIAN
METHOD:PUBLISH
X-WR-CALNAME:Kingdom Fire
X-ORIGINAL-URL:https://kingdomfire.us
X-WR-CALDESC:Events for Kingdom Fire
REFRESH-INTERVAL;VALUE=DURATION:PT1H
X-Robots-Tag:noindex
X-PUBLISHED-TTL:PT1H
BEGIN:VTIMEZONE
TZID:UTC
BEGIN:STANDARD
TZOFFSETFROM:+0000
TZOFFSETTO:+0000
TZNAME:UTC
DTSTART:20210101T000000
END:STANDARD
END:VTIMEZONE
BEGIN:VEVENT
DTSTART;TZID=UTC:20221120T120000
DTEND;TZID=UTC:20221120T140000
DTSTAMP:20260424T051054
CREATED:20221115T192619Z
LAST-MODIFIED:20221115T192646Z
UID:10000147-1668945600-1668952800@kingdomfire.us
SUMMARY:Flint Driven Church
DESCRIPTION:This will be Justin’s first time sharing his heart and preaching the Word at a Church in Flint\, Michigan! \nIt’s very fitting that he would share with our Kingdom Family – Flint Driven \nCome on out and join us! \n  \nWorship begins at 12:00
URL:https://kingdomfire.us/event/flint-driven-church/
LOCATION:Flint Driven Church\, 2901 Brown St.\, Flint\, MI\, 48503\, United States
CATEGORIES:Guest Speaker for Church Service
ATTACH;FMTTYPE=image/jpeg:https://kingdomfire.us/wp-content/uploads/2022/11/Church-Communion-Service-Template-1.jpg
END:VEVENT
END:VCALENDAR