BEGIN:VCALENDAR
VERSION:2.0
PRODID:-//Kingdom Fire - ECPv6.15.20//NONSGML v1.0//EN
CALSCALE:GREGORIAN
METHOD:PUBLISH
X-ORIGINAL-URL:https://kingdomfire.us
X-WR-CALDESC:Events for Kingdom Fire
REFRESH-INTERVAL;VALUE=DURATION:PT1H
X-Robots-Tag:noindex
X-PUBLISHED-TTL:PT1H
BEGIN:VTIMEZONE
TZID:UTC
BEGIN:STANDARD
TZOFFSETFROM:+0000
TZOFFSETTO:+0000
TZNAME:UTC
DTSTART:20220101T000000
END:STANDARD
END:VTIMEZONE
BEGIN:VEVENT
DTSTART;TZID=UTC:20240210T080000
DTEND;TZID=UTC:20240210T163000
DTSTAMP:20260424T075925
CREATED:20231214T232801Z
LAST-MODIFIED:20231214T232801Z
UID:10000228-1707552000-1707582600@kingdomfire.us
SUMMARY:"Get in the Game" Men's Conference | Breakout Speaker: Justin Fahrenbruch | Port Huron\, Michigan
DESCRIPTION:This conference is an excellent opportunity to socialize and build lasting relationships with other Christian men and just have a lot of fun! \n\n\n\nEVENT INFO:\n\nTickets – $29\nDoors Open at 8a\nConference Runs 8:30a – 4p\nTwo Keynote Speakers\nChoose From 12 Breakout Sessions\nWorship Experience\nLunch & Snacks Included\nAwesome Prizes\n\n\nJustin Fahrenbruch will be speaking as a “BreakOut Speaker” on behalf of the Michigan Men’s Encounter group! \nTopic of discussion:  Purpose\, Potential and Destiny
URL:https://kingdomfire.us/event/get-in-the-game-mens-conference-breakout-speaker-justin-fahrenbruch-port-huron-michigan/
LOCATION:Colonial Woods Missionary Church\, 3240 Pine Grove Ave.\, Port Huron\, MI\, 48060\, United States
CATEGORIES:Guest Speaker for Special Event
ATTACH;FMTTYPE=image/jpeg:https://kingdomfire.us/wp-content/uploads/2023/12/GITG24.jpg
END:VEVENT
BEGIN:VEVENT
DTSTART;TZID=UTC:20230211T083000
DTEND;TZID=UTC:20230211T160000
DTSTAMP:20260424T075925
CREATED:20230119T201007Z
LAST-MODIFIED:20230119T201007Z
UID:10000157-1676104200-1676131200@kingdomfire.us
SUMMARY:"Get in the Game" - Men's Conference
DESCRIPTION:This conference is an excellent opportunity to socialize and build lasting relationships with other Christian men and just have a lot of fun! \n\n\n\nEVENT INFO:\n\nTickets – $29\nDoors Open at 8a\nConference Runs 8:30a – 4p\nTwo Keynote Speakers\nChoose From 12 Breakout Sessions\nWorship Experience\nLunch & Snacks Included\nAwesome Prizes\n\n\nJustin Fahrenbruch will be speaking as a “BreakOut Speaker” on behalf of the Michigan Men’s Encounter group! \nTopic of discussion:  Purpose\, Potential and Destiny
URL:https://kingdomfire.us/event/get-in-the-game-mens-conference/
LOCATION:Colonial Woods Missionary Church\, 3240 Pine Grove Ave.\, Port Huron\, MI\, 48060\, United States
CATEGORIES:Guest Speaker at Conference
ATTACH;FMTTYPE=image/jpeg:https://kingdomfire.us/wp-content/uploads/2023/01/Get-in-the-game-logo.jpg
END:VEVENT
END:VCALENDAR