BEGIN:VCALENDAR
VERSION:2.0
PRODID:-//Kingdom Fire - ECPv6.15.20//NONSGML v1.0//EN
CALSCALE:GREGORIAN
METHOD:PUBLISH
X-ORIGINAL-URL:https://kingdomfire.us
X-WR-CALDESC:Events for Kingdom Fire
REFRESH-INTERVAL;VALUE=DURATION:PT1H
X-Robots-Tag:noindex
X-PUBLISHED-TTL:PT1H
BEGIN:VTIMEZONE
TZID:UTC
BEGIN:STANDARD
TZOFFSETFROM:+0000
TZOFFSETTO:+0000
TZNAME:UTC
DTSTART:20220101T000000
END:STANDARD
END:VTIMEZONE
BEGIN:VEVENT
DTSTART;TZID=UTC:20230618T103000
DTEND;TZID=UTC:20230618T123000
DTSTAMP:20260424T051636
CREATED:20230426T025757Z
LAST-MODIFIED:20230426T030637Z
UID:10000174-1687084200-1687091400@kingdomfire.us
SUMMARY:Guest Speaker | BC Missionary Church | Brown City\, MI
DESCRIPTION:If you are from the thumb area of Michigan (and do not have a home church or haven’t been to church in a while) we would LOVE to see you at Brown City Missionary Church – Brown City\, Michigan on June 18th!!\n\n\nGuest Speaker:\nEvangelist Justin Fahrenbruch\n\n\n\n\n**Justin was a drug addict for 14 years of his life. In 2018 he was radically and miraculously set free when a chain of events lead to the surrender of his life to Christ in the middle of a parking lot. Since the surrender of his life\, Justin has seen the miraculous power of God move mightily through his life and many others around him.**\n\n\nSharing his testimony and helpful tools to equip the body of Christ for Evangelism – It’s time to get outside the 4 walls and share our faith with the world! \nPreaching the Kingdom \nFresh Revival Fire\n✝️ Equipping the Saints for the work of ministry ✝️\n\nIt’s time to change the world!\nLet’s Go!!\n\nMatthew 28:18-20 \nAnd Jesus came and spoke to them\, saying\, “All authority has been given to Me in heaven and on earth. Go therefore and make disciples of all the nations\, baptizing them in the name of the Father and of the Son and of the Holy Spirit\, teaching them to observe all things that I have commanded you; and lo\, I am with you always\, even to the end of the age.” Amen.
URL:https://kingdomfire.us/event/guest-speaker-bc-missionary-church-brown-city-mi/
LOCATION:Brown City Missionary Church\, 8935 E Burnside Rd.\, Brown City\, 48416\, United States
CATEGORIES:Guest Speaker for Church Service
ATTACH;FMTTYPE=image/jpeg:https://kingdomfire.us/wp-content/uploads/2023/04/Brown-City-Missionary-Church-scaled.jpg
END:VEVENT
END:VCALENDAR