BEGIN:VCALENDAR
VERSION:2.0
PRODID:-//Kingdom Fire - ECPv6.15.20//NONSGML v1.0//EN
CALSCALE:GREGORIAN
METHOD:PUBLISH
X-WR-CALNAME:Kingdom Fire
X-ORIGINAL-URL:https://kingdomfire.us
X-WR-CALDESC:Events for Kingdom Fire
REFRESH-INTERVAL;VALUE=DURATION:PT1H
X-Robots-Tag:noindex
X-PUBLISHED-TTL:PT1H
BEGIN:VTIMEZONE
TZID:UTC
BEGIN:STANDARD
TZOFFSETFROM:+0000
TZOFFSETTO:+0000
TZNAME:UTC
DTSTART:20240101T000000
END:STANDARD
END:VTIMEZONE
BEGIN:VEVENT
DTSTART;TZID=UTC:20250228T180000
DTEND;TZID=UTC:20250228T200000
DTSTAMP:20260424T052007
CREATED:20250105T022518Z
LAST-MODIFIED:20250105T022518Z
UID:10000681-1740765600-1740772800@kingdomfire.us
SUMMARY:Evangelism Outreach in Aspen Creek  |  Chesterfield\, MI
DESCRIPTION:Outreach in Aspen Creek\, Chesterfield\, MI\n\n\n\n** Friday – February 28TH **\n  Times to be determined!  \n\n\n\nOur good friends at Faith Christian Center are hosting an amazing opportunity to have fun with the whole family!\n\n\n\nLocation:\nAspen Creek\n\n\n\n\n\n\n** MORE INFO TO BE DETERMINED **
URL:https://kingdomfire.us/event/evangelism-outreach-in-aspen-creek-chesterfield-mi/
LOCATION:Aspen Creek Pavilion
CATEGORIES:Evangelism Outreach
ATTACH;FMTTYPE=image/jpeg:https://kingdomfire.us/wp-content/uploads/2024/02/368288247_1046746116494919_8029293573373254826_n.jpg
END:VEVENT
END:VCALENDAR