BEGIN:VCALENDAR
VERSION:2.0
PRODID:-//Kingdom Fire - ECPv6.15.20//NONSGML v1.0//EN
CALSCALE:GREGORIAN
METHOD:PUBLISH
X-ORIGINAL-URL:https://kingdomfire.us
X-WR-CALDESC:Events for Kingdom Fire
REFRESH-INTERVAL;VALUE=DURATION:PT1H
X-Robots-Tag:noindex
X-PUBLISHED-TTL:PT1H
BEGIN:VTIMEZONE
TZID:UTC
BEGIN:STANDARD
TZOFFSETFROM:+0000
TZOFFSETTO:+0000
TZNAME:UTC
DTSTART:20220101T000000
END:STANDARD
END:VTIMEZONE
BEGIN:VEVENT
DTSTART;TZID=UTC:20231031T180000
DTEND;TZID=UTC:20231031T200000
DTSTAMP:20260425T114654
CREATED:20231024T191039Z
LAST-MODIFIED:20231024T191400Z
UID:10000218-1698775200-1698782400@kingdomfire.us
SUMMARY:"Rock The Block" Evangelism Outreach on Halloween! |  Macomb County\, MI
DESCRIPTION:Our Good Friends\, Pastor Joe and Kerri Kilcoyne at Faith Christian Center will be hosting an opportunity for you to join us on an Evangelism Outreach Crusade on the “Scariest Night of the Year” —  We will be brining the LIGHT into the DARKNESS and sharing the LOVE OF CHRIST with this community!! \nEvangelist Stacy and Felix Bonet and their ministry –  Faith Worth Following – will be bringing their Crusade Tent and Tools to equip the body to share their faith with this community!!  It’s time to get outside the 4-walls and bring JESUS to the PEOPLE! \nCome join in on the fun in NEW HAVEN\, MICHIGAN!! \nFREE – FAMILY – FUN \nWe will have games for the kids and candy. \nThere will be live music with prayer. \nYou don’t want to miss the food along with donuts and cider. \nThere will also be raffles and give-aways… INCLUDING an IPAD\, PS5\, GIFT CARDS and SO MUCH MORE!! \n  \nEverything it COMPLETELY FREE!  Bring your Family out for some fun! \nSee you there!
URL:https://kingdomfire.us/event/rock-the-block-evangelism-outreach-on-halloween-macomb-county-mi/
LOCATION:Amherst Subdivision\, E. Cranston St.\, New Haven\, MI\, 48048\, United States
CATEGORIES:Evangelism Outreach
ATTACH;FMTTYPE=image/jpeg:https://kingdomfire.us/wp-content/uploads/2023/10/378216864_700635428770865_6303099061970279333_n-1.jpg
END:VEVENT
END:VCALENDAR