BEGIN:VCALENDAR
VERSION:2.0
PRODID:-//Kingdom Fire - ECPv6.15.20//NONSGML v1.0//EN
CALSCALE:GREGORIAN
METHOD:PUBLISH
X-ORIGINAL-URL:https://kingdomfire.us
X-WR-CALDESC:Events for Kingdom Fire
REFRESH-INTERVAL;VALUE=DURATION:PT1H
X-Robots-Tag:noindex
X-PUBLISHED-TTL:PT1H
BEGIN:VTIMEZONE
TZID:UTC
BEGIN:STANDARD
TZOFFSETFROM:+0000
TZOFFSETTO:+0000
TZNAME:UTC
DTSTART:20210101T000000
END:STANDARD
END:VTIMEZONE
BEGIN:VEVENT
DTSTART;TZID=UTC:20221210T170000
DTEND;TZID=UTC:20221211T170000
DTSTAMP:20260424T223858
CREATED:20221116T200437Z
LAST-MODIFIED:20221116T200437Z
UID:10000151-1670691600-1670778000@kingdomfire.us
SUMMARY:Michigan Men's Encounter - "Server Refresh and Renew"
DESCRIPTION:Paul encourages us in Galatians 6:9 not to grow weary in doing good.  Being a server at Men’s Encounter is certainly rewarding\, but can also be exhausting.  Come to relax\, refill and be renewed as we spend time in fellowship\, breaking bread and increasing our bond of unity. \n  \nBring a bedroll and belongings to stay overnight or your RV or Camping Trailer.  We will share 3 meals together and be encouraged by two guest speakers: \n  \nJustin Fahrenbruch and Loren Siffring
URL:https://kingdomfire.us/event/michigan-mens-encounter-server-refresh-and-renew/2022-12-10/
LOCATION:Abbotts\, 5011 Mayville Rd\, Silverwood\, MI\, 48760\, United States
CATEGORIES:Guest Speaker at Conference
END:VEVENT
BEGIN:VEVENT
DTSTART;TZID=UTC:20221209T170000
DTEND;TZID=UTC:20221210T170000
DTSTAMP:20260424T223858
CREATED:20221116T200437Z
LAST-MODIFIED:20221116T200437Z
UID:10000150-1670605200-1670691600@kingdomfire.us
SUMMARY:Michigan Men's Encounter - "Server Refresh and Renew"
DESCRIPTION:Paul encourages us in Galatians 6:9 not to grow weary in doing good.  Being a server at Men’s Encounter is certainly rewarding\, but can also be exhausting.  Come to relax\, refill and be renewed as we spend time in fellowship\, breaking bread and increasing our bond of unity. \n  \nBring a bedroll and belongings to stay overnight or your RV or Camping Trailer.  We will share 3 meals together and be encouraged by two guest speakers: \n  \nJustin Fahrenbruch and Loren Siffring
URL:https://kingdomfire.us/event/michigan-mens-encounter-server-refresh-and-renew/2022-12-09/
LOCATION:Abbotts\, 5011 Mayville Rd\, Silverwood\, MI\, 48760\, United States
CATEGORIES:Guest Speaker at Conference
END:VEVENT
END:VCALENDAR