BEGIN:VCALENDAR
VERSION:2.0
PRODID:-//Kingdom Fire - ECPv6.15.20//NONSGML v1.0//EN
CALSCALE:GREGORIAN
METHOD:PUBLISH
X-WR-CALNAME:Kingdom Fire
X-ORIGINAL-URL:https://kingdomfire.us
X-WR-CALDESC:Events for Kingdom Fire
REFRESH-INTERVAL;VALUE=DURATION:PT1H
X-Robots-Tag:noindex
X-PUBLISHED-TTL:PT1H
BEGIN:VTIMEZONE
TZID:UTC
BEGIN:STANDARD
TZOFFSETFROM:+0000
TZOFFSETTO:+0000
TZNAME:UTC
DTSTART:20210101T000000
END:STANDARD
END:VTIMEZONE
BEGIN:VEVENT
DTSTART;TZID=UTC:20220827T130000
DTEND;TZID=UTC:20220827T190000
DTSTAMP:20260424T115743
CREATED:20220727T222138Z
LAST-MODIFIED:20220727T222138Z
UID:10000138-1661605200-1661626800@kingdomfire.us
SUMMARY:The HEART of Flint - Unity Fest
DESCRIPTION:THIS IS A FREE EVENT hosted by The Heart Of Flint !!!! \n\nMeet us at the Pavilion for a day of fun\,food\,music\, and UNITY! With over 20 different churches\, ministries\, businesses and organizations coming together to bless the community and be the HEART of Flint!  \n\nFree Food\nSnow cones\nBounce houses by Jumper Adventure NSE\nFace painting\nBook giveaway by Genesee Early On\nClothes and shoe giveaway\nSchool supplies by GRSP \n\nGuest speakers\n*Marvin Downs (MC)\n*Derrick Hullum\n*Justin Fahrenbruch\n*Aaron Rubio \n\nDance performance by FLI City Studios \nMusic by End of I\n*with more to be announced
URL:https://kingdomfire.us/event/the-heart-of-flint-unity-fest/
LOCATION:Kearsley Park Pavilion\, 1700 Kearlsey Park Blvd\, Flint\, MI\, 48506\, United States
ORGANIZER;CN="The Heart of Flint":MAILTO:theheartofflint@gmail.com
END:VEVENT
BEGIN:VEVENT
DTSTART;TZID=UTC:20220625T130000
DTEND;TZID=UTC:20220625T170000
DTSTAMP:20260424T115743
CREATED:20220622T200246Z
LAST-MODIFIED:20220622T210527Z
UID:10000131-1656162000-1656176400@kingdomfire.us
SUMMARY:The HEART of Flint Eastside Community BBQ - Amos Park
DESCRIPTION:This is a FREE event for the community.\n\n\n\n\nIt’s going to be an amazing time bringing the community together\, partnering with all different types of churches and ministries on this outreach event THIS SATURDAY!\n\nCome on out and join us as we share the love of Christ with the city of Flint\, Michigan!! \n\nPSALM 133\n“Behold\, how good and how pleasant it is\nFor brethren to dwell together in unity!\n It is like the precious oil upon the head\,\nRunning down on the beard\,\nThe beard of Aaron\,\nRunning down on the edge of his garments.\n It is like the dew of Hermon\,\nDescending upon the mountains of Zion;\nFor there the Lord commanded the blessing—\nLife forevermore.\n\n\n\n\nCome on out and join us for FOOD\, BOUNCE HOUSE\, FACE PAINTING\, YARD GAMES\, MUSIC and UNIFYING the Eastside of Flint.
URL:https://kingdomfire.us/event/the-heart-of-flint-eastside-community-bbq-amos-park/
LOCATION:Amos Park\, Amos Dr.\, Flint\, 48506\, United States
CATEGORIES:Evangelism Outreach
ORGANIZER;CN="The Heart of Flint":MAILTO:theheartofflint@gmail.com
END:VEVENT
BEGIN:VEVENT
DTSTART;TZID=UTC:20220606T080000
DTEND;TZID=UTC:20220606T170000
DTSTAMP:20260424T115743
CREATED:20220606T171607Z
LAST-MODIFIED:20220606T171720Z
UID:10000130-1654502400-1654534800@kingdomfire.us
SUMMARY:The Heart of Flint Eastside Community BBQ
DESCRIPTION:This is a FREE event for the community.\n\nCome on out and join us for FOOD\, BOUNCE HOUSE\, FACE PAINTING\, YARD GAMES\, MUSIC and UNIFYING the Eastside of Flint.
URL:https://kingdomfire.us/event/the-heart-of-flint-eastside-community-bbq/
LOCATION:Amos Park\, Amos Dr.\, Flint\, 48506\, United States
ORGANIZER;CN="The Heart of Flint":MAILTO:theheartofflint@gmail.com
END:VEVENT
END:VCALENDAR