BEGIN:VCALENDAR
VERSION:2.0
PRODID:-//Kingdom Fire - ECPv6.15.20//NONSGML v1.0//EN
CALSCALE:GREGORIAN
METHOD:PUBLISH
X-ORIGINAL-URL:https://kingdomfire.us
X-WR-CALDESC:Events for Kingdom Fire
REFRESH-INTERVAL;VALUE=DURATION:PT1H
X-Robots-Tag:noindex
X-PUBLISHED-TTL:PT1H
BEGIN:VTIMEZONE
TZID:UTC
BEGIN:STANDARD
TZOFFSETFROM:+0000
TZOFFSETTO:+0000
TZNAME:UTC
DTSTART:20230101T000000
END:STANDARD
END:VTIMEZONE
BEGIN:VEVENT
DTSTART;TZID=UTC:20240415T150000
DTEND;TZID=UTC:20240415T170000
DTSTAMP:20260425T145037
CREATED:20240229T220528Z
LAST-MODIFIED:20240229T220528Z
UID:10000244-1713193200-1713200400@kingdomfire.us
SUMMARY:Girls of Grace Worship Concert | Frankenmuth\, MI | Justin Fahrenbruch sharing testimony
DESCRIPTION:Justin will be sharing his “Cardboard Testimony” and speaking on being delivered from addiction – in a portion of the “Girls of Grace” Worship/Dance program on Saturday (4/15) 1:00PM and 5:00PM\nand Sunday (4/16) 3:00PM\n\n\nTickets are ON SALE NOW!!!\n\nThe Girls of Grace Dance Ministry is excited to offer their annual worship concert entitled\, “Always\, Only Jesus!”\n\nLocation:\nSt. Lorenz Worship and Event Center\nFrankenmuth\, MI\n\nThree Convenient Showtimes:\n\nSaturday\, April 13th @ 1pm and 5pm\nSunday\, April 14th @ 3pm\n\nTickets are $10 each.\n\nTickets can be purchased at: https://stlorenz.org/ministries/girls-of-grace/\nOr call the St. Lorenz Church Office at: (989)652-6141
URL:https://kingdomfire.us/event/girls-of-grace-worship-concert-frankenmuth-mi-justin-fahrenbruch-sharing-testimony/
LOCATION:St. Lorenz Worship and Events Center\, 850 W. Genessee\, Frankenmuth\, MI\, 48734\, United States
CATEGORIES:Church Event
ATTACH;FMTTYPE=image/jpeg:https://kingdomfire.us/wp-content/uploads/2024/02/422295171_777670264388589_677080620861995832_n.jpg
ORGANIZER;CN="St. Lorenz Lutheran Church":MAILTO:church@stlorenz.org
END:VEVENT
BEGIN:VEVENT
DTSTART;TZID=UTC:20240414T130000
DTEND;TZID=UTC:20240414T170000
DTSTAMP:20260425T145037
CREATED:20240229T220225Z
LAST-MODIFIED:20240229T220225Z
UID:10000243-1713099600-1713114000@kingdomfire.us
SUMMARY:Girls of Grace Worship Concert | Frankenmuth\, MI | Justin Fahrenbruch Testimony
DESCRIPTION:Justin will be sharing his “Cardboard Testimony” and speaking on being delivered from addiction – in a portion of the “Girls of Grace” Worship/Dance program on Saturday (4/15) 1:00PM and 5:00PM\nand Sunday (4/16) 3:00PM\n\n\nTickets are ON SALE NOW!!!\n\nThe Girls of Grace Dance Ministry is excited to offer their annual worship concert entitled\, “Always\, Only Jesus!”\n\nLocation:\nSt. Lorenz Worship and Event Center\nFrankenmuth\, MI\n\nThree Convenient Showtimes:\n\nSaturday\, April 13th @ 1pm and 5pm\nSunday\, April 14th @ 3pm\n\nTickets are $10 each.\n\nTickets can be purchased at: https://stlorenz.org/ministries/girls-of-grace/\nOr call the St. Lorenz Church Office at: (989)652-6141
URL:https://kingdomfire.us/event/girls-of-grace-worship-concert-frankenmuth-mi-justin-fahrenbruch-testimony/
LOCATION:St. Lorenz Worship and Events Center\, 850 W. Genessee\, Frankenmuth\, MI\, 48734\, United States
CATEGORIES:Church Event
ATTACH;FMTTYPE=image/jpeg:https://kingdomfire.us/wp-content/uploads/2024/02/422295171_777670264388589_677080620861995832_n.jpg
ORGANIZER;CN="St. Lorenz Lutheran Church":MAILTO:church@stlorenz.org
END:VEVENT
BEGIN:VEVENT
DTSTART;TZID=UTC:20240120T090000
DTEND;TZID=UTC:20240120T160000
DTSTAMP:20260425T145037
CREATED:20231214T224431Z
LAST-MODIFIED:20231214T224431Z
UID:10000223-1705741200-1705766400@kingdomfire.us
SUMMARY:"White As Snow" - Women's Conference | Guest Speaker: Justin Fahrenbruch | Frankenmuth\, Michigan
DESCRIPTION:Don’t miss out on the second annual Women’s Conference on Saturday\, January 20\, 2024 at the St. Lorenz Worship and Event Center. It will be led by keynote speaker\, Heidi Goehmann\, and is guaranteed to fill your heart with renewed purpose in Christ. \nBREAKOUT SPEAKER: JUSTIN FAHRENBRUCH \nTopic: \n\n“Purpose\, Potential and Destiny”\n\n\n\nBeing re-connected to our Source (The Holy Spirit)\, helps us to discover God’s purpose for our lives… Locate untapped potential within… and use that potential to live out our Divine destiny.\n\nPrice of ticket includes all event activities and materials\, coffee\, snacks and boxed lunch from Bavarian Inn Restaurant. \nAdditionally\, Join Heidi Goehmann\, and author and poet\, Tanner Olson\, in the St. Lorenz Worship & Event Center on Friday\, January 19th at 6:30pm for an evening of hope; poetry\, conversation\, and tools for meeting our mental health with hope.  This 2 hour event connects the church to resources that help them breach stigma\, rest in God\, and build strength to love themselves and those around them well\, no matter the challenge.  You can add this event to your White As Snow registration for no added cost.
URL:https://kingdomfire.us/event/white-as-snow-womens-conference-guest-speaker-justin-fahrenbruch-frankenmuth-michigan/
LOCATION:St. Lorenz Worship and Events Center\, 850 W. Genessee\, Frankenmuth\, MI\, 48734\, United States
CATEGORIES:Guest Speaker at Conference
ATTACH;FMTTYPE=image/jpeg:https://kingdomfire.us/wp-content/uploads/2023/12/401764247_10104158349002580_5783998104795302105_n.jpg
ORGANIZER;CN="St. Lorenz Lutheran Church":MAILTO:church@stlorenz.org
END:VEVENT
END:VCALENDAR