BEGIN:VCALENDAR
VERSION:2.0
PRODID:-//Kingdom Fire - ECPv6.15.20//NONSGML v1.0//EN
CALSCALE:GREGORIAN
METHOD:PUBLISH
X-WR-CALNAME:Kingdom Fire
X-ORIGINAL-URL:https://kingdomfire.us
X-WR-CALDESC:Events for Kingdom Fire
REFRESH-INTERVAL;VALUE=DURATION:PT1H
X-Robots-Tag:noindex
X-PUBLISHED-TTL:PT1H
BEGIN:VTIMEZONE
TZID:UTC
BEGIN:STANDARD
TZOFFSETFROM:+0000
TZOFFSETTO:+0000
TZNAME:UTC
DTSTART:20210101T000000
END:STANDARD
END:VTIMEZONE
BEGIN:VEVENT
DTSTART;TZID=UTC:20250629T090000
DTEND;TZID=UTC:20250629T130000
DTSTAMP:20260424T061025
CREATED:20250313T195423Z
LAST-MODIFIED:20250603T194920Z
UID:10000960-1751187600-1751202000@kingdomfire.us
SUMMARY:Guest Speaker for Church Services  |  Upper Peninsula\, Michigan  |  Sault Ste. Marie & Cedarville\, Michigan
DESCRIPTION:UPPER PENINSULA\, MICHIGAN\n\n\n\nIf you are from the U.P. (Aye!)  and do not have a Home Church or haven’t been to church in a while… we would LOVE to see you at Soo Christian Fellowship Church or Les Cheneaux Christian Fellowship –  Sunday\, June 29th!!\n\nLes Cheneaux Christian Fellowship\n 202 N Blindside Rd.  Cedarville\, MI 49719\n\n Service Starts:  9:00AM\n\nSoo Christian Fellowship Church\n 2920 Ashmun St.  Sault Ste. Marie\, MI 49783\n Service Starts:  11:15AM\n\n\n\n\n**Justin was a drug addict for 14 years of his life. In 2018 he was radically and miraculously set free when a chain of events lead to an encounter with Jesus Christ in the middle of a parking lot. Since the surrender of his life\, Justin has seen the miraculous power of The Holy Spirit move mightily through his life and many others around him.**\n\n\n\nJustin will be sharing his heart at both services!\n\n\nYou won’t want to miss these POWERFUL services!\n\nCome expecting and receive your blessing from the Lord!\n\n\n\n Altar Ministry \n Preaching the Kingdom \n Holy Spirit Baptisms \n Fresh Fire \n\n\n\nHallelujah – He’s Alive!!\n\n\nIt’s time to change the world!\nLet’s Go!!\n\n\n\n“…He will baptize you with the Holy Spirit and fire.”\nMatthew 3:11\n\n\n\n“But you shall receive power when the Holy Spirit has come upon you; and you shall be witnesses to Me in Jerusalem\, and in all Judea and Samaria\, and to the end of the earth.”\nActs 1:8
URL:https://kingdomfire.us/event/guest-speaker-for-church-services-upper-peninsula-michigan-sault-ste-marie-cedarville-michigan/
LOCATION:Soo Christian Fellowship Church\, 2920 Ashmun St\, Sault Ste. Marie\, MI\, 49783\, United States
CATEGORIES:Guest Speaker for Church Service
ATTACH;FMTTYPE=image/jpeg:https://kingdomfire.us/wp-content/uploads/2025/03/CHURCH-MENS-SEMINAR-CONFERENCE-EVENT-1.jpg
END:VEVENT
BEGIN:VEVENT
DTSTART;TZID=UTC:20250627T090000
DTEND;TZID=UTC:20250627T153000
DTSTAMP:20260424T061025
CREATED:20250315T171119Z
LAST-MODIFIED:20250603T193804Z
UID:10000962-1751014800-1751038200@kingdomfire.us
SUMMARY:Evangelism Outreach  |  Engineering Day Outreach  |  Sault Ste. Marie\, Michigan
DESCRIPTION:  \n\n EVANGELISM OUTREACH | ENGINEERING DAY\n SAULT STE. MARIE\, MICHIGAN \n\n\n\nIt’s time to get outside the 4 walls and bring Jesus to the people!!\n\n\n\nSoo Christian Fellowship Church |  Les Cheneaux Christian Fellowship | Kingdom Fire\n\n\nWe’ll be setting up a tent\, table and prayer station for those coming in for the one of the busiest days of the year in Downtown Sault Ste. Marie!\n\nInfo on Engineering Day:\n\n\nIt’s a day full of celebration and amazement. It’s your chance to enter the Soo Locks and cross the MacArthur Lock to get up close to the freighters and learn about the Soo Locks complex. Crossings will take place 9 a.m. – 3:30 p.m. \nThe event is put on in partnership with the City of Sault Ste. Marie and the United States Army Corps of Engineers\, we are ecstatic to help put on this special event. Beginning at 9 a.m.\, a section of West Portage Avenue in between Ferris Street and Gov. Osbourne Boulevard will be closed off to traffic until 4 p.m. and will feature over 50 vendors. The Soo Locks Park and observation deck will both be open from 9 a.m. until 10 p.m. \n\n\n\n Location:\nDOWNTOWN Sault Ste. Marie\n\n\n\n Friday June 27thTH\, 2025\n  9AM – 3:30PM\n\n\n\nCome on out and join us!\nALL ARE WELCOME\n\n\n\nHelp us get the word out! Invite your friends and Share this event to your social media page. See you there!!
URL:https://kingdomfire.us/event/evangelism-outreach-engineering-day-outreach-sault-ste-marie-michigan/
LOCATION:Soo Christian Fellowship Church\, 2920 Ashmun St\, Sault Ste. Marie\, MI\, 49783\, United States
CATEGORIES:Evangelism Outreach
ATTACH;FMTTYPE=image/jpeg:https://kingdomfire.us/wp-content/uploads/2025/03/Evangelism-week-flyer-design-template-scaled.jpg
END:VEVENT
BEGIN:VEVENT
DTSTART;TZID=UTC:20231119T110000
DTEND;TZID=UTC:20231119T130000
DTSTAMP:20260424T061025
CREATED:20231024T200551Z
LAST-MODIFIED:20231024T200551Z
UID:10000221-1700391600-1700398800@kingdomfire.us
SUMMARY:Guest Speaker | Soo Christian Fellowship Church - Sault Ste. Marie\, MI | Baptism of the Holy Spirit
DESCRIPTION:UPPER PENINSULA\, MICHIGAN \n\n\n\nIf you are from the Upper Peninsula (and do not have a home church or haven’t been to church in a while) we would LOVE to see you at Soo Christian Fellowship Church Sault Ste. Marie\, Michigan – Sunday\, November 19th!\n\n\n\nJustin will be speaking on the “Baptism of the Holy Spirit”\n\n\n\n\n\n\n**Drug addict for 14 years of his life. In 2018 Justin was radically and miraculously set free when a chain of events lead to an encounter with Jesus Christ in the middle of a parking lot.  Since the surrender of his life\, Justin has seen the miraculous power of The Holy Spirit move mightily through his life and many others around him.**\n\n\n\n\n\nIt’s time to change the world!\nLet’s Go!!\n\n\n\n\n\n\n\n\n\n“But you shall receive power when the Holy Spirit has come upon you; and you shall be witnesses to Me in Jerusalem\, and in all Judea and Samaria\, and to the end of the earth.”\n Acts 1:8\n\n\n\n“Most assuredly\, I say to you\, he who believes in Me\, the works that I do he will do also; and greater works than these he will do\, because I go to My Father.”\n John 14:12\n\n\n\n“I indeed baptize you with water unto repentance\, but He who is coming after me is mightier than I\, whose sandals I am not worthy to carry. He will baptize you with the Holy Spirit and fire.”\n Matthew 3:11
URL:https://kingdomfire.us/event/guest-speaker-soo-christian-fellowship-church-sault-ste-marie-mi-baptism-of-the-holy-spirit/
LOCATION:Soo Christian Fellowship Church\, 2920 Ashmun St\, Sault Ste. Marie\, MI\, 49783\, United States
CATEGORIES:Guest Speaker for Church Service
ATTACH;FMTTYPE=image/jpeg:https://kingdomfire.us/wp-content/uploads/2023/10/CHURCH-MENS-SEMINAR-CONFERENCE-EVENT-1.jpg
END:VEVENT
BEGIN:VEVENT
DTSTART;TZID=UTC:20231119T090000
DTEND;TZID=UTC:20231119T103000
DTSTAMP:20260424T061025
CREATED:20231024T200803Z
LAST-MODIFIED:20231024T200803Z
UID:10000222-1700384400-1700389800@kingdomfire.us
SUMMARY:Guest Speaker | Les Cheneaux Christian Fellowship - Cedarville\, MI | "Baptism of the Holy Spirit"
DESCRIPTION:UPPER PENINSULA\, MICHIGAN \n\n\n\nIf you are from the Upper Peninsula (and do not have a home church or haven’t been to church in a while) we would LOVE to see you at Les Cheneaux Christian Fellowship – Cedarville\, Michigan – Sunday\, November 19th!\n\n\n\nJustin will be speaking on the “Baptism of the Holy Spirit”\n\n\n\n\n\n\n**Drug addict for 14 years of his life. In 2018 Justin was radically and miraculously set free when a chain of events lead to an encounter with Jesus Christ in the middle of a parking lot.  Since the surrender of his life\, Justin has seen the miraculous power of The Holy Spirit move mightily through his life and many others around him.**\n\n\n\n\n\nIt’s time to change the world!\nLet’s Go!!\n\n\n\n\n\n\n\n\n\n“But you shall receive power when the Holy Spirit has come upon you; and you shall be witnesses to Me in Jerusalem\, and in all Judea and Samaria\, and to the end of the earth.”\n Acts 1:8\n\n\n\n“Most assuredly\, I say to you\, he who believes in Me\, the works that I do he will do also; and greater works than these he will do\, because I go to My Father.”\n John 14:12\n\n\n\n“I indeed baptize you with water unto repentance\, but He who is coming after me is mightier than I\, whose sandals I am not worthy to carry. He will baptize you with the Holy Spirit and fire.”\n Matthew 3:11
URL:https://kingdomfire.us/event/guest-speaker-les-cheneaux-christian-fellowship-cedarville-mi-baptism-of-the-holy-spirit/
LOCATION:Les Cheneaux Christian Fellowship\, 202 N Blindline Rd.\, Cedarville\, Michigan\, 49719
CATEGORIES:Guest Speaker for Church Service
ATTACH;FMTTYPE=image/jpeg:https://kingdomfire.us/wp-content/uploads/2023/10/CHURCH-MENS-SEMINAR-CONFERENCE-EVENT-1.jpg
END:VEVENT
BEGIN:VEVENT
DTSTART;TZID=UTC:20230507T111500
DTEND;TZID=UTC:20230507T123000
DTSTAMP:20260424T061025
CREATED:20230405T212435Z
LAST-MODIFIED:20230426T031107Z
UID:10000163-1683458100-1683462600@kingdomfire.us
SUMMARY:Guest Speaker | Soo Christian Fellowship Church | Sault Ste. Marie\, MI
DESCRIPTION:UPPER PENINSULA\, MICHIGAN \n\n\n\nIf you are from the U.P. (and do not have a home church or haven’t been to church in a while) we would LOVE to see you at Soo Christian Fellowship Church Sault Ste. Marie\, Michigan – Sunday\, May 7th!\n\n\n\nJustin will be speaking on “Kingdom Infiltration” – Kingdom Evangelism\n\n\n\n\n\n\n**Drug addict for 14 years of his life. In 2018 Justin was radically and miraculously set free when a chain of events lead to an encounter with Jesus Christ in the middle of a parking lot.  Since the surrender of his life\, Justin has seen the miraculous power of The Holy Spirit move mightily through his life and many others around him.**\n\n\n\n\n\nIt’s time to change the world!\nLet’s Go!!\n\n\n\n\n\n\n“Thy kingdom come\, Thy will be done in earth\, as it is in heaven.”\n Matthew 6:10\n\n\n\n“And he said unto them\, Go ye into all the world\, and preach the gospel to every creature.”\n Mark 16:15\n\n\n\n“And this gospel of the kingdom shall be preached in all the world for a witness unto all nations; and then shall the end come.”\n Matthew 24:14\n\n\n\n“…he shall baptize you with the Holy Ghost\, and with fire.”\n Matthew 3:11
URL:https://kingdomfire.us/event/soo-christian-fellowship-church-kingdom-infiltration-upper-peninsula/
LOCATION:Soo Christian Fellowship Church\, 2920 Ashmun St\, Sault Ste. Marie\, MI\, 49783\, United States
CATEGORIES:Guest Speaker for Church Service
ATTACH;FMTTYPE=image/jpeg:https://kingdomfire.us/wp-content/uploads/2023/04/CHURCH-MENS-SEMINAR-CONFERENCE-EVENT.jpg
END:VEVENT
BEGIN:VEVENT
DTSTART;TZID=UTC:20230507T093000
DTEND;TZID=UTC:20230507T103000
DTSTAMP:20260424T061025
CREATED:20230405T212128Z
LAST-MODIFIED:20230426T031215Z
UID:10000162-1683451800-1683455400@kingdomfire.us
SUMMARY:Guest Speaker | Les Cheneaux Christian Fellowship | Les Cheneaux\, Michigan
DESCRIPTION:UPPER PENINSULA\, MICHIGAN \n\n\n\nIf you are from the U.P. (and do not have a home church or haven’t been to church in a while) we would LOVE to see you at Soo Christian Fellowship Church Sault Ste. Marie\, Michigan – Sunday\, May 7th!\n\n\n\nJustin will be speaking on “Kingdom Infiltration” | Kingdom Evangelism\n\n\n\n**Drug addict for 14 years of his life. In 2018 Justin was radically and miraculously set free when a chain of events lead to an encounter with Jesus Christ in the middle of a parking lot.  Since the surrender of his life\, Justin has seen the miraculous power of The Holy Spirit move mightily through his life and many others around him.**\n\n\n\n\n\nIt’s time to change the world!\nLet’s Go!!\n\n\n\n\n\n\n“Thy kingdom come\, Thy will be done in earth\, as it is in heaven.”\n Matthew 6:10\n\n\n\n“And he said unto them\, Go ye into all the world\, and preach the gospel to every creature.”\n Mark 16:15\n\n\n\n“And this gospel of the kingdom shall be preached in all the world for a witness unto all nations; and then shall the end come.”\n Matthew 24:14\n\n\n\n“…he shall baptize you with the Holy Ghost\, and with fire.”\n Matthew 3:11
URL:https://kingdomfire.us/event/220536/
LOCATION:Les Cheneaux Christian Fellowship\, 202 N Blindline Rd.\, Cedarville\, Michigan\, 49719
CATEGORIES:Guest Speaker for Church Service
ATTACH;FMTTYPE=image/jpeg:https://kingdomfire.us/wp-content/uploads/2023/04/CHURCH-MENS-SEMINAR-CONFERENCE-EVENT.jpg
END:VEVENT
BEGIN:VEVENT
DTSTART;TZID=UTC:20220703T111500
DTEND;TZID=UTC:20220703T130000
DTSTAMP:20260424T061025
CREATED:20220524T215322Z
LAST-MODIFIED:20220622T210205Z
UID:10000128-1656846900-1656853200@kingdomfire.us
SUMMARY:Preaching at Soo Christian Fellowship - Sault Ste. Marie\, Michigan
DESCRIPTION:**Justin was a drug addict for 14 years of his life. In 2018 he was radically and miraculously set free when a chain of events lead to the surrender of his life to Christ in the middle of a parking lot. Since the surrender of his life\, Justin has seen the miraculous power of God move mightily through his life and many others around him.**\n\n\n\nHealing Services \nProphetic Words \nFresh Fire\nPreaching the Kingdom \n\n\n\nMiracles signs and wonders!!\nCome Expecting your Breakthrough!
URL:https://kingdomfire.us/event/preaching-at-soo-christian-fellowship-sault-ste-marie-michigan/
LOCATION:Soo Christian Fellowship Church\, 2920 Ashmun St\, Sault Ste. Marie\, MI\, 49783\, United States
CATEGORIES:Guest Speaker for Church Service
END:VEVENT
BEGIN:VEVENT
DTSTART;TZID=UTC:20220703T090000
DTEND;TZID=UTC:20220703T104500
DTSTAMP:20260424T061025
CREATED:20220524T214912Z
LAST-MODIFIED:20220622T210249Z
UID:10000127-1656838800-1656845100@kingdomfire.us
SUMMARY:Preaching at Les Cheneaux Christian Fellowship - Cedarville\, Michigan
DESCRIPTION:**Justin was a drug addict for 14 years of his life. In 2018 he was radically and miraculously set free when a chain of events lead to the surrender of his life to Christ in the middle of a parking lot. Since the surrender of his life\, Justin has seen the miraculous power of God move mightily through his life and many others around him.**\n\n\n\nHealing Services \nProphetic Words \nFresh Fire\nPreaching the Kingdom \n\n\n\nMiracles signs and wonders!!\nCome Expecting your Breakthrough!
URL:https://kingdomfire.us/event/preaching-at-les-cheneaux-christian-fellowship-cedarville-michigan/
LOCATION:Les Cheneaux Christian Fellowship\, 202 N Blindline Rd.\, Cedarville\, Michigan\, 49719
CATEGORIES:Guest Speaker for Church Service
ATTACH;FMTTYPE=image/jpeg:https://kingdomfire.us/wp-content/uploads/2022/05/Kingdom-Fire_About-Us_2_1600x1000.jpg
END:VEVENT
BEGIN:VEVENT
DTSTART;TZID=UTC:20220130T111500
DTEND;TZID=UTC:20220130T130000
DTSTAMP:20260424T061025
CREATED:20220121T003256Z
LAST-MODIFIED:20220121T010824Z
UID:10000114-1643541300-1643547600@kingdomfire.us
SUMMARY:Preaching in Sault Ste. Marie\, Michigan!
DESCRIPTION:Justin has been invited by Pastor Scout Hester to share his heart at Soo Christian Fellowship Church!
URL:https://kingdomfire.us/event/preaching-in-sault-ste-marie-michigan/
LOCATION:Soo Christian Fellowship Church\, 2920 Ashmun St\, Sault Ste. Marie\, MI\, 49783\, United States
END:VEVENT
BEGIN:VEVENT
DTSTART;TZID=UTC:20220130T090000
DTEND;TZID=UTC:20220130T223000
DTSTAMP:20260424T061025
CREATED:20220121T001902Z
LAST-MODIFIED:20220121T002551Z
UID:10000113-1643533200-1643581800@kingdomfire.us
SUMMARY:Preaching in Cedarville\, Michigan!
DESCRIPTION:Justin has been invited by Pastor Scout Hester to share his heart at Les Cheneaux Christian Fellowship in Cedarville\, Michigan.
URL:https://kingdomfire.us/event/preaching-in-cedarville-michigan/
LOCATION:Les Cheneaux Christian Fellowship\, 202 N Blindline Rd.\, Cedarville\, Michigan\, 49719
END:VEVENT
END:VCALENDAR