BEGIN:VCALENDAR
VERSION:2.0
PRODID:-//Kingdom Fire - ECPv6.15.20//NONSGML v1.0//EN
CALSCALE:GREGORIAN
METHOD:PUBLISH
X-WR-CALNAME:Kingdom Fire
X-ORIGINAL-URL:https://kingdomfire.us
X-WR-CALDESC:Events for Kingdom Fire
REFRESH-INTERVAL;VALUE=DURATION:PT1H
X-Robots-Tag:noindex
X-PUBLISHED-TTL:PT1H
BEGIN:VTIMEZONE
TZID:UTC
BEGIN:STANDARD
TZOFFSETFROM:+0000
TZOFFSETTO:+0000
TZNAME:UTC
DTSTART:20250101T000000
END:STANDARD
END:VTIMEZONE
BEGIN:VEVENT
DTSTART;TZID=UTC:20260126T100000
DTEND;TZID=UTC:20260126T120000
DTSTAMP:20260423T235933
CREATED:20251231T031232Z
LAST-MODIFIED:20251231T031232Z
UID:10001046-1769421600-1769428800@kingdomfire.us
SUMMARY:Guest Speaker for Church Service  |  Campbellsville\, Kentucky  |  Campbellsville Kingdom Community
DESCRIPTION:CAMPBELLSVILLE\, KENTUCKY \n\n\n\nIf you are from the Central Kentucky area and do not have a Home Church or haven’t been to church in a while… we would LOVE to see you at Campbellsville Kingdom Community –  Sunday\, January 26th!!\n\n\n\n**Justin was a drug addict for 14 years of his life. In 2018 he was radically and miraculously set free when a chain of events lead to an encounter with Jesus Christ in the middle of a parking lot. Since the surrender of his life\, Justin has seen the miraculous power of The Holy Spirit move mightily through his life and many others around him.**\n\n\n\nJustin will be sharing his testimony and heart at church.\n\n\nYou won’t want to miss this POWERFUL service!\n\nCome expecting and receive your blessing from the Lord!\n\n\n\n Altar Ministry \n Preaching the Kingdom \n Holy Spirit Baptisms \n Fresh Fire \n\n\n\nHallelujah – He’s Alive!!\n\n\nIt’s time to change the world!\nLet’s Go!!\n\n\n\n“…He will baptize you with the Holy Spirit and fire.”\nMatthew 3:11\n\n\n\n“But you shall receive power when the Holy Spirit has come upon you; and you shall be witnesses to Me in Jerusalem\, and in all Judea and Samaria\, and to the end of the earth.”\nActs 1:8
URL:https://kingdomfire.us/event/guest-speaker-for-church-service-campbellsville-kentucky-campbellsville-kingdom-community/
LOCATION:Campbellsville Kingdom Community Church\, 517 Redhawk Ln.\, Campbellsville\, KY\, 42718\, United States
CATEGORIES:Guest Speaker for Church Service
ATTACH;FMTTYPE=image/png:https://kingdomfire.us/wp-content/uploads/2025/12/Black-White-and-Orange-Simple-Modern-Church-Service-Instagram-Post-2.png
END:VEVENT
BEGIN:VEVENT
DTSTART;TZID=UTC:20260125T100000
DTEND;TZID=UTC:20260125T220000
DTSTAMP:20260423T235933
CREATED:20251231T030737Z
LAST-MODIFIED:20251231T030737Z
UID:10001045-1769335200-1769378400@kingdomfire.us
SUMMARY:Campbellsville\, Kentucky  |  Saturday Morning Evangelism Equipping + Outreach | Saturday Evening Revival Service
DESCRIPTION:LET’S GO — CAMPBELLSVILLE\, KENTUCKY! \n\n\n\nI’m honored to be with Campbellsville Kingdom Community Church for a powerful 3-Day Revival Weekend — and you’re invited!\n\n\n\n Location:\nCampbellsville Kingdom Community Church\n517 Redhawk Ln.\nCampbellsville\, KY 42718\n\n\n\n January 23rd–25th\n\n\n Weekend Schedule:\n\nFriday | 6:30 PM\n Revival Service — Worship\, Word\, Kingdom Encounter\n\n\n\nSaturday | 10:00AM\n Evangelism Equipping\, Holy Spirit Activations & Outreach\n(Be equipped\, activated\, and sent!)\n\n\n\nSaturday | 6:30PM\n Revival Service — Worship\, Word\, Kingdom Encounter\n\n\n\nSunday Morning | 10:00AM\n Sunday Church Service — I’ll be sharing during the morning service\n\n\n\nThis weekend is all about encountering Jesus\, being empowered by the Holy Spirit\, and living out the Gospel boldly. Whether you’re hungry for revival\, want to grow in evangelism\, or just need a fresh touch from God — this weekend is for you.\n\n\n\n Bring a friend. Come expectant. Let’s see heaven invade earth.\n\n\n Campbellsville — God is moving!
URL:https://kingdomfire.us/event/campbellsville-kentucky-saturday-morning-evangelism-equipping-outreach-saturday-evening-revival-service/
LOCATION:Campbellsville Kingdom Community Church\, 517 Redhawk Ln.\, Campbellsville\, KY\, 42718\, United States
CATEGORIES:Evangelism Equipping,Evangelism Outreach,Revival Services
ATTACH;FMTTYPE=image/png:https://kingdomfire.us/wp-content/uploads/2025/12/Black-White-and-Orange-Simple-Modern-Church-Service-Instagram-Post-2.png
END:VEVENT
BEGIN:VEVENT
DTSTART;TZID=UTC:20260123T183000
DTEND;TZID=UTC:20260123T220000
DTSTAMP:20260423T235933
CREATED:20251231T030241Z
LAST-MODIFIED:20251231T030241Z
UID:10001044-1769193000-1769205600@kingdomfire.us
SUMMARY:Campbellsville\, Kentucky  |  Friday Evening Revival Service
DESCRIPTION:LET’S GO — CAMPBELLSVILLE\, KENTUCKY! \n\n\n\nI’m honored to be with Campbellsville Kingdom Community Church for a powerful 3-Day Revival Weekend — and you’re invited!\n\n\n\n Location:\nCampbellsville Kingdom Community Church\n517 Redhawk Ln.\nCampbellsville\, KY 42718\n\n\n\n January 23rd–25th\n\n\n Weekend Schedule:\n\nFriday | 6:30 PM\n Revival Service — Worship\, Word\, Kingdom Encounter\n\n\n\nSaturday | 10:00AM\n Evangelism Equipping\, Holy Spirit Activations & Outreach\n(Be equipped\, activated\, and sent!)\n\n\n\nSaturday | 6:30PM\n Revival Service — Worship\, Word\, Kingdom Encounter\n\n\n\nSunday Morning | 10:00AM\n Sunday Church Service — I’ll be sharing during the morning service\n\n\n\nThis weekend is all about encountering Jesus\, being empowered by the Holy Spirit\, and living out the Gospel boldly. Whether you’re hungry for revival\, want to grow in evangelism\, or just need a fresh touch from God — this weekend is for you.\n\n\n\n Bring a friend. Come expectant. Let’s see heaven invade earth.\n\n\n Campbellsville — God is moving!
URL:https://kingdomfire.us/event/campbellsville-kentucky-friday-evening-revival-service/
LOCATION:Campbellsville Kingdom Community Church\, 517 Redhawk Ln.\, Campbellsville\, KY\, 42718\, United States
CATEGORIES:Revival Services
ATTACH;FMTTYPE=image/png:https://kingdomfire.us/wp-content/uploads/2025/12/Black-White-and-Orange-Simple-Modern-Church-Service-Instagram-Post-2.png
END:VEVENT
END:VCALENDAR