BEGIN:VCALENDAR
VERSION:2.0
PRODID:-//Kingdom Fire - ECPv6.15.20//NONSGML v1.0//EN
CALSCALE:GREGORIAN
METHOD:PUBLISH
X-ORIGINAL-URL:https://kingdomfire.us
X-WR-CALDESC:Events for Kingdom Fire
REFRESH-INTERVAL;VALUE=DURATION:PT1H
X-Robots-Tag:noindex
X-PUBLISHED-TTL:PT1H
BEGIN:VTIMEZONE
TZID:UTC
BEGIN:STANDARD
TZOFFSETFROM:+0000
TZOFFSETTO:+0000
TZNAME:UTC
DTSTART:20230101T000000
END:STANDARD
END:VTIMEZONE
BEGIN:VEVENT
DTSTART;TZID=UTC:20241031T180000
DTEND;TZID=UTC:20241031T200000
DTSTAMP:20260424T161134
CREATED:20241016T173855Z
LAST-MODIFIED:20241016T174026Z
UID:10000296-1730397600-1730404800@kingdomfire.us
SUMMARY:Rock The Block || Evangelism "Halloween" Outreach || Mount Clemens\, MI
DESCRIPTION:Bond Of Peace Ministries Presents: \nEvangelism Outreach on Halloween \nCome and enjoy a safe evening with music\, food\, candy and fun for the whole family!!  \nThere will be raffles\, games\, have some hot cider and warm up at the fire pit with much much more!  \nThis is a community event\, all are invited and it’s totally free!!!!! Just for you!
URL:https://kingdomfire.us/event/rock-the-block-evangelism-halloween-outreach-mount-clemens-mi/
LOCATION:Bond Of Peace Ministries\, 24475 St. Francis St\, Clinton Township\, MI\, 48036\, United States
CATEGORIES:Evangelism Outreach
ATTACH;FMTTYPE=image/jpeg:https://kingdomfire.us/wp-content/uploads/2024/10/462599012_544289848249707_812331231427532843_n.jpg
END:VEVENT
BEGIN:VEVENT
DTSTART;TZID=UTC:20240924T180000
DTEND;TZID=UTC:20240924T200000
DTSTAMP:20260424T161134
CREATED:20240923T190643Z
LAST-MODIFIED:20240923T190643Z
UID:10000293-1727200800-1727208000@kingdomfire.us
SUMMARY:Pull Over Prayer | Evangelism Equipping & Outreach | Bond of Peace Ministries - Mnt. Clemens\, MI
DESCRIPTION:PULL-OVER PRAYER || MACOMB COUNTY \n\n\n\nBringin’ Jesus to the streets in Mount Clemens\, Michigan!\n\n\n\nCome on out and join us TOMORROW – Tuesday\, Sept. 24th\n\n\n\nEquipping Class – 6:00PM\nOutreach on the Streets – 7:00PM\n\n\n\nPartnering with our good friends @ Bond Of Peace Ministries\n\n\n\nThis Class & Outreach is open to ANYONE & EVERYONE that would like to join us!\n\n\n\nEvangelism Class Location:\nBond Of Peace Ministries\n24475 St. Francis St. Clinton Twp. MI 48036\n\n\n\nStreet Outreach Location:\nSt. Louis Catholic Church Parking Lot\n24415 Crocker Blvd. Clinton\, Twp. MI 48036\n\n\n\nCome on out and join us!!\nSee you there!
URL:https://kingdomfire.us/event/pull-over-prayer-evangelism-equipping-outreach-bond-of-peace-ministries-mnt-clemens-mi/
LOCATION:Bond Of Peace Ministries\, 24475 St. Francis St\, Clinton Township\, MI\, 48036\, United States
CATEGORIES:Evangelism Outreach
ATTACH;FMTTYPE=image/jpeg:https://kingdomfire.us/wp-content/uploads/2024/09/street-evangelism-1.jpg
END:VEVENT
END:VCALENDAR