BEGIN:VCALENDAR
VERSION:2.0
PRODID:-//Kingdom Fire - ECPv6.15.20//NONSGML v1.0//EN
CALSCALE:GREGORIAN
METHOD:PUBLISH
X-ORIGINAL-URL:https://kingdomfire.us
X-WR-CALDESC:Events for Kingdom Fire
REFRESH-INTERVAL;VALUE=DURATION:PT1H
X-Robots-Tag:noindex
X-PUBLISHED-TTL:PT1H
BEGIN:VTIMEZONE
TZID:UTC
BEGIN:STANDARD
TZOFFSETFROM:+0000
TZOFFSETTO:+0000
TZNAME:UTC
DTSTART:20230101T000000
END:STANDARD
END:VTIMEZONE
BEGIN:VEVENT
DTSTART;VALUE=DATE:20241022
DTEND;VALUE=DATE:20241023
DTSTAMP:20260424T054519
CREATED:20230818T171117Z
LAST-MODIFIED:20240923T193330Z
UID:10000211-1729555200-1729641599@kingdomfire.us
SUMMARY:Kingdom Evangelism Equipping Class | Bond of Peace Ministries | Clinton\, Twp.  Michigan
DESCRIPTION:
URL:https://kingdomfire.us/event/kingdom-evangelism-equipping-class/
LOCATION:Bond Of Peace Ministries\, 24475 St. Francis St\, Clinton Township\, MI\, 48036\, United States
CATEGORIES:Kingdom Equipping
ATTACH;FMTTYPE=image/jpeg:https://kingdomfire.us/wp-content/uploads/2023/08/Equipping-Class.jpg
END:VEVENT
END:VCALENDAR