BEGIN:VCALENDAR
VERSION:2.0
PRODID:-//Kingdom Fire - ECPv6.15.20//NONSGML v1.0//EN
CALSCALE:GREGORIAN
METHOD:PUBLISH
X-WR-CALNAME:Kingdom Fire
X-ORIGINAL-URL:https://kingdomfire.us
X-WR-CALDESC:Events for Kingdom Fire
REFRESH-INTERVAL;VALUE=DURATION:PT1H
X-Robots-Tag:noindex
X-PUBLISHED-TTL:PT1H
BEGIN:VTIMEZONE
TZID:UTC
BEGIN:STANDARD
TZOFFSETFROM:+0000
TZOFFSETTO:+0000
TZNAME:UTC
DTSTART:20240101T000000
END:STANDARD
END:VTIMEZONE
BEGIN:VEVENT
DTSTART;TZID=UTC:20251102T110000
DTEND;TZID=UTC:20251102T130000
DTSTAMP:20260423T231720
CREATED:20250923T200828Z
LAST-MODIFIED:20250923T200828Z
UID:10001009-1762081200-1762088400@kingdomfire.us
SUMMARY:Guest Speaker for Church Services  |  Lapeer\, Michigan  |  New Beginnings Family Church
DESCRIPTION:LAPEER\, MICHIGAN \n\n\n\nIf you are from “The Thumb” of Michigan and do not have a Home Church or haven’t been to church in a while… we would LOVE to see you at New Beginning Family Church –  Sunday\, November 2nd!!\n\n\n\n**Justin was a drug addict for 14 years of his life. In 2018 he was radically and miraculously set free when a chain of events lead to an encounter with Jesus Christ in the middle of a parking lot. Since the surrender of his life\, Justin has seen the miraculous power of The Holy Spirit move mightily through his life and many others around him.**\n\n\n\nJustin will be sharing his testimony and heart at church.\n\n\nYou won’t want to miss this POWERFUL service!\n\nCome expecting and receive your blessing from the Lord!\n\n\n\n Altar Ministry \n Preaching the Kingdom \n Holy Spirit Baptisms \n Fresh Fire \n\n\n\nHallelujah – He’s Alive!!\n\n\nIt’s time to change the world!\nLet’s Go!!\n\n\n\n“…He will baptize you with the Holy Spirit and fire.”\nMatthew 3:11\n\n\n\n“But you shall receive power when the Holy Spirit has come upon you; and you shall be witnesses to Me in Jerusalem\, and in all Judea and Samaria\, and to the end of the earth.”\nActs 1:8
URL:https://kingdomfire.us/event/guest-speaker-for-church-services-lapeer-michigan-new-beginnings-family-church-3/
LOCATION:New Beginnings Family Church\, 1066 N. Saginaw St.\, Lapeer\, MI\, 48446\, United States
CATEGORIES:Guest Speaker for Church Service
ATTACH;FMTTYPE=image/jpeg:https://kingdomfire.us/wp-content/uploads/2025/09/event-guest-speaker-flyer.jpg
ORGANIZER;CN="Pastor Keith Atwood":MAILTO:Pkwood55nbfc@charter.net
END:VEVENT
BEGIN:VEVENT
DTSTART;TZID=UTC:20250518T110000
DTEND;TZID=UTC:20250518T130000
DTSTAMP:20260423T231720
CREATED:20250327T173237Z
LAST-MODIFIED:20250327T173237Z
UID:10000966-1747566000-1747573200@kingdomfire.us
SUMMARY:Guest Speaker for Church Services  |  Lapeer\, Michigan  |  New Beginnings Family Church
DESCRIPTION:LAPEER\, MICHIGAN \n\n\n\nIf you are from “The Thumb” of Michigan and do not have a Home Church or haven’t been to church in a while… we would LOVE to see you at New Beginning Family Church –  Sunday\, May 18th!!\n\n\n\n**Justin was a drug addict for 14 years of his life. In 2018 he was radically and miraculously set free when a chain of events lead to an encounter with Jesus Christ in the middle of a parking lot. Since the surrender of his life\, Justin has seen the miraculous power of The Holy Spirit move mightily through his life and many others around him.**\n\n\n\nJustin will be sharing his testimony and heart at church.\n\n\nYou won’t want to miss this POWERFUL service!\n\nCome expecting and receive your blessing from the Lord!\n\n\n\n Altar Ministry \n Preaching the Kingdom \n Holy Spirit Baptisms \n Fresh Fire \n\n\n\nHallelujah – He’s Alive!!\n\n\nIt’s time to change the world!\nLet’s Go!!\n\n\n\n“…He will baptize you with the Holy Spirit and fire.”\nMatthew 3:11\n\n\n\n“But you shall receive power when the Holy Spirit has come upon you; and you shall be witnesses to Me in Jerusalem\, and in all Judea and Samaria\, and to the end of the earth.”\nActs 1:8
URL:https://kingdomfire.us/event/guest-speaker-for-church-services-lapeer-michigan-new-beginnings-family-church-2/
LOCATION:New Beginnings Family Church\, 1066 N. Saginaw St.\, Lapeer\, MI\, 48446\, United States
CATEGORIES:Guest Speaker for Church Service
ATTACH;FMTTYPE=image/jpeg:https://kingdomfire.us/wp-content/uploads/2025/03/event-guest-speaker-flyer-1.jpg
ORGANIZER;CN="Pastor Keith Atwood":MAILTO:Pkwood55nbfc@charter.net
END:VEVENT
BEGIN:VEVENT
DTSTART;TZID=UTC:20250406T110000
DTEND;TZID=UTC:20250406T130000
DTSTAMP:20260423T231720
CREATED:20250321T200011Z
LAST-MODIFIED:20250321T200011Z
UID:10000963-1743937200-1743944400@kingdomfire.us
SUMMARY:Guest Speaker for Church Services  |  Lapeer\, Michigan  |  New Beginnings Family Church
DESCRIPTION:LAPEER\, MICHIGAN \n\n\n\nIf you are from “The Thumb” of Michigan and do not have a Home Church or haven’t been to church in a while… we would LOVE to see you at New Beginning Family Church –  Sunday\, April 6th!!\n\n\n\n**Justin was a drug addict for 14 years of his life. In 2018 he was radically and miraculously set free when a chain of events lead to an encounter with Jesus Christ in the middle of a parking lot. Since the surrender of his life\, Justin has seen the miraculous power of The Holy Spirit move mightily through his life and many others around him.**\n\n\n\nJustin will be sharing his testimony and heart at church.\n\n\nYou won’t want to miss this POWERFUL service!\n\nCome expecting and receive your blessing from the Lord!\n\n\n\n Altar Ministry \n Preaching the Kingdom \n Holy Spirit Baptisms \n Fresh Fire \n\n\n\nHallelujah – He’s Alive!!\n\n\nIt’s time to change the world!\nLet’s Go!!\n\n\n\n“…He will baptize you with the Holy Spirit and fire.”\nMatthew 3:11\n\n\n\n“But you shall receive power when the Holy Spirit has come upon you; and you shall be witnesses to Me in Jerusalem\, and in all Judea and Samaria\, and to the end of the earth.”\nActs 1:8
URL:https://kingdomfire.us/event/guest-speaker-for-church-services-lapeer-michigan-new-beginnings-family-church/
LOCATION:New Beginnings Family Church\, 1066 N. Saginaw St.\, Lapeer\, MI\, 48446\, United States
CATEGORIES:Guest Speaker for Church Service
ATTACH;FMTTYPE=image/jpeg:https://kingdomfire.us/wp-content/uploads/2025/03/event-guest-speaker-flyer.jpg
ORGANIZER;CN="Pastor Keith Atwood":MAILTO:Pkwood55nbfc@charter.net
END:VEVENT
END:VCALENDAR