BEGIN:VCALENDAR
VERSION:2.0
PRODID:-//Kingdom Fire - ECPv6.15.20//NONSGML v1.0//EN
CALSCALE:GREGORIAN
METHOD:PUBLISH
X-WR-CALNAME:Kingdom Fire
X-ORIGINAL-URL:https://kingdomfire.us
X-WR-CALDESC:Events for Kingdom Fire
REFRESH-INTERVAL;VALUE=DURATION:PT1H
X-Robots-Tag:noindex
X-PUBLISHED-TTL:PT1H
BEGIN:VTIMEZONE
TZID:UTC
BEGIN:STANDARD
TZOFFSETFROM:+0000
TZOFFSETTO:+0000
TZNAME:UTC
DTSTART:20240101T000000
END:STANDARD
END:VTIMEZONE
BEGIN:VEVENT
DTSTART;TZID=UTC:20250727T100000
DTEND;TZID=UTC:20250727T120000
DTSTAMP:20260423T172220
CREATED:20250623T163942Z
LAST-MODIFIED:20250623T163942Z
UID:10001005-1753610400-1753617600@kingdomfire.us
SUMMARY:Guest Speaker for Church Service  |  Glory House International Ministries  |  Saginaw\, Michigan
DESCRIPTION:Saginaw\, Michigan \n\n\n\nIf you are from Mid-Michigan (and do not have a home church or haven’t been to church in a while) we would LOVE to see you at Glory House International Ministries at 10:00AM – Saginaw\, Michigan on October 20th!\n\n\n\nGuest Speaker:\nEvangelist Justin Fahrenbruch\n\n\n\n**Justin was a drug addict for 14 years of his life. In 2018 he was radically and miraculously set free when a chain of events lead to encounter with Jesus Christ in the middle of a parking lot. Since the surrender of his life\, Justin has seen the dynamic power of God move mightily through his life and many others around him.**\n\n\n\nSharing his testimony and heart at Sunday Service.\nSee you there!
URL:https://kingdomfire.us/event/guest-speaker-for-church-service-glory-house-international-ministries-saginaw-michigan/
LOCATION:Glory House International Ministries\, 3660 Hermansau Rd.\, Saginaw\, PA\, 48603\, United States
CATEGORIES:Guest Speaker for Church Service
ATTACH;FMTTYPE=image/jpeg:https://kingdomfire.us/wp-content/uploads/2025/06/cHURCH-AD-INSTAGRAM-POST-TEMPLATE.jpg
END:VEVENT
END:VCALENDAR