BEGIN:VCALENDAR
VERSION:2.0
PRODID:-//Kingdom Fire - ECPv6.15.20//NONSGML v1.0//EN
CALSCALE:GREGORIAN
METHOD:PUBLISH
X-WR-CALNAME:Kingdom Fire
X-ORIGINAL-URL:https://kingdomfire.us
X-WR-CALDESC:Events for Kingdom Fire
REFRESH-INTERVAL;VALUE=DURATION:PT1H
X-Robots-Tag:noindex
X-PUBLISHED-TTL:PT1H
BEGIN:VTIMEZONE
TZID:UTC
BEGIN:STANDARD
TZOFFSETFROM:+0000
TZOFFSETTO:+0000
TZNAME:UTC
DTSTART:20210101T000000
END:STANDARD
END:VTIMEZONE
BEGIN:VEVENT
DTSTART;TZID=UTC:20250720T180000
DTEND;TZID=UTC:20250720T210000
DTSTAMP:20260424T002457
CREATED:20250623T165803Z
LAST-MODIFIED:20250623T165837Z
UID:10001006-1753034400-1753045200@kingdomfire.us
SUMMARY:Guest Speaker  |  Old-Time Tent Revival  |  Harrison\, Michigan
DESCRIPTION:HARRISON\, MICHIGAN \n\n\n\nTHIS WEEKEND!! YOU WON’T WANT TO MISS IT!!\n July 19th & July 20th \n\n\n\n SATURDAY JULY 19TH | 6:00PM \n\n\n Old-Time Tent Revival \n\n\n\nLocation:\nThe Sprague’s Place\n310 W Larch Rd.\nHarrison\, MI 48625\n\n\n\n Pot-Luck Dinner Will be served @ 6:00PM\n\n\nAnointed praise & worship\n\n\n\nGuest Speaker: Evangelist Justin Fahrenbruch\n\n\n\n Live Band Praise & Worship \nHealing and Deliverance Altar Ministry \nProphetic Words \nPreaching the Kingdom \nWater Baptisms \nFresh Fire \n\n\n\n SUNDAY JULY 20TH | 10:30AM \n\n\n Church Service | House of Miracles \n\n\n\nLocation:\nLeota Community Church\n1946 Muskegon Rd.\nHarrison\, MI 48625\n\n\n\nGuest Speaker: Evangelist Justin Fahrenbruch\n\n\n Justin will be sharing his heart\, testimony and preaching the Kingdom and Stoking the Fire that’s already been lit in this region!\n\n\n\n Come Expecting Your Miracle! \n\n\n**Justin was a drug addict for 14 years of his life. In 2018 he was radically and miraculously set free when a chain of events lead to the surrender of his life to Christ in the middle of a parking lot. Since the surrender of his life\, Justin has seen the dynamic power of God move mightily through his life and many others around him.**\n\n\n\nSEE YOU THIS WEEKEND!
URL:https://kingdomfire.us/event/guest-speaker-old-time-tent-revival-harrison-michigan/
LOCATION:Lance and Jeanie Sprague\, 310 W. Larch Rd.\, Harrison\, MI\, 48625\, United States
CATEGORIES:Revival Services
ATTACH;FMTTYPE=image/jpeg:https://kingdomfire.us/wp-content/uploads/2025/06/Reunion-Church-Event-Flyer-scaled.jpg
END:VEVENT
BEGIN:VEVENT
DTSTART;TZID=UTC:20250720T103000
DTEND;TZID=UTC:20250720T120000
DTSTAMP:20260424T002457
CREATED:20250623T171333Z
LAST-MODIFIED:20250623T171333Z
UID:10001007-1753007400-1753012800@kingdomfire.us
SUMMARY:Guest Speaker for Church Service  |  Leota Community Church  |  Harrison\, Michigan
DESCRIPTION:HARRISON\, MICHIGAN \n\n\n\nYOU WON’T WANT TO MISS THIS!!\n July 19th & July 20th \n\n\n\n SATURDAY JULY 20TH | 6:00PM \n Old-Time Tent Revival \n\n\n\nLocation:\nThe Sprague’s Place\n310 W Larch Rd.\nHarrison\, MI 48625\n\n\n\n Pot-Luck Dinner Will be served @ 6:00PM\n\n\n\nAnointed praise & worship again this year!!\n\n\nGuest Speaker: Evangelist Justin Fahrenbruch \n\n\n\n Live Band Praise & Worship \nHealing and Deliverance Altar Ministry \nProphetic Words \nPreaching the Kingdom \nWater Baptisms \nFresh Fire \n\n\n\n SUNDAY JULY 21ST | 10:30AM \n Church Service | House of Miracles \n\n\n\nLocation:\nLeota Community Church\n1946 Muskegon Rd.\nHarrison\, MI 48625\n\n\n\nGuest Speaker: Evangelist Justin Fahrenbruch \n\n\n Justin will be sharing his heart\, testimony and preaching the Kingdom and Stoking the Fire that’s already been lit in this region!\n\n Come Expecting Your Miracle! \n\n\n\n**Justin was a drug addict for 14 years of his life. In 2018 he was radically and miraculously set free when a chain of events lead to the surrender of his life to Christ in the middle of a parking lot. Since the surrender of his life\, Justin has seen the dynamic power of God move mightily through his life and many others around him.**\n\n\n\nSEE YOU THERE!
URL:https://kingdomfire.us/event/guest-speaker-for-church-service-harrison-michigan/
LOCATION:Leota Community Church\, 1946 Muskegon Rd.\, Harrison\, MI\, 48625\, United States
CATEGORIES:Guest Speaker for Church Service
ATTACH;FMTTYPE=image/jpeg:https://kingdomfire.us/wp-content/uploads/2025/06/Reunion-Church-Event-Flyer-scaled.jpg
END:VEVENT
BEGIN:VEVENT
DTSTART;TZID=UTC:20240720T180000
DTEND;TZID=UTC:20240720T210000
DTSTAMP:20260424T002457
CREATED:20240229T221555Z
LAST-MODIFIED:20240715T221438Z
UID:10000246-1721498400-1721509200@kingdomfire.us
SUMMARY:Guest Speaker | Old Time Tent Revival | Harrison\, MI
DESCRIPTION:HARRISON\, MICHIGAN \n\n\n\nTHIS WEEKEND!! YOU WON’T WANT TO MISS IT!!\n July 20th & July 21st \n\n\n\n SATURDAY JULY 20TH | 6:00PM \n\n\n\n Old-Time Tent Revival \n\n\n\nLocation:\nThe Sprague’s Place\n310 W Larch Rd.\nHarrison\, MI 48625\n\n\n\n Pot-Luck Dinner Will be served @ 6:00PM\n\n\n\nSuper Excited that our good friends\, The Vander Veen Family will be leading anointed praise & worship again this year!!\n\n\n\nGuest Speaker: Evangelist Justin Fahrenbruch\n\n\n\n Live Band Praise & Worship \nHealing and Deliverance Altar Ministry \nProphetic Words \nPreaching the Kingdom \nWater Baptisms \nFresh Fire \n\n\n\n SUNDAY JULY 21ST | 10:30AM \n\n\n Church Service | House of Miracles \n\n\n\nLocation:\nLeota Community Church\n1946 Muskegon Rd.\nHarrison\, MI 48625\n\n\n\nGuest Speaker: Evangelist Justin Fahrenbruch\n\n\n\n Justin will be sharing his heart\, testimony and preaching the Kingdom and Stoking the Fire that’s already been lit in this region!\n\n\n\n Come Expecting Your Miracle! \n\n\n\n**Justin was a drug addict for 14 years of his life. In 2018 he was radically and miraculously set free when a chain of events lead to the surrender of his life to Christ in the middle of a parking lot. Since the surrender of his life\, Justin has seen the dynamic power of God move mightily through his life and many others around him.**\n\n\n\nSEE YOU THIS WEEKEND!
URL:https://kingdomfire.us/event/guest-speaker-old-time-tent-revival-harrison-mi-2/
LOCATION:Lance and Jeanie Sprague\, 310 W. Larch Rd.\, Harrison\, MI\, 48625\, United States
CATEGORIES:Revival Services
ATTACH;FMTTYPE=image/jpeg:https://kingdomfire.us/wp-content/uploads/2024/02/Reunion-Church-Event-Flyer-scaled.jpg
END:VEVENT
BEGIN:VEVENT
DTSTART;TZID=UTC:20230716T103000
DTEND;TZID=UTC:20230716T120000
DTSTAMP:20260424T002457
CREATED:20230426T032713Z
LAST-MODIFIED:20230426T033003Z
UID:10000177-1689503400-1689508800@kingdomfire.us
SUMMARY:Speaking Engagement | Leota Community Church | Harrison\, MI
DESCRIPTION:Evangelist Justin Fahrenbruch will be sharing his heart and preaching the Gospel of the Kingdom in Harrison\, Michigan! \n\n**Justin was a drug addict for 14 years of his life. In 2018 he was radically and miraculously set free when a chain of events lead to the surrender of his life to Christ in the middle of a parking lot. Since the surrender of his life\, Justin has seen the miraculous power of God move mightily through his life and many others around him.**\n\n\n\nHealing Services \nProphetic Words \nFresh Fire\nPreaching the Kingdom \n\n\n\nMiracles signs and wonders!!\nCome Expecting your Breakthrough!
URL:https://kingdomfire.us/event/speaking-engagement-leota-community-church-harrison-mi/
LOCATION:Leota Community Church\, 1946 Muskegon Rd.\, Harrison\, MI\, 48625\, United States
CATEGORIES:Guest Speaker for Church Service
ATTACH;FMTTYPE=image/jpeg:https://kingdomfire.us/wp-content/uploads/2023/04/Leota-Church.jpg
END:VEVENT
BEGIN:VEVENT
DTSTART;TZID=UTC:20230715T180000
DTEND;TZID=UTC:20230715T210000
DTSTAMP:20260424T002457
CREATED:20230426T033331Z
LAST-MODIFIED:20230426T033932Z
UID:10000178-1689444000-1689454800@kingdomfire.us
SUMMARY:Guest Speaker | Old Time Tent Revival | Harrison\, MI
DESCRIPTION:Old Time Tent Revival in Harrison\, Michigan! \nJuly 15th \nJustin will be sharing his heart\, testimony and preaching the Gospel of the Kingdom \n\n\n\nHealing and Deliverance \nProphetic Words \nPreaching the Kingdom \nFresh Fire\n\n\n\n**Justin was a drug addict for 14 years of his life. In 2018 he was radically and miraculously set free when a chain of events lead to the surrender of his life to Christ in the middle of a parking lot. Since the surrender of his life\, Justin has seen the miraculous power of God move mightily through his life and many others around him.** \n6PM – Dinner will be brought in and served daily \n7PM – Service begins! \nLooking forward to seeing you there!
URL:https://kingdomfire.us/event/guest-speaker-old-time-tent-revival-harrison-mi/
LOCATION:Lance and Jeanie Sprague\, 310 W. Larch Rd.\, Harrison\, MI\, 48625\, United States
ATTACH;FMTTYPE=image/jpeg:https://kingdomfire.us/wp-content/uploads/2023/04/Spragues-Revival-scaled.jpg
END:VEVENT
BEGIN:VEVENT
DTSTART;TZID=UTC:20221113T103000
DTEND;TZID=UTC:20221113T120000
DTSTAMP:20260424T002457
CREATED:20221019T220248Z
LAST-MODIFIED:20221019T220248Z
UID:10000146-1668335400-1668340800@kingdomfire.us
SUMMARY:Leota Community Church
DESCRIPTION:Evangelist Justin Fahrenbruch is coming back to HARRISON\, MICHIGAN!! \n\n**Justin was a drug addict for 14 years of his life. In 2018 he was radically and miraculously set free when a chain of events lead to the surrender of his life to Christ in the middle of a parking lot. Since the surrender of his life\, Justin has seen the miraculous power of God move mightily through his life and many others around him.**\n\n\n\nHealing Services \nProphetic Words \nPreaching the Kingdom \nFresh Revival Fire\n\n\n\nMiracles signs and wonders!!\nCome Expecting your Breakthrough!\n\n\n\nHallelujah – He’s Alive!\nLet’s Go!!\n\n\n\n“And they went out and preached everywhere\, the Lord working with them and confirming the word through the accompanying signs. Amen.”\nMark 16:20\n\n 
URL:https://kingdomfire.us/event/leota-community-church/
LOCATION:Leota Community Church\, 1946 Muskegon Rd.\, Harrison\, MI\, 48625\, United States
CATEGORIES:Guest Speaker for Church Service
ATTACH;FMTTYPE=image/png:https://kingdomfire.us/wp-content/uploads/2022/10/Leoto-Community-Church-Flyer.png
END:VEVENT
BEGIN:VEVENT
DTSTART;TZID=UTC:20220716T180000
DTEND;TZID=UTC:20220716T210000
DTSTAMP:20260424T002457
CREATED:20220622T205905Z
LAST-MODIFIED:20220622T210133Z
UID:10000132-1657994400-1658005200@kingdomfire.us
SUMMARY:Old Time Tent Revival in Harrison\, Michigan
DESCRIPTION:Old Time Tent Revival in Harrison\, Michigan! \nJuly 14th – July 17th \nJustin will be sharing his heart\, testimony and preaching the Gospel on Saturday\, June 16th \n\n\n\nHealing and Deliverance \nProphetic Words \nPreaching the Kingdom \nFresh Fire\n\n\n\n**Justin was a drug addict for 14 years of his life. In 2018 he was radically and miraculously set free when a chain of events lead to the surrender of his life to Christ in the middle of a parking lot. Since the surrender of his life\, Justin has seen the miraculous power of God move mightily through his life and many others around him.** \n6PM – Dinner will be brought in and served daily \n7PM – Service begins! \nLooking forward to seeing you there!
URL:https://kingdomfire.us/event/old-time-tent-revival-in-harrison-michigan/
LOCATION:Lance and Jeanie Sprague\, 310 W. Larch Rd.\, Harrison\, MI\, 48625\, United States
CATEGORIES:Guest Speaker for Church Service
END:VEVENT
BEGIN:VEVENT
DTSTART;TZID=UTC:20220612T103000
DTEND;TZID=UTC:20220612T130000
DTSTAMP:20260424T002457
CREATED:20220517T221848Z
LAST-MODIFIED:20220524T220747Z
UID:10000123-1655029800-1655038800@kingdomfire.us
SUMMARY:Preaching at Leota Community Church - "House of Miracles" – Harrison\, MI
DESCRIPTION:Evangelist Justin Fahrenbruch will be sharing his heart and preaching the Gospel of the Kingdom in Harrison\, Michigan! \n\n**Justin was a drug addict for 14 years of his life. In 2018 he was radically and miraculously set free when a chain of events lead to the surrender of his life to Christ in the middle of a parking lot. Since the surrender of his life\, Justin has seen the miraculous power of God move mightily through his life and many others around him.**\n\n\n\nHealing Services \nProphetic Words \nFresh Fire\nPreaching the Kingdom \n\n\n\nMiracles signs and wonders!!\nCome Expecting your Breakthrough!
URL:https://kingdomfire.us/event/preaching-at-leota-community-church-house-of-miracles-harrison-mi/
LOCATION:Leota Community Church\, 1946 Muskegon Rd.\, Harrison\, MI\, 48625\, United States
CATEGORIES:Guest Speaker for Church Service
END:VEVENT
END:VCALENDAR