BEGIN:VCALENDAR
VERSION:2.0
PRODID:-//Kingdom Fire - ECPv6.15.20//NONSGML v1.0//EN
CALSCALE:GREGORIAN
METHOD:PUBLISH
X-ORIGINAL-URL:https://kingdomfire.us
X-WR-CALDESC:Events for Kingdom Fire
REFRESH-INTERVAL;VALUE=DURATION:PT1H
X-Robots-Tag:noindex
X-PUBLISHED-TTL:PT1H
BEGIN:VTIMEZONE
TZID:UTC
BEGIN:STANDARD
TZOFFSETFROM:+0000
TZOFFSETTO:+0000
TZNAME:UTC
DTSTART:20230101T000000
END:STANDARD
END:VTIMEZONE
BEGIN:VEVENT
DTSTART;VALUE=DATE:20250901
DTEND;VALUE=DATE:20250902
DTSTAMP:20260424T040355
CREATED:20250421T200403Z
LAST-MODIFIED:20250421T200403Z
UID:10000975-1756684800-1756771199@kingdomfire.us
SUMMARY:Labor Day Camp Revival  ||  Special Speaker for Revival Services  ||  Sinner Saved Ministries - Columbiaville\, MI
DESCRIPTION:Sinner Saved Ministries 4th Annual \nLABOR DAY CAMP REVIVAL \n  \nSpecial Guest Speakers: \nPastor Gene Hewitt \nEvangelist Justin Fahrenbruch \n  \nRE-FOCUS  |  RE-FLECT  |  RE-NEW  |  RE-IGNITE \n  \nAugust 28th – September 1st 2025 \nMorning/Evening Worship and Revival Services \n-Community Meals \n-Kid Church \n\nFull RV hook-ups\ncabin rentals\nThursday Night Family Game Night & More!\n\n  \nMore information @ www.sinnersaved.net \nReservation w/ Mary @  810-545-0159
URL:https://kingdomfire.us/event/labor-day-camp-revival-special-speaker-for-revival-services-sinner-saved-ministries-columbiaville-mi-5/
LOCATION:Crystal Creek Christian Campground\, 5353 N Lapeer Rd.\, Columbiaville\, MI\, 48421\, United States
CATEGORIES:Guest Speaker for Special Event
ATTACH;FMTTYPE=image/jpeg:https://kingdomfire.us/wp-content/uploads/2025/04/491601315_1316836523357065_6890010418351700980_n.jpg
ORGANIZER;CN="Pastor Jason McCory":MAILTO:Jason@sinnersaved.net
END:VEVENT
BEGIN:VEVENT
DTSTART;VALUE=DATE:20250831
DTEND;VALUE=DATE:20250901
DTSTAMP:20260424T040355
CREATED:20250421T200130Z
LAST-MODIFIED:20250421T200130Z
UID:10000974-1756598400-1756684799@kingdomfire.us
SUMMARY:Labor Day Camp Revival  ||  Special Speaker for Revival Services  ||  Sinner Saved Ministries - Columbiaville\, MI
DESCRIPTION:Sinner Saved Ministries 4th Annual \nLABOR DAY CAMP REVIVAL \n  \nSpecial Guest Speakers: \nPastor Gene Hewitt \nEvangelist Justin Fahrenbruch \n  \nRE-FOCUS  |  RE-FLECT  |  RE-NEW  |  RE-IGNITE \n  \nAugust 28th – September 1st 2025 \nMorning/Evening Worship and Revival Services \n-Community Meals \n-Kid Church \n\nFull RV hook-ups\ncabin rentals\nThursday Night Family Game Night & More!\n\n  \nMore information @ www.sinnersaved.net \nReservation w/ Mary @  810-545-0159
URL:https://kingdomfire.us/event/labor-day-camp-revival-special-speaker-for-revival-services-sinner-saved-ministries-columbiaville-mi-4/
LOCATION:Crystal Creek Christian Campground\, 5353 N Lapeer Rd.\, Columbiaville\, MI\, 48421\, United States
CATEGORIES:Guest Speaker for Special Event
ATTACH;FMTTYPE=image/jpeg:https://kingdomfire.us/wp-content/uploads/2025/04/491601315_1316836523357065_6890010418351700980_n.jpg
ORGANIZER;CN="Pastor Jason McCory":MAILTO:Jason@sinnersaved.net
END:VEVENT
BEGIN:VEVENT
DTSTART;VALUE=DATE:20250830
DTEND;VALUE=DATE:20250831
DTSTAMP:20260424T040355
CREATED:20250421T195910Z
LAST-MODIFIED:20250421T195910Z
UID:10000973-1756512000-1756598399@kingdomfire.us
SUMMARY:Labor Day Camp Revival  ||  Special Speaker for Revival Services  ||  Sinner Saved Ministries - Columbiaville\, MI
DESCRIPTION:Sinner Saved Ministries 4th Annual \nLABOR DAY CAMP REVIVAL \n  \nSpecial Guest Speakers: \nPastor Gene Hewitt \nEvangelist Justin Fahrenbruch \n  \nRE-FOCUS  |  RE-FLECT  |  RE-NEW  |  RE-IGNITE \n  \nAugust 28th – September 1st 2025 \nMorning/Evening Worship and Revival Services \n-Community Meals \n-Kid Church \n\nFull RV hook-ups\ncabin rentals\nThursday Night Family Game Night & More!\n\n  \nMore information @ www.sinnersaved.net \nReservation w/ Mary @  810-545-0159
URL:https://kingdomfire.us/event/labor-day-camp-revival-special-speaker-for-revival-services-sinner-saved-ministries-columbiaville-mi-3/
LOCATION:Crystal Creek Christian Campground\, 5353 N Lapeer Rd.\, Columbiaville\, MI\, 48421\, United States
CATEGORIES:Guest Speaker for Special Event
ATTACH;FMTTYPE=image/jpeg:https://kingdomfire.us/wp-content/uploads/2025/04/491601315_1316836523357065_6890010418351700980_n.jpg
ORGANIZER;CN="Pastor Jason McCory":MAILTO:Jason@sinnersaved.net
END:VEVENT
BEGIN:VEVENT
DTSTART;VALUE=DATE:20250829
DTEND;VALUE=DATE:20250830
DTSTAMP:20260424T040355
CREATED:20250421T195629Z
LAST-MODIFIED:20250421T195629Z
UID:10000972-1756425600-1756511999@kingdomfire.us
SUMMARY:Labor Day Camp Revival  ||  Special Speaker for Revival Services  ||  Sinner Saved Ministries - Columbiaville\, MI
DESCRIPTION:Sinner Saved Ministries 4th Annual \nLABOR DAY CAMP REVIVAL \n  \nSpecial Guest Speakers: \nPastor Gene Hewitt \nEvangelist Justin Fahrenbruch \n  \nRE-FOCUS  |  RE-FLECT  |  RE-NEW  |  RE-IGNITE \n  \nAugust 28th – September 1st 2025 \nMorning/Evening Worship and Revival Services \n-Community Meals \n-Kid Church \n\nFull RV hook-ups\ncabin rentals\nThursday Night Family Game Night & More!\n\n  \nMore information @ www.sinnersaved.net \nReservation w/ Mary @  810-545-0159
URL:https://kingdomfire.us/event/labor-day-camp-revival-special-speaker-for-revival-services-sinner-saved-ministries-columbiaville-mi-2/
LOCATION:Crystal Creek Christian Campground\, 5353 N Lapeer Rd.\, Columbiaville\, MI\, 48421\, United States
CATEGORIES:Guest Speaker for Special Event
ATTACH;FMTTYPE=image/jpeg:https://kingdomfire.us/wp-content/uploads/2025/04/491601315_1316836523357065_6890010418351700980_n.jpg
ORGANIZER;CN="Pastor Jason McCory":MAILTO:Jason@sinnersaved.net
END:VEVENT
BEGIN:VEVENT
DTSTART;VALUE=DATE:20250828
DTEND;VALUE=DATE:20250829
DTSTAMP:20260424T040355
CREATED:20250421T195309Z
LAST-MODIFIED:20250421T195345Z
UID:10000971-1756339200-1756425599@kingdomfire.us
SUMMARY:Labor Day Camp Revival  ||  Special Speaker for Revival Services  ||  Sinner Saved Ministries - Columbiaville\, MI
DESCRIPTION:Sinner Saved Ministries 4th Annual \nLABOR DAY CAMP REVIVAL \n  \nSpecial Guest Speakers: \nPastor Gene Hewitt \nEvangelist Justin Fahrenbruch \n  \nRE-FOCUS  |  RE-FLECT  |  RE-NEW  |  RE-IGNITE \n  \nAugust 28th – September 1st 2025 \nMorning/Evening Worship and Revival Services \n-Community Meals \n-Kid Church \n\nFull RV hook-ups\ncabin rentals\nThursday Night Family Game Night & More!\n\n  \nMore information @ www.sinnersaved.net \nReservation w/ Mary @  810-545-0159
URL:https://kingdomfire.us/event/labor-day-camp-revival-special-speaker-for-revival-services-sinner-saved-ministries-columbiaville-mi/
LOCATION:Crystal Creek Christian Campground\, 5353 N Lapeer Rd.\, Columbiaville\, MI\, 48421\, United States
CATEGORIES:Guest Speaker for Special Event
ATTACH;FMTTYPE=image/jpeg:https://kingdomfire.us/wp-content/uploads/2025/04/491601315_1316836523357065_6890010418351700980_n.jpg
ORGANIZER;CN="Pastor Jason McCory":MAILTO:Jason@sinnersaved.net
END:VEVENT
BEGIN:VEVENT
DTSTART;TZID=UTC:20240317T170000
DTEND;TZID=UTC:20240317T210000
DTSTAMP:20260424T040355
CREATED:20240229T214959Z
LAST-MODIFIED:20240304T225052Z
UID:10000242-1710694800-1710709200@kingdomfire.us
SUMMARY:Sinner Saved - St. Patrick's Day Service | Guest Speaker - Justin Fahrenbruch | Fostoria\, Michigan
DESCRIPTION:FOSTORIA\, MICHIGAN \n\n\n\nIf you are from The Thumb (and do not have a home church or haven’t been to church in a while) we would LOVE to see you at Sinner Saved Ministries in Fostoria\, Michigan – March 17th\, 2024!!\n\n\n\nGuest Speaker:\nEvangelist Justin Fahrenbruch will be sharing his testimony and heart on some things you might not know about the true Saint Patrick… and preaching the Kingdom of course!\n\n\n\n**Justin was a drug addict for 14 years of his life. In 2018 he was radically and miraculously set free when a chain of events lead to an encounter with Jesus Christ in the middle of a parking lot. Since the surrender of his life\, Justin has seen the dynamic power of The Holy Spirit move mightily through his life and many others around him.**\n\n\n\nYou won’t want to miss this POWERFUL service!\nCome expecting and receive your blessing from the Lord.\n\n\n\nIt’s time to change the world!\nLet’s Go!!\n\n\n\n\n\n\n“And this gospel of the KINGDOM will be preached in all the world as a witness to all the nations\, and then the end will come.”\n Matthew 24:14\n\n\n\n“…He will baptize you with the Holy Spirit and FIRE.”\n Matthew 3:11
URL:https://kingdomfire.us/event/sinner-saved-st-patricks-day-service-guest-speaker-justin-fahrenbruch-fostoria-michigan/
LOCATION:Sinner Saved Ministries\, 6886 Oliver Rd.\, Fostoria\, MI\, 48435\, United States
CATEGORIES:Guest Speaker for Church Service
ORGANIZER;CN="Pastor Jason McCory":MAILTO:Jason@sinnersaved.net
END:VEVENT
END:VCALENDAR