BEGIN:VCALENDAR
VERSION:2.0
PRODID:-//Kingdom Fire - ECPv6.15.20//NONSGML v1.0//EN
CALSCALE:GREGORIAN
METHOD:PUBLISH
X-ORIGINAL-URL:https://kingdomfire.us
X-WR-CALDESC:Events for Kingdom Fire
REFRESH-INTERVAL;VALUE=DURATION:PT1H
X-Robots-Tag:noindex
X-PUBLISHED-TTL:PT1H
BEGIN:VTIMEZONE
TZID:UTC
BEGIN:STANDARD
TZOFFSETFROM:+0000
TZOFFSETTO:+0000
TZNAME:UTC
DTSTART:20220101T000000
END:STANDARD
END:VTIMEZONE
BEGIN:VEVENT
DTSTART;TZID=UTC:20241020T100000
DTEND;TZID=UTC:20241020T120000
DTSTAMP:20260424T014951
CREATED:20240910T195931Z
LAST-MODIFIED:20240910T195931Z
UID:10000291-1729418400-1729425600@kingdomfire.us
SUMMARY:Guest Speaker | Glory House International Ministries | Saginaw\, MI
DESCRIPTION:Saginaw\, Michigan \n\n\n\nIf you are from Mid-Michigan (and do not have a home church or haven’t been to church in a while) we would LOVE to see you at Glory House International Ministries at 10:00AM – Saginaw\, Michigan on October 20th!\n\n\n\nGuest Speaker:\nEvangelist Justin Fahrenbruch\n\n\n\n**Justin was a drug addict for 14 years of his life. In 2018 he was radically and miraculously set free when a chain of events lead to the surrender of his life to Christ in the middle of a parking lot. Since the surrender of his life\, Justin has seen the miraculous power of God move mightily through his life and many others around him.**\n\n\n\nSharing his testimony and heart at Sunday Service.\n\n\n\n\n\nIt’s going to be an amazing time together in the Lord!\nCome Expecting!\n\n\n\nSee you this Sunday\nLet’s Go!
URL:https://kingdomfire.us/event/guest-speaker-glory-house-international-ministries-saginaw-mi/
LOCATION:Glory House International Ministries\, 3660 Hermansau Rd.\, Saginaw\, PA\, 48603\, United States
CATEGORIES:Guest Speaker for Church Service
ATTACH;FMTTYPE=image/jpeg:https://kingdomfire.us/wp-content/uploads/2024/09/cHURCH-AD-INSTAGRAM-POST-TEMPLATE-1.jpg
END:VEVENT
BEGIN:VEVENT
DTSTART;TZID=UTC:20231111T093000
DTEND;TZID=UTC:20231111T170000
DTSTAMP:20260424T014951
CREATED:20231024T192845Z
LAST-MODIFIED:20231024T192915Z
UID:10000219-1699695000-1699722000@kingdomfire.us
SUMMARY:Guest Teacher:  "The Believer's Authority" | Glory House International Ministries - Saginaw\, MI| Healing Room Training
DESCRIPTION:HEALING ROOM TRAINING @ Glory House International Ministries! \nFALL 2023 Training: \nTwo Consecutive weekends: Friday November 3rd and Saturday 4th & Friday\, November 10th and Saturday\, November 11th. \nFridays:  6:30PM – 9:30PM \nSaturdays: 9:30AM – 5:00PM \n  \n*There is NO CHARGE for the training; however a love offering will be taken.* \n-No child care available- \nTo Register Call (989) 752-4769  or go to www.svcc.cc \n  \nJUSTIN FAHRENBRUCH will be a GUEST TEACHER on November 11th teaching on “The Believer’s Authority” at  9:30AM. \nWe encourage you to take the ENTIRE training if you’d like to hear more about how to minister healing and deliverance through the power of the Holy Spirit. \n  \nLooking forward to seeing you there!
URL:https://kingdomfire.us/event/guest-teacher-the-believers-authority-glory-house-international-ministries-saginaw-mi-healing-room-training/
LOCATION:Glory House International Ministries\, 3660 Hermansau Rd.\, Saginaw\, PA\, 48603\, United States
CATEGORIES:Guest Speaker at Conference
ATTACH;FMTTYPE=image/jpeg:https://kingdomfire.us/wp-content/uploads/2023/10/sunday-service-template-scaled.jpg
END:VEVENT
END:VCALENDAR