BEGIN:VCALENDAR
VERSION:2.0
PRODID:-//Kingdom Fire - ECPv6.15.20//NONSGML v1.0//EN
CALSCALE:GREGORIAN
METHOD:PUBLISH
X-WR-CALNAME:Kingdom Fire
X-ORIGINAL-URL:https://kingdomfire.us
X-WR-CALDESC:Events for Kingdom Fire
REFRESH-INTERVAL;VALUE=DURATION:PT1H
X-Robots-Tag:noindex
X-PUBLISHED-TTL:PT1H
BEGIN:VTIMEZONE
TZID:UTC
BEGIN:STANDARD
TZOFFSETFROM:+0000
TZOFFSETTO:+0000
TZNAME:UTC
DTSTART:20220101T000000
END:STANDARD
END:VTIMEZONE
BEGIN:VEVENT
DTSTART;TZID=UTC:20241027T120000
DTEND;TZID=UTC:20241027T170000
DTSTAMP:20260424T063556
CREATED:20241016T171243Z
LAST-MODIFIED:20241016T171243Z
UID:10000295-1730030400-1730048400@kingdomfire.us
SUMMARY:Fall Block Party || Flint Driven Church || Flint\, Michigan
DESCRIPTION:FREE COMMUNITY EVENT!  \nBaptisms\, Prayer\, Hotdogs\, Cider\, Donuts\, and Giveaways!!! \nThere will be live Praise and Worship and The Gospel Shared!  Bring out the Family and Come Have Some Fun! \n\nThe Littles will be able to paint a pumpkin to take home!!\n\n\n\nWant to know what’s happening at this year’s Fall Block Party???\n\n\n\n*Live Praise & Worship\n*Baptisms\n*Prayer\n*Gaming Truck\n*Candy\n*Smore Barrels\n*Pumpkin Painting Tent\n*Games\n*Donuts and Cider\n*Popcorn\n*Giveaways\n\n\n\nDid I mention… EVERYTHING IS FREE!!!!!
URL:https://kingdomfire.us/event/fall-block-party-flint-driven-church-flint-michigan/
LOCATION:Flint Driven Church\, 2901 Brown St.\, Flint\, MI\, 48503\, United States
CATEGORIES:Evangelism Outreach
ATTACH;FMTTYPE=image/jpeg:https://kingdomfire.us/wp-content/uploads/2024/10/461452282_950054787158905_7560802263753877981_n.jpg
END:VEVENT
BEGIN:VEVENT
DTSTART;TZID=UTC:20240204T180000
DTEND;TZID=UTC:20240204T210000
DTSTAMP:20260424T063556
CREATED:20240103T024950Z
LAST-MODIFIED:20240103T025019Z
UID:10000234-1707069600-1707080400@kingdomfire.us
SUMMARY:Freedom Nights | Healing & Deliverance | Flint\, Michigan
DESCRIPTION:“Freedom Nights” at Flint Driven Church in Flint\, Michigan!\n\nEvangelist Justin Fahrenbruch will be FIRED UP and bringing the word about healing\, deliverance\, & spiritual warfare!  Afterwards there will be a time of personal ministry for everyone and anyone in need. A night of FREEDOM!!\n\nFREE and open to the Public!\n\nAdvancing the Kingdom\nIgniting a Fire\n\nLet’s Go! 
URL:https://kingdomfire.us/event/freedom-nights-healing-deliverance-flint-michigan/
LOCATION:Flint Driven Church\, 2901 Brown St.\, Flint\, MI\, 48503\, United States
CATEGORIES:Guest Speaker for Special Event
ATTACH;FMTTYPE=image/jpeg:https://kingdomfire.us/wp-content/uploads/2024/01/Freedom-Nights-February-scaled.jpg
END:VEVENT
BEGIN:VEVENT
DTSTART;TZID=UTC:20240107T120000
DTEND;TZID=UTC:20240107T140000
DTSTAMP:20260424T063556
CREATED:20240101T215259Z
LAST-MODIFIED:20240102T023340Z
UID:10000232-1704628800-1704636000@kingdomfire.us
SUMMARY:Guest Speaker for Church Service | Flint Driven Church | Flint\, Michigan
DESCRIPTION:🚨FLINT\, MICHIGAN🚨 \nIf you are from Mid-Michigan (and do not have a home church or haven’t been to church in a while) we would LOVE to see you at Flint Driven Church in Flint\, Michigan on January 7th!! \nGuest Speaker: Evangelist Justin Fahrenbruch will be sharing his heart on how to identify individual “Spiritual Giftings” and walking in your God-given purpose… On purpose. \n💥 Setting the tone for 2024 💥 \nYou won’t want to miss this POWERFUL service!\nCome and receive your blessing from the Lord. \n**Justin was a drug addict for 14 years of his life. In 2018 he was radically and miraculously set free when a chain of events lead to an encounter with Jesus Christ in the middle of a parking lot. Since the surrender of his life\, Justin has seen the miraculous power of The Holy Spirit move mightily through his life and many others around him.** \n🖐🏼 Healing and Deliverance Altar Ministry 🖐🏼\n💨 Prophetic Words 💨\n👑 Preaching the Kingdom 👑\n🕊 Holy Spirit Baptisms 🕊\n🔥 Fresh Fire 🔥 \nMiracles signs and wonders!!\nCome Expecting your Breakthrough! \nHallelujah – He’s Alive! \nIt’s time to change the world!\nLet’s Go!!
URL:https://kingdomfire.us/event/guest-speaker-for-church-service-flint-driven-church-flint-michigan/
LOCATION:Flint Driven Church\, 2901 Brown St.\, Flint\, MI\, 48503\, United States
CATEGORIES:Guest Speaker for Church Service
ATTACH;FMTTYPE=image/jpeg:https://kingdomfire.us/wp-content/uploads/2024/01/Church-Communion-Service-Template-scaled.jpg
END:VEVENT
BEGIN:VEVENT
DTSTART;TZID=UTC:20230415T140000
DTEND;TZID=UTC:20230415T170000
DTSTAMP:20260424T063556
CREATED:20230329T175520Z
LAST-MODIFIED:20230329T175520Z
UID:10000160-1681567200-1681578000@kingdomfire.us
SUMMARY:Evangelism Activation Outreach - Soup Kitchen - Flint\, MI
DESCRIPTION:Saturday\, April 15th\nNorth End Soup Kitchen – 735 E. Stewart Ave.  Flint\, MI 48505\n\n\n🕑 2:00PM – 5:00PM 🕑 \nWe will be joining hands with our local church family – Flint Driven Church  \nIf you’re looking for an opportunity to get outside the 4-walls of the church building\, make a positive difference in the community and also share your faith with others.  This is a great opportunity for you.  Come join us as we serve the homeless and those in need in Flint\, Michigan. \nCome on out and join us! \nWe would love to have you come join hands with us and to be a blessing to the city of Flint.
URL:https://kingdomfire.us/event/evangelism-activation-outreach-soup-kitchen-flint-mi-2/
LOCATION:North End Soup Kitchen\, 735 E. Stewart Ave.\, Flint\, MI\, 48505\, United States
CATEGORIES:Evangelism Outreach
ATTACH;FMTTYPE=image/jpeg:https://kingdomfire.us/wp-content/uploads/2023/03/Soup-Kitchen-Pic.jpg
END:VEVENT
BEGIN:VEVENT
DTSTART;TZID=UTC:20230407T170000
DTEND;TZID=UTC:20230407T190000
DTSTAMP:20260424T063556
CREATED:20230329T174259Z
LAST-MODIFIED:20230329T174259Z
UID:10000109-1680886800-1680894000@kingdomfire.us
SUMMARY:Good Friday Church Service at BLIGHT Restoration Center
DESCRIPTION:Our home church – Flint Driven Church – is hosting an evangelistic style “Good Friday” service this weekend! \nB LIGHT RESTORATION CENTER is home to many of those struggling with addiction\, homelessness and those that are in a tough spot throughout the city of Flint.  They open their doors throughout the year to help those in need.  We often serve in the winter to those in need and always incorporate the love of Jesus Christ and share the Gospel with everyone we come into contact with. \nThey’ve invited us (Flint Driven Church) for a Special Service for GOOD FRIDAY. \nWe will be serving those in need dinner and having a church service directly afterward! \nCome on out and join us!
URL:https://kingdomfire.us/event/good-friday-church-service-at-blight-restoration-center/
LOCATION:B Light Restoration Cener\, 805 Martin Luther King Ave.\, Flint\, MI\, 48503\, United States
CATEGORIES:Church Event
ATTACH;FMTTYPE=image/jpeg:https://kingdomfire.us/wp-content/uploads/2023/03/Good-Friday-Flyer.jpg
END:VEVENT
END:VCALENDAR