BEGIN:VCALENDAR
VERSION:2.0
PRODID:-//Kingdom Fire - ECPv6.15.20//NONSGML v1.0//EN
CALSCALE:GREGORIAN
METHOD:PUBLISH
X-ORIGINAL-URL:https://kingdomfire.us
X-WR-CALDESC:Events for Kingdom Fire
REFRESH-INTERVAL;VALUE=DURATION:PT1H
X-Robots-Tag:noindex
X-PUBLISHED-TTL:PT1H
BEGIN:VTIMEZONE
TZID:UTC
BEGIN:STANDARD
TZOFFSETFROM:+0000
TZOFFSETTO:+0000
TZNAME:UTC
DTSTART:20220101T000000
END:STANDARD
END:VTIMEZONE
BEGIN:VEVENT
DTSTART;TZID=UTC:20230812T130000
DTEND;TZID=UTC:20230812T200000
DTSTAMP:20260424T080112
CREATED:20230809T215841Z
LAST-MODIFIED:20230809T215841Z
UID:10000193-1691845200-1691870400@kingdomfire.us
SUMMARY:Baptized By Fire | Community Outreach & BBQ
DESCRIPTION:Friends in MID-MICHIGAN \n“Baptized By Fire | Community Outreach and BBQ”\n\n\n\n It’s going down in HARRISON\, MICHIGAN! \n\n\n\nThis is 100% FREE so bring your families and friends to join us!\n\n\nJoin us Saturday Afternoon [August 12th] 1:00PM at Deb’s Flee Market\, 4600 N Clare Ave. Harrison\, MI 48625.\n\n\n\nFREE FAMILY  FUN\n\n\n Live Band Praise and Worship \n Free Food \n Local Testimonies \n 20 Foot Inflatable Waterslide \n Dodgeball Arena \n Multiple Bounce Houses \n Corn Hole Tournament \n\n\n\nWe are going to have a blast!!\nSee you there!
URL:https://kingdomfire.us/event/baptized-by-fire-community-outreach-bbq/
LOCATION:Deb’s Flee Market\, 4600 N Clare Ave.\, Harrison\, MI\, 48625\, United States
CATEGORIES:Evangelism Outreach
ATTACH;FMTTYPE=image/jpeg:https://kingdomfire.us/wp-content/uploads/2023/08/364046132_1037584714077726_950023631611310376_n.jpg
END:VEVENT
END:VCALENDAR