BEGIN:VCALENDAR
VERSION:2.0
PRODID:-//Kingdom Fire - ECPv6.15.20//NONSGML v1.0//EN
CALSCALE:GREGORIAN
METHOD:PUBLISH
X-ORIGINAL-URL:https://kingdomfire.us
X-WR-CALDESC:Events for Kingdom Fire
REFRESH-INTERVAL;VALUE=DURATION:PT1H
X-Robots-Tag:noindex
X-PUBLISHED-TTL:PT1H
BEGIN:VTIMEZONE
TZID:UTC
BEGIN:STANDARD
TZOFFSETFROM:+0000
TZOFFSETTO:+0000
TZNAME:UTC
DTSTART:20230101T000000
END:STANDARD
END:VTIMEZONE
BEGIN:VEVENT
DTSTART;TZID=UTC:20240803T150000
DTEND;TZID=UTC:20240803T223000
DTSTAMP:20260424T151718
CREATED:20240703T000346Z
LAST-MODIFIED:20240703T000417Z
UID:10000274-1722697200-1722724200@kingdomfire.us
SUMMARY:HOPEFEST // Community FUN Festival - Outreach // Imlay City\, MI
DESCRIPTION:FRIENDS IN THE THUMB OF MI \n\n\nMark your calendars! You won’t want to miss this!!\n\n\n EASTERN MI. STATE FAIRGROUND – IMLAY CITY\, MICHIGAN \n\n Saturday – August 3rd\, 2024 \n\n\n\n🕒 STARTING @ 3:00PM! 🕒\n\n\n\nFREE  FAMILY  FUN\n  UNITY IN THE COMMUNITY | FESTIVAL \n\n\n\n▪️  “The Thumb” Pastors and Leaders are coming together to UNITE & IGNITE the region as churches and ministries from all over the area come together to bring HOPE to IMLAY CITY\, MICHIGAN!!  \n\n▪️  Come get your PRAISE ON as LifeSong Church’s Worship Team lights up the atmosphere & Guest Speaker Evangelist\, Justin Fahrenbruch delivers a message of HOPE\, KINGDOM FIRE and FREEDOM!\n\n\n\n Live Band Praise & Worship \n Bounce Houses \n Food Trucks \n Games and Activities \n🎫 Raffles and Give-a-Ways! 🎫 \n Sharing Testimonies \n Water Baptisms \n Holy Spirit Preaching/Teaching \n Fresh Fire & Baptisms \n\n\n\nLocation:\nEastern Michigan State Fairgrounds\n195 Midway Street\nImlay City\, MI 48444\n\n\n\n📣  If your business\, church or ministry would like an opportunity to SPONSOR A TABLE at this event\, we would LOVE to have YOU with us!  \nContact Lisa @ HopeFest24@Gmail.com for additional information\n\n\n\n\n\nHelp us get the word out! Invite your friends and Share this event to your social media page. See you there!!
URL:https://kingdomfire.us/event/hopefest-community-fun-festival-in-imlay-city/
LOCATION:Eastern Michigan State Fairgrounds\, 195 Midway Street\, Imlay City\, MI\, 48444\, United States
ATTACH;FMTTYPE=image/jpeg:https://kingdomfire.us/wp-content/uploads/2024/07/449522876_1227380911764771_5186551197086459379_n.jpg
ORGANIZER;CN="Lisa Super":MAILTO:superlisam@yahoo.com
END:VEVENT
END:VCALENDAR