BEGIN:VCALENDAR
VERSION:2.0
PRODID:-//Kingdom Fire - ECPv6.15.20//NONSGML v1.0//EN
CALSCALE:GREGORIAN
METHOD:PUBLISH
X-WR-CALNAME:Kingdom Fire
X-ORIGINAL-URL:https://kingdomfire.us
X-WR-CALDESC:Events for Kingdom Fire
REFRESH-INTERVAL;VALUE=DURATION:PT1H
X-Robots-Tag:noindex
X-PUBLISHED-TTL:PT1H
BEGIN:VTIMEZONE
TZID:UTC
BEGIN:STANDARD
TZOFFSETFROM:+0000
TZOFFSETTO:+0000
TZNAME:UTC
DTSTART:20210101T000000
END:STANDARD
END:VTIMEZONE
BEGIN:VEVENT
DTSTART;TZID=UTC:20250907T120000
DTEND;TZID=UTC:20250907T150000
DTSTAMP:20260424T015010
CREATED:20250216T214735Z
LAST-MODIFIED:20250216T214735Z
UID:10000701-1757246400-1757257200@kingdomfire.us
SUMMARY:"Community United" |  Flint\, MI  | Evangelism Community Outreach
DESCRIPTION:“Community United”\nFREE – FAMILY – FUN\n\n\n\nFree Food Provided ALL – Weekend long!\nBounce Houses Face Painting Balloons\nVolleyball KickBall Games\nCornHole Tournament Prizes\nLive Worship Bands Prayer Tents\nFREE Raffles and Give-A-ways!!\n\n\n\nCome join us again in FLINT\, MICHIGAN for our BIGGEST event of the year!!!\n\n\nYOU DON’T WANT TO MISS THIS!!!\n\nDates:\nFriday September 5th\nSaturday September 6th\nSunday September 7th\n\n\nLocation:\nSarginson Park\n1400 Beaver Ave.\nFlint\, MI 48503\n\n\nHosted By:\nFlint Driven Church\nKingdom Fire Ministries
URL:https://kingdomfire.us/event/community-united-flint-mi-evangelism-community-outreach-3/
LOCATION:Sarginson Park\, 1400 Beaver Ave.\, Flint\, MI\, 48503\, United States
CATEGORIES:Evangelism Outreach
ATTACH;FMTTYPE=image/jpeg:https://kingdomfire.us/wp-content/uploads/2025/02/469997300_1339651923871002_3242752230925459588_n.jpg
ORGANIZER;CN="Kingdom Fire Ministries":MAILTO:Admin@Kingdomfire.us
END:VEVENT
BEGIN:VEVENT
DTSTART;TZID=UTC:20250906T140000
DTEND;TZID=UTC:20250906T210000
DTSTAMP:20260424T015010
CREATED:20250216T214522Z
LAST-MODIFIED:20250216T214522Z
UID:10000700-1757167200-1757192400@kingdomfire.us
SUMMARY:"Community United" |  Flint\, MI  | Evangelism Community Outreach
DESCRIPTION:“Community United”\nFREE – FAMILY – FUN\n\n\n\nFree Food Provided ALL – Weekend long!\nBounce Houses Face Painting Balloons\nVolleyball KickBall Games\nCornHole Tournament Prizes\nLive Worship Bands Prayer Tents\nFREE Raffles and Give-A-ways!!\n\n\n\nCome join us again in FLINT\, MICHIGAN for our BIGGEST event of the year!!!\n\n\nYOU DON’T WANT TO MISS THIS!!!\n\nDates:\nFriday September 5th\nSaturday September 6th\nSunday September 7th\n\n\nLocation:\nSarginson Park\n1400 Beaver Ave.\nFlint\, MI 48503\n\n\nHosted By:\nFlint Driven Church\nKingdom Fire Ministries
URL:https://kingdomfire.us/event/community-united-flint-mi-evangelism-community-outreach-2/
LOCATION:Sarginson Park\, 1400 Beaver Ave.\, Flint\, MI\, 48503\, United States
CATEGORIES:Evangelism Outreach
ATTACH;FMTTYPE=image/jpeg:https://kingdomfire.us/wp-content/uploads/2025/02/469997300_1339651923871002_3242752230925459588_n.jpg
ORGANIZER;CN="Kingdom Fire Ministries":MAILTO:Admin@Kingdomfire.us
END:VEVENT
BEGIN:VEVENT
DTSTART;TZID=UTC:20250905T180000
DTEND;TZID=UTC:20250905T220000
DTSTAMP:20260424T015010
CREATED:20250216T214228Z
LAST-MODIFIED:20250216T214228Z
UID:10000699-1757095200-1757109600@kingdomfire.us
SUMMARY:"Community United" |  Flint\, MI  | Evangelism Community Outreach
DESCRIPTION:“Community United”\nFREE – FAMILY – FUN\n\n\n\nFree Food Provided ALL – Weekend long!\nBounce Houses Face Painting Balloons\nVolleyball KickBall Games\nCornHole Tournament Prizes\nLive Worship Bands Prayer Tents\nFREE Raffles and Give-A-ways!!\n\n\n\nCome join us again in FLINT\, MICHIGAN for our BIGGEST event of the year!!!\n\n\nYOU DON’T WANT TO MISS THIS!!!\n\n\nDates:\nFriday September 5th\nSaturday September 6th\nSunday September 7th\n\n\nLocation:\nSarginson Park\n1400 Beaver Ave.\nFlint\, MI 48503\n\n\nHosted By:\nFlint Driven Church\nKingdom Fire Ministries
URL:https://kingdomfire.us/event/community-united-flint-mi-evangelism-community-outreach/
LOCATION:Sarginson Park\, 1400 Beaver Ave.\, Flint\, MI\, 48503\, United States
CATEGORIES:Evangelism Outreach
ATTACH;FMTTYPE=image/jpeg:https://kingdomfire.us/wp-content/uploads/2025/02/469997300_1339651923871002_3242752230925459588_n.jpg
ORGANIZER;CN="Kingdom Fire Ministries":MAILTO:Admin@Kingdomfire.us
END:VEVENT
BEGIN:VEVENT
DTSTART;TZID=UTC:20250525T120000
DTEND;TZID=UTC:20250525T170000
DTSTAMP:20260424T015010
CREATED:20250216T213550Z
LAST-MODIFIED:20250514T005615Z
UID:10000698-1748174400-1748192400@kingdomfire.us
SUMMARY:FREE Community BBQ | Kingdom Fire - Flint Driven Church | Evangelism Outreach
DESCRIPTION:“Free Community BBQ”\n\n\n🚨 FLINT\, MICHIGAN 🚨 \nSUNDAY – MAY 25TH! \nJoin Flint Driven Church and Kingdom Fire Ministries as they partner together for this Memorial Day Event. \nA Free Christ-Centered Community Gathering! This family-friendly event is open to everyone-whether you’re part of a church or simply seeking connection and encouragement. \n🔥 Event highlights:\nUplifting worship and live music\nInspiring message of hope\nPrayer and ministry opportunities\nActivities for kids and teens\nFree food and refreshments\nCommunity resource table \n📍 Location:\nSarginson Park\n1400 Beaver Ave.\nFlint\, MI 48503 \nCome as you are and experience the Love of Jesus in a Welcome and Joyful atmosphere. \nLet’s grow in Faith and Unity.\nBring your friends\, family\, and neighbors. We can’t wait to see you!
URL:https://kingdomfire.us/event/free-community-bbq-kingdom-fire-flint-driven-church-evangelism-outreach/
LOCATION:Sarginson Park\, 1400 Beaver Ave.\, Flint\, MI\, 48503\, United States
CATEGORIES:Evangelism Outreach
ATTACH;FMTTYPE=image/jpeg:https://kingdomfire.us/wp-content/uploads/2025/02/497629314_1124370686393980_907169153206288071_n.jpg
ORGANIZER;CN="Kingdom Fire Ministries":MAILTO:Admin@Kingdomfire.us
END:VEVENT
BEGIN:VEVENT
DTSTART;TZID=UTC:20250413T180000
DTEND;TZID=UTC:20250413T200000
DTSTAMP:20260424T015010
CREATED:20250216T210240Z
LAST-MODIFIED:20250216T210240Z
UID:10000695-1744567200-1744574400@kingdomfire.us
SUMMARY:Freedom Nights | Healing & Deliverance Service | Flint\, Michigan
DESCRIPTION:“Freedom Nights” at Flint Driven Church!\n\nEvangelist Justin Fahrenbruch and Pastor Dion Lewellen are teamed up and FIRED UP to bring fresh revelation about healing\, deliverance\, & spiritual warfare to region of Flint!!\n\nJoin us Sunday Night as the Flint Driven Worship team ushers in and prepares us to enter into the LORD’s Presence.\n\nJustin will be bringing the heat\, sharing a Word about The Kingdom of God and Equipping the Saints – to walk in POWER and FREEDOM.\n\nAfterwards there will be a time of personal ministry as we open up the altar for everyone and anyone in need. A night of FREEDOM!!\n\nHealing  Deliverance Baptisms Fresh Fire Preaching the Kingdom \n\nFREE and open to the Public!\n\nAdvancing the KingdomIgniting a Fire\n\nLet’s Go! 
URL:https://kingdomfire.us/event/freedom-nights-healing-deliverance-service-flint-michigan/
LOCATION:Flint Driven Church\, 2901 Brown St.\, Flint\, MI\, 48503\, United States
CATEGORIES:Revival Services
ATTACH;FMTTYPE=image/jpeg:https://kingdomfire.us/wp-content/uploads/2025/02/Sunday-service-scaled.jpg
ORGANIZER;CN="Kingdom Fire Ministries":MAILTO:Admin@Kingdomfire.us
END:VEVENT
BEGIN:VEVENT
DTSTART;TZID=UTC:20250401T160000
DTEND;TZID=UTC:20250401T180000
DTSTAMP:20260424T015010
CREATED:20250310T185509Z
LAST-MODIFIED:20250310T185509Z
UID:10000959-1743523200-1743530400@kingdomfire.us
SUMMARY:Evangelism Outreach  |  Pull Over Prayer |  Flint\, Michigan
DESCRIPTION:EVANGELISM OUTREACH | PULL OVER PRAYER \n FLINT\, MICHIGAN \n\n\n\nIt’s time to get outside the 4 walls and bring Jesus to the people!!\n\n\n\nRescue Mission Outreach\, Nellie’s Mac Shack\, Kingdom Fire Evangelism\, Changed Man Outreach Ministries\n\n\nMultiple Ministries\, Multiple Churches\, Many People…\nONE COMMON DENOMINATOR = SOULS!\nIt’s a KINGDOM thing!\n\n\n\n Pull Over 4 Prayer \n Praise and Worship on the street \n Free Pulled-Pork for the Community\n Praying for our City \n Being the Light \n\n\n\n Location:\nThe Old Angelo’s Parking Lot\n1816 Davidson Rd.\nFlint\, MI 48506\n\n\n\n Tuesday\, April 1st\, 2025\n 4:00PM – 6:00PM\n\n\n\nCome on out and join us!\nALL ARE WELCOME\n\n\n\nHelp us get the word out! Invite your friends and Share this event to your social media page. See you there!!
URL:https://kingdomfire.us/event/evangelism-outreach-pull-over-prayer-flint-michigan/
LOCATION:The Old Angelos\, 1816 Davidson Rd.\, Flint\, MI\, 48506\, United States
CATEGORIES:Evangelism Outreach
ATTACH;FMTTYPE=image/jpeg:https://kingdomfire.us/wp-content/uploads/2025/03/church-flyer-template-1.jpg
ORGANIZER;CN="Kingdom Fire Ministries":MAILTO:Admin@Kingdomfire.us
END:VEVENT
BEGIN:VEVENT
DTSTART;TZID=UTC:20240526T120000
DTEND;TZID=UTC:20240526T170000
DTSTAMP:20260424T015010
CREATED:20240229T221056Z
LAST-MODIFIED:20240503T180827Z
UID:10000245-1716724800-1716742800@kingdomfire.us
SUMMARY:FREE Community BBQ | Flint Driven Church | Evangelism Outreach
DESCRIPTION:“Community BBQ”\nFREE FAMILY  FUN\n\n\n\n\n\nWe will be partnering with Flint Driven Church to bring Jesus to the People!\n\n\nCome on out and join us in FLINT\, Michigan!\n\n\n\nLocation:\nSarginson Park\n1400 Beaver Ave.\nFlint\, Michigan 48503\n\n\nSunday May 26th\n\n12:00PM – 5:00PM\n\n\n Praise and Worship \nBounce Houses \nSnow Cones \nPopcorn \n Sharing Testimonies \n Healing and Freedom \n Baptisms \n Sharing the love of Christ \n\n\n\n“And this gospel of the KINGDOM will be preached in all the world as a witness to all the nations\, and then the end will come.”\nMatthew 24:14\n\n\n“…He will baptize you with the Holy Spirit and FIRE.”\nMatthew 3:11\n\n\n\nIt’s time to change the world!\nLet’s Go!!
URL:https://kingdomfire.us/event/free-community-bbq-flint-driven-church-evangelism-outreach/
LOCATION:Sarginson Park\, 1400 Beaver Ave.\, Flint\, MI\, 48503\, United States
CATEGORIES:Evangelism Outreach
ATTACH;FMTTYPE=image/jpeg:https://kingdomfire.us/wp-content/uploads/2024/02/438824938_842788554552196_8416436540459480018_n.jpg
ORGANIZER;CN="Kingdom Fire Ministries":MAILTO:Admin@Kingdomfire.us
END:VEVENT
BEGIN:VEVENT
DTSTART;TZID=UTC:20230923T130000
DTEND;TZID=UTC:20230923T160000
DTSTAMP:20260424T015010
CREATED:20230817T003416Z
LAST-MODIFIED:20230817T003416Z
UID:10000205-1695474000-1695484800@kingdomfire.us
SUMMARY:REVIVAL FIRE Weekend | Evangelism Equipping and Outreach | Lapeer County
DESCRIPTION:🚨 Friends in THE THUMB of Michigan 🚨 \nWe’re coming back! \nIt’s going UPPP again for a REVIVAL FIRE weekend with Pastor Tim Martin and New Life Church in Attica\, Michigan! \nOn Friday\, September 22nd – We’ll be holding an Evangelism Equipping Service at New Life Church – 6:00PM. \nPastor Dion Lewellen from Flint Driven Church will be joining as we tag team a FIRE-FILLED session on different types of Evangelism! \nJustin will be sharing on POWER EVANGELISM –  How to heal the sick and help people that are oppressed\,  SETTING THE CAPTIVES FREE is one of the BEST forms of Evangelism there is! \nPastor Dion will be sharing on STREET EVANGELISM – How to reach people where their at\, leading people to Christ and sharing his heart on over 4 years of hosting Street Evangelism Outreaches with Flint Driven Church! \n  \nOn Saturday\, September 23rd – We’ll be putting into practice what we learned and hitting the streets in Lapeer at CRAMTON PARK!  Flint Driven Church will be joining in as we FAN THE REVIVAL FLAME FOR OUTREACH IN THE THUMB!! \n  \n\nMultiple Ministries\, Multiple Churches\, Many People…\nONE COMMON DENOMINATOR = SOULS!\n\n\nIt’s a KINGDOM thing!\n\n\n\n Pull Over 4 Prayer \n Praise and Worship in the Park \n Free Food for the Community \n Praying for our City \n Being the Light \n\n\n\nLocation:\nCRAMTON PARK\n130 S. Monroe St.\nLapeer\, MI 48446\n\n\n\nThen on Sunday Morning – Revival Service – September 24th –  Beginning @ 10:00AM\n\nLocation\nNew Life Church\n4411 Newark Rd.\nAttica\, MI 48412\n\nJustin will be bringing the heat\, sharing his testimony and sharing the KINGDOM FIRE!!  You won’t want to miss it!\n\n\n\n\n**A drug addict for 14 years of his life.  In 2018 Justin was radically and miraculously set free when a chain of events lead to the surrender of his life to Christ in the middle of a parking lot. Since the surrender of his life\, Justin has seen the miraculous power of God move mightily through his life and many others around him.**\n\n\n\nHealing Services \nProphetic Words \nPreaching the Kingdom \nFresh Revival Fire\n\n\n\nMiracles signs and wonders!!\nCome Expecting your Breakthrough!\n\n\n\nHallelujah – He’s Alive!\nLet’s Go!!\n\n\n\n“And they went out and preached everywhere\, the Lord working with them and confirming the word through the accompanying signs. Amen.”\nMark 16:20
URL:https://kingdomfire.us/event/revival-fire-weekend-evangelism-equipping-and-outreach-lapeer-county-2/
LOCATION:Cramton Park\, 130 S. Monroe St.\, Lapeer\, MI\, 48446\, United States
CATEGORIES:Evangelism Outreach
ATTACH;FMTTYPE=image/jpeg:https://kingdomfire.us/wp-content/uploads/2023/08/Attica-Weekend-Revival.jpg
ORGANIZER;CN="Kingdom Fire Ministries":MAILTO:Admin@Kingdomfire.us
END:VEVENT
BEGIN:VEVENT
DTSTART;TZID=UTC:20230922T180000
DTEND;TZID=UTC:20230922T203000
DTSTAMP:20260424T015010
CREATED:20230817T003211Z
LAST-MODIFIED:20230817T003211Z
UID:10000204-1695405600-1695414600@kingdomfire.us
SUMMARY:REVIVAL FIRE Weekend | Evangelism Equipping and Outreach | Lapeer County
DESCRIPTION:🚨 Friends in THE THUMB of Michigan 🚨 \nWe’re coming back! \nIt’s going UPPP again for a REVIVAL FIRE weekend with Pastor Tim Martin and New Life Church in Attica\, Michigan! \nOn Friday\, September 22nd – We’ll be holding an Evangelism Equipping Service at New Life Church – 6:00PM. \nPastor Dion Lewellen from Flint Driven Church will be joining as we tag team a FIRE-FILLED session on different types of Evangelism! \nJustin will be sharing on POWER EVANGELISM –  How to heal the sick and help people that are oppressed\,  SETTING THE CAPTIVES FREE is one of the BEST forms of Evangelism there is! \nPastor Dion will be sharing on STREET EVANGELISM – How to reach people where their at\, leading people to Christ and sharing his heart on over 4 years of hosting Street Evangelism Outreaches with Flint Driven Church! \n  \nOn Saturday\, September 23rd – We’ll be putting into practice what we learned and hitting the streets in Lapeer at CRAMTON PARK!  Flint Driven Church will be joining in as we FAN THE REVIVAL FLAME FOR OUTREACH IN THE THUMB!! \n  \n\nMultiple Ministries\, Multiple Churches\, Many People…\nONE COMMON DENOMINATOR = SOULS!\n\n\nIt’s a KINGDOM thing!\n\n\n\n Pull Over 4 Prayer \n Praise and Worship in the Park \n Free Food for the Community \n Praying for our City \n Being the Light \n\n\n\nLocation:\nCRAMTON PARK\n130 S. Monroe St.\nLapeer\, MI 48446\n\n\n\nThen on Sunday Morning – Revival Service – September 24th –  Beginning @ 10:00AM\n\nLocation\nNew Life Church\n4411 Newark Rd.\nAttica\, MI 48412\n\nJustin will be bringing the heat\, sharing his testimony and sharing the KINGDOM FIRE!!  You won’t want to miss it!\n\n\n\n\n**A drug addict for 14 years of his life.  In 2018 Justin was radically and miraculously set free when a chain of events lead to the surrender of his life to Christ in the middle of a parking lot. Since the surrender of his life\, Justin has seen the miraculous power of God move mightily through his life and many others around him.**\n\n\n\nHealing Services \nProphetic Words \nPreaching the Kingdom \nFresh Revival Fire\n\n\n\nMiracles signs and wonders!!\nCome Expecting your Breakthrough!\n\n\n\nHallelujah – He’s Alive!\nLet’s Go!!\n\n\n\n“And they went out and preached everywhere\, the Lord working with them and confirming the word through the accompanying signs. Amen.”\nMark 16:20
URL:https://kingdomfire.us/event/revival-fire-weekend-evangelism-equipping-and-outreach-lapeer-county/
LOCATION:New Life Church\, 4411 Newark Rd.\, Attica\, MI\, 48412\, United States
CATEGORIES:Evangelism Equipping
ATTACH;FMTTYPE=image/jpeg:https://kingdomfire.us/wp-content/uploads/2023/08/Attica-Weekend-Revival.jpg
ORGANIZER;CN="Kingdom Fire Ministries":MAILTO:Admin@Kingdomfire.us
END:VEVENT
BEGIN:VEVENT
DTSTART;TZID=UTC:20230910T130000
DTEND;TZID=UTC:20230910T150000
DTSTAMP:20260424T015010
CREATED:20230817T000747Z
LAST-MODIFIED:20230817T000811Z
UID:10000203-1694350800-1694358000@kingdomfire.us
SUMMARY:Preaching @ Wilson Pavilion | Deckerville\, MI
DESCRIPTION:DECKERVILLE\, MICHIGAN!! \nSo excited to be coming back THIS weekend!!\n\n\n\nIf you are in the thumb area (and do not have a home church OR would like to attend this service AFTER your home church) please come join us!\n\n\n\nIt’s going to be an amazing time together\, allowing Holy Spirit to do whatever He wants to do!\n\n\n\n**Justin was a drug addict for 14 years of his life. In 2018 he was radically and miraculously set free when a chain of events lead to the surrender of his life to Christ in the middle of a parking lot. Since the surrender of his life\, Justin has seen the miraculous power of God move mightily through his life and many others around him.**\n\n\n\nHealing and Deliverance \nProphetic Words \nPreaching the Kingdom \nFresh Revival Fire\n🌊 Water Baptisms 🌊\n\n\n\nMiracles signs and wonders!!\nCome Expecting your Breakthrough!\n\n\n\nHallelujah – He’s Alive!\nLet’s Go!!
URL:https://kingdomfire.us/event/preaching-wilson-pavilion-deckerville-mi/
LOCATION:Wilson Park\, 2590 Park St.\, Deckerville\, MI\, 48427\, United States
CATEGORIES:Guest Speaker for Church Service
ATTACH;FMTTYPE=image/jpeg:https://kingdomfire.us/wp-content/uploads/2023/08/Deckerville-Church-Preaching-scaled.jpg
ORGANIZER;CN="Kingdom Fire Ministries":MAILTO:Admin@Kingdomfire.us
END:VEVENT
BEGIN:VEVENT
DTSTART;TZID=UTC:20230909T100000
DTEND;TZID=UTC:20230909T160000
DTSTAMP:20260424T015010
CREATED:20230817T000156Z
LAST-MODIFIED:20230818T171247Z
UID:10000202-1694253600-1694275200@kingdomfire.us
SUMMARY:Street Evangelism Outreach | Deckerville\, MI
DESCRIPTION:If you’re from the thumb\, come on out and join us on Friday\, September 8th and Saturday\, September 9th for Street Evangelism Equipping and Outreach Activation Opportunities! \nFriday\, September 8th – 7:00PM \nNew Grounds Cafe \n🚦 Street Evangelism Equipping and Impartation 🚦 \n\nHow to lead with love\nBoldness to step out in faith\nHow to approach people\nDealing with rejection\nMeeting people where they’re at\nPraying for the sick and oppressed\nHow to lead someone to Christ\n\n  \nSaturday\, September 9th – 10:00AM – 4:00PM \nHeritage Festival – Downtown Deckerville \n🙋‍♂️Street Evangelism Outreach Activation 🙋‍♀️ \nThere will be people coming from all over during Deckerville’s Heritage Festival 2023 for activities\, games\, parades\, prizes and all types of other fun things to do.  Under His Thumb Ministries will have a prayer tent available for anyone and everyone wanting prayer – we will be sending out our teams into the festival to witness and send people back to the prayer tent and invite people to Wilson Pavilion the next day for church as Justin Fahrenbruch will be sharing his testimony and heart for church service. \nThis will be a fun weekend for the whole family – come on out to be equipped\, encouraged\, great fellowship and have some fun all at the same time. \n  \nSee you there! \n 
URL:https://kingdomfire.us/event/street-evangelism-equipping-and-outreach-deckerville-mi/
LOCATION:Heritage Festival\, Downtown - Main Street\, Deckerville\, MI\, 48427\, United States
CATEGORIES:Evangelism Outreach
ATTACH;FMTTYPE=image/jpeg:https://kingdomfire.us/wp-content/uploads/2023/08/Deckerville-Weekend-Equipping-scaled.jpg
ORGANIZER;CN="Kingdom Fire Ministries":MAILTO:Admin@Kingdomfire.us
END:VEVENT
BEGIN:VEVENT
DTSTART;TZID=UTC:20230908T190000
DTEND;TZID=UTC:20230908T210000
DTSTAMP:20260424T015010
CREATED:20230816T235916Z
LAST-MODIFIED:20230818T171333Z
UID:10000201-1694199600-1694206800@kingdomfire.us
SUMMARY:Street Evangelism Equipping | New Grounds Cafe | Deckerville\, Michigan
DESCRIPTION:If you’re from the thumb\, come on out and join us on Friday\, September 8th and Saturday\, September 9th for Street Evangelism Equipping and Outreach Activation Opportunities! \nFriday\, September 8th – 7:00PM \nNew Grounds Cafe \n🚦 Street Evangelism Equipping and Impartation 🚦 \n\nHow to lead with love\nBoldness to step out in faith\nHow to approach people\nDealing with rejection\nMeeting people where they’re at\nPraying for the sick and oppressed\nHow to lead someone to Christ\n\n  \nSaturday\, September 9th – 10:00AM – 4:00PM \nHeritage Festival – Downtown Deckerville \n🙋‍♂️Street Evangelism Outreach Activation 🙋‍♀️ \nThere will be people coming from all over during Deckerville’s Heritage Festival 2023 for activities\, games\, parades\, prizes and all types of other fun things to do.  Under His Thumb Ministries will have a prayer tent available for anyone and everyone wanting prayer – we will be sending out our teams into the festival to witness and send people back to the prayer tent and invite people to Wilson Pavilion the next day for church as Justin Fahrenbruch will be sharing his testimony and heart for church service. \nThis will be a fun weekend for the whole family – come on out to be equipped\, encouraged\, great fellowship and have some fun all at the same time. \n  \nSee you there! \n 
URL:https://kingdomfire.us/event/street-evangelism-equipping-and-outreach-deckerville-michigan/
LOCATION:New Grounds Cafe\, 3474 Main Street\, Deckerville\, MI\, 48427\, United States
CATEGORIES:Evangelism Outreach
ATTACH;FMTTYPE=image/jpeg:https://kingdomfire.us/wp-content/uploads/2023/08/Deckerville-Weekend-Equipping-scaled.jpg
ORGANIZER;CN="Kingdom Fire Ministries":MAILTO:Admin@Kingdomfire.us
END:VEVENT
BEGIN:VEVENT
DTSTART;TZID=UTC:20230723T180000
DTEND;TZID=UTC:20230723T210000
DTSTAMP:20260424T015010
CREATED:20230715T192050Z
LAST-MODIFIED:20230715T192114Z
UID:10000191-1690135200-1690146000@kingdomfire.us
SUMMARY:Freedom Nights | Healing & Deliverance | Revival Services
DESCRIPTION:“Freedom Nights” at Flint Driven Church in Flint\, Michigan!\n\nEvangelist Justin Fahrenbruch will be FIRED UP and bringing the word about healing\, deliverance\, & spiritual warfare! Afterwards there will be a time of personal ministry for everyone and anyone in need. A night of FREEDOM!!\n\nFREE and open to the Public!\n\nAdvancing the Kingdom\nIgniting a Fire\n\nLet’s Go! 
URL:https://kingdomfire.us/event/freedom-nights-healing-deliverance-revival-services/
LOCATION:Flint Driven Church\, 2901 Brown St.\, Flint\, MI\, 48503\, United States
CATEGORIES:Revival Services
ATTACH;FMTTYPE=image/jpeg:https://kingdomfire.us/wp-content/uploads/2023/07/Sunday-service-3-scaled.jpg
ORGANIZER;CN="Kingdom Fire Ministries":MAILTO:Admin@Kingdomfire.us
END:VEVENT
BEGIN:VEVENT
DTSTART;TZID=UTC:20230708T180000
DTEND;TZID=UTC:20230708T210000
DTSTAMP:20260424T015010
CREATED:20230608T181505Z
LAST-MODIFIED:20230608T181505Z
UID:10000186-1688839200-1688850000@kingdomfire.us
SUMMARY:Revival Services | Healing & Deliverance | Port Huron\, MI
DESCRIPTION:PORT HURON\, MICHIGAN \n\n\n\nMark your calendars! You won’t want to miss this!!\n Saturday\, July 8th \n\n\n\n REVIVAL SERVICE \n\n\n\nCome and receive your blessing from the Lord.\n\n\n\n**Justin was a drug addict for 14 years of his life. In 2018 he was radically and miraculously set free when a chain of events lead to an encounter with Jesus Christ in the middle of a parking lot. Since the surrender of his life\, Justin has seen the miraculous power of The Holy Spirit move mightily through his life and many others around him.**\n\n\n\n Amazing Praise and Worship \n Healing and Deliverance \n Prophetic Words \n Preaching the Kingdom \n Holy Spirit Baptisms \n Fresh Fire \n\n\n\nMiracles signs and wonders!!\nCome Expecting your Breakthrough!\n\n\n\nHallelujah – He’s Alive!\nLet’s Go!
URL:https://kingdomfire.us/event/revival-services-healing-deliverance-port-huron-mi/
LOCATION:Port Huron Assembly of God\, 835 River St.\, Port Huron\, MI\, 48060\, United States
CATEGORIES:Church Event
ATTACH;FMTTYPE=image/jpeg:https://kingdomfire.us/wp-content/uploads/2023/06/Port-Huron-Revival-Flyer.jpg
ORGANIZER;CN="Kingdom Fire Ministries":MAILTO:Admin@Kingdomfire.us
END:VEVENT
BEGIN:VEVENT
DTSTART;TZID=UTC:20230708T130000
DTEND;TZID=UTC:20230708T160000
DTSTAMP:20260424T015010
CREATED:20230608T181156Z
LAST-MODIFIED:20230608T181156Z
UID:10000185-1688821200-1688832000@kingdomfire.us
SUMMARY:Pull Over Prayer | Port Huron\, MI | Evangelism Outreach
DESCRIPTION:Partnering with Port Huron Assembly of God and Flint Driven Church – We will hosting an opportunity to get outside the 4 walls and bring the “Church” to the streets in our region!!\n\n\n\n Pull Over 4 Prayer \n Praise and Worship on the Street Corner \n Free Food for the Community \n Praying for our City \nBeing the Light \n\n\nCome on out and join us!\n\n\nALL ARE WELCOME\n\n\nLet’s Go!
URL:https://kingdomfire.us/event/pull-over-prayer-port-huron-mi-evangelism-outreach/
LOCATION:Pine Grove Park\, 1204 Pine Grove Avenue\, Port Huron\, MI\, 48060\, United States
CATEGORIES:Evangelism Outreach
ATTACH;FMTTYPE=image/jpeg:https://kingdomfire.us/wp-content/uploads/2023/06/Pull-Over-Prayer-Outreach-Port-Huron-7.8.23.jpg
ORGANIZER;CN="Kingdom Fire Ministries":MAILTO:Admin@Kingdomfire.us
END:VEVENT
BEGIN:VEVENT
DTSTART;TZID=UTC:20230527T180000
DTEND;TZID=UTC:20230527T210000
DTSTAMP:20260424T015010
CREATED:20230428T023322Z
LAST-MODIFIED:20230428T023707Z
UID:10000181-1685210400-1685221200@kingdomfire.us
SUMMARY:Freedom Nights | Healing and Deliverance | Revival Services
DESCRIPTION:“Freedom Nights” at Flint Driven Church in Flint\, Michigan!\n\nEvangelist Justin Fahrenbruch will be FIRED UP and bringing the word about healing\, deliverance\, & spiritual warfare! Afterwards there will be a time of personal ministry for everyone and anyone in need. A night of FREEDOM!!\n\nFREE and open to the Public!\n\nAdvancing the Kingdom\nIgniting a Fire\n\nLet’s Go! 
URL:https://kingdomfire.us/event/freedom-nights-healing-and-deliverance-revival-services/
LOCATION:Flint Driven Church\, 2901 Brown St.\, Flint\, MI\, 48503\, United States
CATEGORIES:Church Event
ATTACH;FMTTYPE=image/jpeg:https://kingdomfire.us/wp-content/uploads/2023/04/Freedom-Nights-scaled.jpg
ORGANIZER;CN="Kingdom Fire Ministries":MAILTO:Admin@Kingdomfire.us
END:VEVENT
BEGIN:VEVENT
DTSTART;TZID=UTC:20220909T180000
DTEND;TZID=UTC:20220911T150000
DTSTAMP:20260424T015010
CREATED:20220818T023045Z
LAST-MODIFIED:20220818T023135Z
UID:10000143-1662746400-1662908400@kingdomfire.us
SUMMARY:Community United - Part 2
DESCRIPTION:“Community United – Round 2”\nFREE – FAMILY – FUN\n\nFood Provided ALL – Weekend long\nBounce Houses Face Painting Balloons\nVolleyball KickBall Games\nCornHole Tournament Prizes\nLive Worship Bands Prayer Tents\nFREE Raffles and Give-A-ways!!\n\nCome join us again in FLINT\, MICHIGAN for our BIGGEST event of the year!!!\nYOU DON’T WANT TO MISS THIS!!!\n\nLocation:\nSarginson Park\n1400 Beaver Ave.\nFlint\, MI 48503\n\nFriday September 9th – “MOVIE NIGHT”\n Event starting at 6:00PM \nFree Movie for the Community\n Popcorn  Snow cones\nVolleyball  Baptisms\nBounce Houses\n Praise and Worship\n\nSaturday September 10th – “LIVE MUSIC FESTIVAL”\n Event starting at 2:00PM \n Live Music with Guest Performers\n Baptisms Prayer\n Bounce Houses\n\n*Guest Speaker: Evangelist Ramon Barrera*\n\nSunday September 11th – “CHURCH IN THE PARK”\n Event starting at 12:00PM \nUnder the Big White Tent\n Live Band Praise and Worship\n Baptisms Prayer\n Sharing the Word\nHealing and Freedom
URL:https://kingdomfire.us/event/community-united-part-2/
LOCATION:Sarginson Park\, 1400 Beaver Ave.\, Flint\, MI\, 48503\, United States
CATEGORIES:Evangelism Outreach
END:VEVENT
END:VCALENDAR