BEGIN:VCALENDAR
VERSION:2.0
PRODID:-//Kingdom Fire - ECPv6.15.20//NONSGML v1.0//EN
CALSCALE:GREGORIAN
METHOD:PUBLISH
X-WR-CALNAME:Kingdom Fire
X-ORIGINAL-URL:https://kingdomfire.us
X-WR-CALDESC:Events for Kingdom Fire
REFRESH-INTERVAL;VALUE=DURATION:PT1H
X-Robots-Tag:noindex
X-PUBLISHED-TTL:PT1H
BEGIN:VTIMEZONE
TZID:UTC
BEGIN:STANDARD
TZOFFSETFROM:+0000
TZOFFSETTO:+0000
TZNAME:UTC
DTSTART:20210101T000000
END:STANDARD
END:VTIMEZONE
BEGIN:VEVENT
DTSTART;TZID=UTC:20240625T160000
DTEND;TZID=UTC:20240625T220000
DTSTAMP:20260424T134627
CREATED:20240421T230917Z
LAST-MODIFIED:20240527T191612Z
UID:10000265-1719331200-1719352800@kingdomfire.us
SUMMARY:3rd Annual Community Revival For Christ  ||  ALL ARE WELCOME  ||  Deckerville\, MI
DESCRIPTION:Come on out and join us in the THUMB of Michigan! \nSUNDAY\, MONDAY\, TUESDAY  |   4:00PM  DAILY \n6/23/2024\,  6/24/2024\,  6/25/2024 \nGuest Speakers: \nEvangelist Justin Fahrenbruch  //  Father Adam Maher //  Pastor Erin Gutowski \nLive Music\, Baptisms\, Bounce Houses\, Dunk Tanks\, Sports. Activities\, Swing Dancing\, Tug of War and Other Fun Activities! \n  \nTEACHING CLASSES FOR LEADERSHIP: \nMonday & Tuesday:  10:00AM  @  “The Hub” \nIt’s going to be an amazing time!
URL:https://kingdomfire.us/event/deckerville-revival-2/
LOCATION:Wilson Park\, 2590 Park St.\, Deckerville\, MI\, 48427\, United States
CATEGORIES:Revival Services
ATTACH;FMTTYPE=image/jpeg:https://kingdomfire.us/wp-content/uploads/2024/04/443818261_10226106689240454_6380062181430011865_n.jpg
END:VEVENT
BEGIN:VEVENT
DTSTART;TZID=UTC:20240624T160000
DTEND;TZID=UTC:20240624T220000
DTSTAMP:20260424T134627
CREATED:20240421T230720Z
LAST-MODIFIED:20240527T191715Z
UID:10000264-1719244800-1719266400@kingdomfire.us
SUMMARY:3rd Annual Community Revival For Christ  ||  ALL ARE WELCOME  ||  Deckerville\, MI
DESCRIPTION:Come on out and join us in the THUMB of Michigan! \nSUNDAY\, MONDAY\, TUESDAY  |   4:00PM  DAILY \n6/23/2024\,  6/24/2024\,  6/25/2024 \nGuest Speakers: \nEvangelist Justin Fahrenbruch  //  Father Adam Maher //  Pastor Erin Gutowski \nLive Music\, Baptisms\, Bounce Houses\, Dunk Tanks\, Sports. Activities\, Swing Dancing\, Tug of War and Other Fun Activities! \n  \nTEACHING CLASSES FOR LEADERSHIP: \nMonday & Tuesday:  10:00AM  @  “The Hub” \nIt’s going to be an amazing time!
URL:https://kingdomfire.us/event/deckerville-revival/
LOCATION:Wilson Park\, 2590 Park St.\, Deckerville\, MI\, 48427\, United States
CATEGORIES:Revival Services
ATTACH;FMTTYPE=image/jpeg:https://kingdomfire.us/wp-content/uploads/2024/04/443818261_10226106689240454_6380062181430011865_n.jpg
END:VEVENT
BEGIN:VEVENT
DTSTART;TZID=UTC:20240623T160000
DTEND;TZID=UTC:20240623T210000
DTSTAMP:20260424T134627
CREATED:20240421T230228Z
LAST-MODIFIED:20240527T191913Z
UID:10000263-1719158400-1719176400@kingdomfire.us
SUMMARY:3rd Annual Community Revival For Christ  ||  ALL ARE WELCOME  ||  Deckerville\, MI
DESCRIPTION:Come on out and join us in the THUMB of Michigan! \nSUNDAY\, MONDAY\, TUESDAY  |   4:00PM  DAILY \n6/23/2024\,  6/24/2024\,  6/25/2024 \nGuest Speakers: \nEvangelist Justin Fahrenbruch  //  Father Adam Maher //  Pastor Erin Gutowski \nLive Music\, Baptisms\, Bounce Houses\, Dunk Tanks\, Sports. Activities\, Swing Dancing\, Tug of War and Other Fun Activities! \n  \nTEACHING CLASSES FOR LEADERSHIP: \nMonday & Tuesday:  10:00AM  @  “The Hub” \nIt’s going to be an amazing time!
URL:https://kingdomfire.us/event/3rd-annual-community-revival-for-christ-deckerville-mi/
LOCATION:Wilson Park\, 2590 Park St.\, Deckerville\, MI\, 48427\, United States
CATEGORIES:Revival Services
ATTACH;FMTTYPE=image/jpeg:https://kingdomfire.us/wp-content/uploads/2024/04/443818261_10226106689240454_6380062181430011865_n.jpg
END:VEVENT
BEGIN:VEVENT
DTSTART;TZID=UTC:20240130T180000
DTEND;TZID=UTC:20240130T220000
DTSTAMP:20260424T134627
CREATED:20231214T231455Z
LAST-MODIFIED:20231214T231455Z
UID:10000227-1706637600-1706652000@kingdomfire.us
SUMMARY:"Winter Revival Fire" | Revival Services in The Thumb | Deckerville\, Michigan
DESCRIPTION:Come on out and join us in the THUMB of Michigan! \nEvangelists Justin Fahrenbruch and Pastor Erin Gutowski will be partnering together for another 3-day Event in Deckerville\, Michigan! \nStarting on Sunday January 28th. \nLive Music by City on a Hill Band \nTestimonies from Encounter Ministries of Michigan \nDuring the 3 day event we will be sharing our personal testimonies\, teaching on identity in Christ\, The Kingdom of God and helping identify individual callings and destinies! \nIt’s going to be an amazing time! \nMark your Calendars!!
URL:https://kingdomfire.us/event/winter-revival-fire-revival-services-in-the-thumb-deckerville-michigan/
LOCATION:MI-DAHS WELLS BANQUET HALL\, 2381 Black River St.\, Deckerville\, MI\, 48427\, United States
CATEGORIES:Revival Services
ATTACH;FMTTYPE=image/jpeg:https://kingdomfire.us/wp-content/uploads/2023/12/Winter-Sale-1-scaled.jpg
END:VEVENT
BEGIN:VEVENT
DTSTART;TZID=UTC:20240129T180000
DTEND;TZID=UTC:20240129T220000
DTSTAMP:20260424T134627
CREATED:20231214T231150Z
LAST-MODIFIED:20231214T231150Z
UID:10000226-1706551200-1706565600@kingdomfire.us
SUMMARY:"Winter Fire Revival" | Revival Services in The Thumb | Deckerville\, Michigan
DESCRIPTION:Come on out and join us in the THUMB of Michigan! \nEvangelists Justin Fahrenbruch and Pastor Erin Gutowski will be partnering together for another 3-day Event in Deckerville\, Michigan! \nStarting on Sunday January 28th. \nLive Music by City on a Hill Band \nTestimonies from Encounter Ministries of Michigan \nDuring the 3 day event we will be sharing our personal testimonies\, teaching on identity in Christ\, The Kingdom of God and helping identify individual callings and destinies! \nIt’s going to be an amazing time! \nMark your Calendars!!
URL:https://kingdomfire.us/event/winter-fire-revival-revival-services-in-the-thumb-deckerville-michigan/
LOCATION:MI-DAHS WELLS BANQUET HALL\, 2381 Black River St.\, Deckerville\, MI\, 48427\, United States
CATEGORIES:Revival Services
ATTACH;FMTTYPE=image/jpeg:https://kingdomfire.us/wp-content/uploads/2023/12/Winter-Sale-1-scaled.jpg
END:VEVENT
BEGIN:VEVENT
DTSTART;TZID=UTC:20240128T180000
DTEND;TZID=UTC:20240128T220000
DTSTAMP:20260424T134627
CREATED:20231214T230705Z
LAST-MODIFIED:20231214T231232Z
UID:10000225-1706464800-1706479200@kingdomfire.us
SUMMARY:"Winter Revival Fire" | 3-Day Revival Service in The Thumb | Deckerville\, Michigan
DESCRIPTION:Come on out and join us in the THUMB of Michigan! \nEvangelists Justin Fahrenbruch and Pastor Erin Gutowski will be partnering together for another 3-day Event in Deckerville\, Michigan! \nStarting on Sunday January 28th. \nLive Music by City on a Hill Band \nTestimonies from Encounter Ministries of Michigan \nDuring the 3 day event we will be sharing our personal testimonies\, teaching on identity in Christ\, The Kingdom of God and helping identify individual callings and destinies! \nIt’s going to be an amazing time! \nMark your Calendars!!
URL:https://kingdomfire.us/event/winter-revival-fire-3-day-revival-service-deckerville-michigan/
LOCATION:MI-DAHS WELLS BANQUET HALL\, 2381 Black River St.\, Deckerville\, MI\, 48427\, United States
CATEGORIES:Revival Services
ATTACH;FMTTYPE=image/jpeg:https://kingdomfire.us/wp-content/uploads/2023/12/Winter-Sale-1-scaled.jpg
END:VEVENT
BEGIN:VEVENT
DTSTART;TZID=UTC:20230625T120000
DTEND;TZID=UTC:20230627T170000
DTSTAMP:20260424T134627
CREATED:20230426T030821Z
LAST-MODIFIED:20230601T215522Z
UID:10000175-1687694400-1687885200@kingdomfire.us
SUMMARY:2nd Annual Community Revival For Christ | Deckerville\, MI
DESCRIPTION:Come on out and join us in the THUMB of Michigan! \nEvangelists Justin Fahrenbruch and Father Adam Maher will be partnering together again for a 3-day Event!  Starting on Sunday June 25th. \nLive Music\, Baptisms\, Bounce Houses\, Dunk Tanks\, Sports. Activities\, Swing Dancing\, Tug of War and Other Fun Activities! \nDuring the 3 day event we will be sharing our personal testimonies\, teaching on identity in Christ\, speaking on purpose and potential and helping identify individual callings and destinies! \nIt’s going to be an amazing time! \nMark your Calendars!!
URL:https://kingdomfire.us/event/2nd-annual-youth-revival-deckerville-mi/
LOCATION:Wilson Park\, 2590 Park St.\, Deckerville\, MI\, 48427\, United States
CATEGORIES:Church Event
ATTACH;FMTTYPE=image/jpeg:https://kingdomfire.us/wp-content/uploads/2023/04/348363492_200002986256810_3678923010623353965_n.jpg
END:VEVENT
BEGIN:VEVENT
DTSTART;TZID=UTC:20230319T180000
DTEND;TZID=UTC:20230324T200000
DTSTAMP:20260424T134627
CREATED:20230214T213952Z
LAST-MODIFIED:20230214T213952Z
UID:10000158-1679248800-1679688000@kingdomfire.us
SUMMARY:"Preparing the Bride of Christ"  Equipping Conference - Deckerville\, MI
DESCRIPTION:“Preparing The Bridge of Christ” \n  \nThis is a 6 day Conference JAM PACKED full of amazing Guest Speakers\, Evangelists\, Pastors and Leaders in the body of Christ! \nThe sole purpose of this conference will be to equip the body of Christ and to prepare the bride! \nYou will not want to miss being there for each session as each speaker brings a uniqueness and different angle to equipping the Saints for the works of the ministry. \nJUSTIN FAHRENBRUCH will be speaking on Tuesday\, March 21st at 6:00PM \nBrought to you by: \nUnder His Thumb Ministries \n  \nSee you there!
URL:https://kingdomfire.us/event/preparing-the-bride-of-christ-equipping-conference-deckerville-mi/
LOCATION:Deckerville Community Center\, 3451 Main St.\, Deckerville\, MI\, 48427\, United States
CATEGORIES:Guest Speaker at Conference
ATTACH;FMTTYPE=application/pdf:https://kingdomfire.us/wp-content/uploads/2023/02/Prepare-The-Bride-Conference.pdf
END:VEVENT
BEGIN:VEVENT
DTSTART;TZID=UTC:20220626T160000
DTEND;TZID=UTC:20220629T200000
DTSTAMP:20260424T134627
CREATED:20220524T214447Z
LAST-MODIFIED:20220622T210345Z
UID:10000126-1656259200-1656532800@kingdomfire.us
SUMMARY:"Deckerville Youth Festival" - Wilson Park\, Deckerville\, Michigan
DESCRIPTION:~Decisions Make Ripples~ \n  \nCome on out and join us in the THUMB of Michigan! \nEvangelists Justin Fahrenbruch and Adam Maher will be partnering together for a 4-day Event!  Starting on Sunday June 26th. \nLive Music\, Bounce Houses\, Dunk Tanks\, Sports. Activities\, Swing Dancing\, Tug of War and Other Fun Activities! \nDuring the 4 day event we will be sharing our personal testimonies\, teaching on identity in Christ\, speaking on purpose and potential and helping identify individual callings and destinies! \nIt’s going to be an amazing time! \n  \n**Justin was a drug addict for 14 years of his life. In 2018 he was radically and miraculously set free when a chain of events lead to the surrender of his life to Christ in the middle of a parking lot. Since the surrender of his life\, Justin has seen the miraculous power of God move mightily through his life and many others around him.**
URL:https://kingdomfire.us/event/deckerville-youth-festival-wilson-park-deckerville-michigan/
LOCATION:Wilson Park\, 2590 Park St.\, Deckerville\, MI\, 48427\, United States
CATEGORIES:Evangelism Outreach,Guest Speaker for Church Service
END:VEVENT
END:VCALENDAR