BEGIN:VCALENDAR
VERSION:2.0
PRODID:-//Kingdom Fire - ECPv6.15.20//NONSGML v1.0//EN
CALSCALE:GREGORIAN
METHOD:PUBLISH
X-WR-CALNAME:Kingdom Fire
X-ORIGINAL-URL:https://kingdomfire.us
X-WR-CALDESC:Events for Kingdom Fire
REFRESH-INTERVAL;VALUE=DURATION:PT1H
X-Robots-Tag:noindex
X-PUBLISHED-TTL:PT1H
BEGIN:VTIMEZONE
TZID:UTC
BEGIN:STANDARD
TZOFFSETFROM:+0000
TZOFFSETTO:+0000
TZNAME:UTC
DTSTART:20210101T000000
END:STANDARD
END:VTIMEZONE
BEGIN:VEVENT
DTSTART;TZID=UTC:20250316T103000
DTEND;TZID=UTC:20250316T140000
DTSTAMP:20260424T144329
CREATED:20250216T202006Z
LAST-MODIFIED:20250315T171559Z
UID:10000693-1742121000-1742133600@kingdomfire.us
SUMMARY:Guest Speaker for Church Service  |  Awaken Deckerville Church  |  Deckerville\, MI
DESCRIPTION:Deckerville\, Michigan \n\n\n\nIf you are from “The Thumb” of Michigan (and do not have a home church or haven’t been to church in a while) we would LOVE to see you at Awaken Deckerville Church at 10:30AM!\n\n\n** There will also be a SPECIAL 6:00PM EVENING SERVICE! **\n\n\n\nIn Deckerville\, Michigan on March 16th!\n\n\n\nGuest Speaker:\nEvangelist Justin Fahrenbruch \n\n\n\nSharing his testimony and heart at Sunday Services.\nSee you there!
URL:https://kingdomfire.us/event/guest-speaker-for-church-service-awaken-deckerville-church-deckerville-mi/
LOCATION:Awaken Deckerville Church\, 3495 Main St.\, Deckerville\, MI\, 48427\, United States
CATEGORIES:Guest Speaker for Church Service
ATTACH;FMTTYPE=image/jpeg:https://kingdomfire.us/wp-content/uploads/2025/02/Sunday-service-flyer-template-7.jpg
END:VEVENT
BEGIN:VEVENT
DTSTART;TZID=UTC:20250223T080000
DTEND;TZID=UTC:20250223T150000
DTSTAMP:20260424T144329
CREATED:20250105T015508Z
LAST-MODIFIED:20250105T015508Z
UID:10000678-1740297600-1740322800@kingdomfire.us
SUMMARY:Michigan Men's Encounter Retreat | Imlay City\, Michigan
DESCRIPTION:Encounter Ministry exists to facilitate & encourage ENCOUNTERS with God that AWAKEN people to walk in AUTHENTIC relationship with Jesus Christ. \n\n\n Men’s Encounter: Michigan | February 2025 \n\n\n\nMy wife was blessed to be able go to a 3-day women’s retreat called “Women’s Encounter”.  She didn’t know what to expect… but just came expecting God to show up.\n\n\n\nSince that time\, she’s been ecstatic talking about how AWESOME of a time she had at this “Encounter”! She won’t to tell me details about the time she had because she said… “I had to experience it for myself”.\n\n\n\nWell\, I went for it\, fully expecting and believing to have an “Encounter” of my own and that’s exactly what happened!  \n\n\n\n  As men\, we are called to seek God first. “The Encounter” is 3 days of intense Spirit-led learning and testimonies by men from all walks of life. Every Encounter Weekend is a unique and individual experience where men have an opportunity to discover what happened at the Cross\, and how their lives can be changed forever because of God’s infinite grace.  \n\n\n\nThere are still some open spots available for any MEN who would like to join in on this “Encounter Experience”. I would love to lock arms with you and have you join us on this amazing weekend!!\n\n\n\n\nNo matter your past or present circumstances\, everything can change in a matter of 48 hours. Come encounter the living God through 3 days and 2 nights of intense heart transformation like you’ve never felt experienced before.  Encounter creates a culture that invites everybody to get real about life’s struggles and turn to Jesus as the one and only hope for healing\, deliverance and salvation. Encounter is a multi-denominational weekend where the focus is placed on love\, forgiveness & freedom in Christ rather than the denominational issues that divide us. We keep the main thing\, the main thing\, and His name is Jesus! \n\n\n\n\n\n\nIf you have additional questions\, please let me know. The link to registration will be in the Description \n\n\nFebruary 21st\, 22nd and 23rd – 2025\n\n\nSee you there!!
URL:https://kingdomfire.us/event/michigan-mens-encounter-retreat-imlay-city-michigan-2/
LOCATION:Imlay City Christian Church\, 395 N. Cedar St.\, Imlay City\, MI\, 48444\, United States
CATEGORIES:Guest Speaker for Special Event
ATTACH;FMTTYPE=image/jpeg:https://kingdomfire.us/wp-content/uploads/2023/12/329344481_1157405331495141_1259914279099343960_n.jpg
END:VEVENT
BEGIN:VEVENT
DTSTART;VALUE=DATE:20250222
DTEND;VALUE=DATE:20250223
DTSTAMP:20260424T144329
CREATED:20250105T015229Z
LAST-MODIFIED:20250105T015229Z
UID:10000677-1740182400-1740268799@kingdomfire.us
SUMMARY:Michigan Men's Encounter Retreat | Imlay City\, Michigan
DESCRIPTION:Encounter Ministry exists to facilitate & encourage ENCOUNTERS with God that AWAKEN people to walk in AUTHENTIC relationship with Jesus Christ. \n\n\n Men’s Encounter: Michigan | February 2025 \n\n\n\nMy wife was blessed to be able go to a 3-day women’s retreat called “Women’s Encounter”.  She didn’t know what to expect… but just came expecting God to show up.\n\n\n\nSince that time\, she’s been ecstatic talking about how AWESOME of a time she had at this “Encounter”! She won’t to tell me details about the time she had because she said… “I had to experience it for myself”.\n\n\n\nWell\, I went for it\, fully expecting and believing to have an “Encounter” of my own and that’s exactly what happened!  \n\n\n\n  As men\, we are called to seek God first. “The Encounter” is 3 days of intense Spirit-led learning and testimonies by men from all walks of life. Every Encounter Weekend is a unique and individual experience where men have an opportunity to discover what happened at the Cross\, and how their lives can be changed forever because of God’s infinite grace.  \n\n\n\nThere are still some open spots available for any MEN who would like to join in on this “Encounter Experience”. I would love to lock arms with you and have you join us on this amazing weekend!!\n\n\n\n\nNo matter your past or present circumstances\, everything can change in a matter of 48 hours. Come encounter the living God through 3 days and 2 nights of intense heart transformation like you’ve never felt experienced before.  Encounter creates a culture that invites everybody to get real about life’s struggles and turn to Jesus as the one and only hope for healing\, deliverance and salvation. Encounter is a multi-denominational weekend where the focus is placed on love\, forgiveness & freedom in Christ rather than the denominational issues that divide us. We keep the main thing\, the main thing\, and His name is Jesus! \n\n\n\n\n\n\nIf you have additional questions\, please let me know. The link to registration will be in the Description \n\n\nFebruary 21st\, 22nd and 23rd – 2025\n\n\nSee you there!!
URL:https://kingdomfire.us/event/michigan-mens-encounter-retreat-imlay-city-michigan/
LOCATION:Imlay Christian Church\, 395 N. Cedar St.\, Imlay City\, MI\, 48444\, United States
CATEGORIES:Guest Speaker for Special Event
ATTACH;FMTTYPE=image/jpeg:https://kingdomfire.us/wp-content/uploads/2023/12/329344481_1157405331495141_1259914279099343960_n.jpg
END:VEVENT
BEGIN:VEVENT
DTSTART;TZID=UTC:20250221T150000
DTEND;TZID=UTC:20250221T220000
DTSTAMP:20260424T144329
CREATED:20250105T014757Z
LAST-MODIFIED:20250105T015036Z
UID:10000676-1740150000-1740175200@kingdomfire.us
SUMMARY:Michigan Men's Encounter Retreat | Imlay City\, Michigan
DESCRIPTION:Encounter Ministry exists to facilitate & encourage ENCOUNTERS with God that AWAKEN people to walk in AUTHENTIC relationship with Jesus Christ. \n\n\n Men’s Encounter: Michigan | February 2025 \n\n\n\nMy wife was blessed to be able go to a 3-day women’s retreat called “Women’s Encounter”.  She didn’t know what to expect… but just came expecting God to show up.\n\n\n\nSince that time\, she’s been ecstatic talking about how AWESOME of a time she had at this “Encounter”! She won’t to tell me details about the time she had because she said… “I had to experience it for myself”.\n\n\n\nWell\, I went for it\, fully expecting and believing to have an “Encounter” of my own and that’s exactly what happened!  \n\n\n\n  As men\, we are called to seek God first. “The Encounter” is 3 days of intense Spirit-led learning and testimonies by men from all walks of life. Every Encounter Weekend is a unique and individual experience where men have an opportunity to discover what happened at the Cross\, and how their lives can be changed forever because of God’s infinite grace.  \n\n\n\nThere are still some open spots available for any MEN who would like to join in on this “Encounter Experience”. I would love to lock arms with you and have you join us on this amazing weekend!!\n\n\n\n\nNo matter your past or present circumstances\, everything can change in a matter of 48 hours. Come encounter the living God through 3 days and 2 nights of intense heart transformation like you’ve never felt experienced before.  Encounter creates a culture that invites everybody to get real about life’s struggles and turn to Jesus as the one and only hope for healing\, deliverance and salvation. Encounter is a multi-denominational weekend where the focus is placed on love\, forgiveness & freedom in Christ rather than the denominational issues that divide us. We keep the main thing\, the main thing\, and His name is Jesus! \n\n\n\n\n\n\nIf you have additional questions\, please let me know. The link to registration will be in the Description \n\n\nFebruary 21st\, 22nd and 23rd – 2025\n\n\nSee you there!!
URL:https://kingdomfire.us/event/mens-encounter-weekend/
LOCATION:Imlay City Christian Church\, 395 N. Cedar St.\, Imlay City\, MI\, 48444\, United States
CATEGORIES:Guest Speaker for Special Event
ATTACH;FMTTYPE=image/jpeg:https://kingdomfire.us/wp-content/uploads/2023/12/329344481_1157405331495141_1259914279099343960_n.jpg
END:VEVENT
BEGIN:VEVENT
DTSTART;TZID=UTC:20240218T080000
DTEND;TZID=UTC:20240218T160000
DTSTAMP:20260424T144329
CREATED:20231214T234122Z
LAST-MODIFIED:20231214T234122Z
UID:10000231-1708243200-1708272000@kingdomfire.us
SUMMARY:Michigan Men's Encounter | Weekend Retreat | Imlay City\, Michigan
DESCRIPTION:Encounter Ministry exists to facilitate & encourage ENCOUNTERS with God that AWAKEN people to walk in AUTHENTIC relationship with Jesus Christ. \n\n\n Men’s Encounter: Michigan | February 2024 \n\n\n\nMy wife was blessed to be able go to a 3-day women’s retreat called “Women’s Encounter”.  She didn’t know what to expect… but just came expecting God to show up.\n\n\n\nSince that time\, she’s been ecstatic talking about how AWESOME of a time she had at this “Encounter”! She won’t to tell me details about the time she had because she said… “I had to experience it for myself”.\n\n\n\nWell\, I went for it\, fully expecting and believing to have an “Encounter” of my own and that’s exactly what happened!  \n\n\n\n  As men\, we are called to seek God first. “The Encounter” is 3 days of intense Spirit-led learning and testimonies by men from all walks of life. Every Encounter Weekend is a unique and individual experience where men have an opportunity to discover what happened at the Cross\, and how their lives can be changed forever because of God’s infinite grace.  \n\n\n\nThere are still some open spots available for any MEN who would like to join in on this “Encounter Experience”. I would love to lock arms with you and have you join us on this amazing weekend!!\n\n\n\n\nNo matter your past or present circumstances\, everything can change in a matter of 48 hours. Come encounter the living God through 3 days and 2 nights of intense heart transformation like you’ve never felt experienced before.  Encounter creates a culture that invites everybody to get real about life’s struggles and turn to Jesus as the one and only hope for healing\, deliverance and salvation. Encounter is a multi-denominational weekend where the focus is placed on love\, forgiveness & freedom in Christ rather than the denominational issues that divide us. We keep the main thing\, the main thing\, and His name is Jesus! \n\n\n\n\n\n\nIf you have additional questions\, please let me know. The link to registration will be in the Description \n\n\nFebruary 16th\, 17th and 18th – 2024\n\n\nSee you there!!
URL:https://kingdomfire.us/event/michigan-mens-encounter-weekend-retreat-imlay-city-michigan-2/
LOCATION:Imlay Christian Church\, 395 N. Cedar St.\, Imlay City\, MI\, 48444\, United States
CATEGORIES:Guest Speaker for Special Event
ATTACH;FMTTYPE=image/jpeg:https://kingdomfire.us/wp-content/uploads/2023/12/329344481_1157405331495141_1259914279099343960_n.jpg
END:VEVENT
BEGIN:VEVENT
DTSTART;VALUE=DATE:20240217
DTEND;VALUE=DATE:20240218
DTSTAMP:20260424T144329
CREATED:20231214T233942Z
LAST-MODIFIED:20231214T233942Z
UID:10000230-1708128000-1708214399@kingdomfire.us
SUMMARY:Michigan Men's Encounter | Weekend Retreat | Imlay City\, Michigan
DESCRIPTION:Encounter Ministry exists to facilitate & encourage ENCOUNTERS with God that AWAKEN people to walk in AUTHENTIC relationship with Jesus Christ. \n\n\n Men’s Encounter: Michigan | February 2024 \n\n\n\nMy wife was blessed to be able go to a 3-day women’s retreat called “Women’s Encounter”.  She didn’t know what to expect… but just came expecting God to show up.\n\n\n\nSince that time\, she’s been ecstatic talking about how AWESOME of a time she had at this “Encounter”! She won’t to tell me details about the time she had because she said… “I had to experience it for myself”.\n\n\n\nWell\, I went for it\, fully expecting and believing to have an “Encounter” of my own and that’s exactly what happened!  \n\n\n\n  As men\, we are called to seek God first. “The Encounter” is 3 days of intense Spirit-led learning and testimonies by men from all walks of life. Every Encounter Weekend is a unique and individual experience where men have an opportunity to discover what happened at the Cross\, and how their lives can be changed forever because of God’s infinite grace.  \n\n\n\nThere are still some open spots available for any MEN who would like to join in on this “Encounter Experience”. I would love to lock arms with you and have you join us on this amazing weekend!!\n\n\n\n\nNo matter your past or present circumstances\, everything can change in a matter of 48 hours. Come encounter the living God through 3 days and 2 nights of intense heart transformation like you’ve never felt experienced before.  Encounter creates a culture that invites everybody to get real about life’s struggles and turn to Jesus as the one and only hope for healing\, deliverance and salvation. Encounter is a multi-denominational weekend where the focus is placed on love\, forgiveness & freedom in Christ rather than the denominational issues that divide us. We keep the main thing\, the main thing\, and His name is Jesus! \n\n\n\n\n\n\nIf you have additional questions\, please let me know. The link to registration will be in the Description \n\n\nFebruary 16th\, 17th and 18th – 2024\n\n\nSee you there!!
URL:https://kingdomfire.us/event/michigan-mens-encounter-weekend-retreat-imlay-city-michigan/
LOCATION:Imlay Christian Church\, 395 N. Cedar St.\, Imlay City\, MI\, 48444\, United States
CATEGORIES:Guest Speaker for Special Event
ATTACH;FMTTYPE=image/jpeg:https://kingdomfire.us/wp-content/uploads/2023/12/329344481_1157405331495141_1259914279099343960_n.jpg
END:VEVENT
BEGIN:VEVENT
DTSTART;TZID=UTC:20240216T170000
DTEND;TZID=UTC:20240216T233000
DTSTAMP:20260424T144329
CREATED:20231214T233807Z
LAST-MODIFIED:20231214T233807Z
UID:10000229-1708102800-1708126200@kingdomfire.us
SUMMARY:Michigan Men's Encounter  | Men's Retreat Weekend | Imlay City\, Michigan
DESCRIPTION:Encounter Ministry exists to facilitate & encourage ENCOUNTERS with God that AWAKEN people to walk in AUTHENTIC relationship with Jesus Christ. \n\n\n Men’s Encounter: Michigan | February 2024 \n\n\n\nMy wife was blessed to be able go to a 3-day women’s retreat called “Women’s Encounter”.  She didn’t know what to expect… but just came expecting God to show up.\n\n\n\nSince that time\, she’s been ecstatic talking about how AWESOME of a time she had at this “Encounter”! She won’t to tell me details about the time she had because she said… “I had to experience it for myself”.\n\n\n\nWell\, I went for it\, fully expecting and believing to have an “Encounter” of my own and that’s exactly what happened!  \n\n\n\n  As men\, we are called to seek God first. “The Encounter” is 3 days of intense Spirit-led learning and testimonies by men from all walks of life. Every Encounter Weekend is a unique and individual experience where men have an opportunity to discover what happened at the Cross\, and how their lives can be changed forever because of God’s infinite grace.  \n\n\n\nThere are still some open spots available for any MEN who would like to join in on this “Encounter Experience”. I would love to lock arms with you and have you join us on this amazing weekend!!\n\n\n\n\nNo matter your past or present circumstances\, everything can change in a matter of 48 hours. Come encounter the living God through 3 days and 2 nights of intense heart transformation like you’ve never felt experienced before.  Encounter creates a culture that invites everybody to get real about life’s struggles and turn to Jesus as the one and only hope for healing\, deliverance and salvation. Encounter is a multi-denominational weekend where the focus is placed on love\, forgiveness & freedom in Christ rather than the denominational issues that divide us. We keep the main thing\, the main thing\, and His name is Jesus! \n\n\n\n\n\n\nIf you have additional questions\, please let me know. The link to registration will be in the Description \n\n\nFebruary 16th\, 17th and 18th – 2024\n\n\nSee you there!!
URL:https://kingdomfire.us/event/michigan-mens-encounter-mens-retreat-weekend-imlay-city-michigan/
LOCATION:Imlay Christian Church\, 395 N. Cedar St.\, Imlay City\, MI\, 48444\, United States
CATEGORIES:Guest Speaker for Special Event
ATTACH;FMTTYPE=image/jpeg:https://kingdomfire.us/wp-content/uploads/2023/12/329344481_1157405331495141_1259914279099343960_n.jpg
END:VEVENT
BEGIN:VEVENT
DTSTART;TZID=UTC:20230430T130000
DTEND;TZID=UTC:20230430T150000
DTSTAMP:20260424T144329
CREATED:20230425T210746Z
LAST-MODIFIED:20230425T211259Z
UID:10000168-1682859600-1682866800@kingdomfire.us
SUMMARY:Preaching in Deckerville\, Michigan
DESCRIPTION:DECKERVILLE\, MICHIGAN!! \nSo excited to be coming back THIS weekend!!\n\n\n\nIf you are in the thumb area (and do not have a home church OR would like to attend this service AFTER your home church) please come join us!\n\n\n\nIt’s going to be an amazing time together\, allowing Holy Spirit to do whatever He wants to do!\n\n\n\n**Justin was a drug addict for 14 years of his life. In 2018 he was radically and miraculously set free when a chain of events lead to the surrender of his life to Christ in the middle of a parking lot. Since the surrender of his life\, Justin has seen the miraculous power of God move mightily through his life and many others around him.**\n\n\n\nHealing and Deliverance \nProphetic Words \nPreaching the Kingdom \nFresh Revival Fire\n\n\n\nMiracles signs and wonders!!\nCome Expecting your Breakthrough!\n\n\n\nHallelujah – He’s Alive!\nLet’s Go!!
URL:https://kingdomfire.us/event/preaching-in-deckerville-michigan/
LOCATION:First Presbyterian Church\, 2426 Black River St.\, Deckerville\, MI\, 48427\, United States
CATEGORIES:Guest Speaker for Church Service
ATTACH;FMTTYPE=image/jpeg:https://kingdomfire.us/wp-content/uploads/2023/04/Church-1-scaled.jpg
END:VEVENT
BEGIN:VEVENT
DTSTART;TZID=UTC:20221210T170000
DTEND;TZID=UTC:20221211T170000
DTSTAMP:20260424T144329
CREATED:20221116T200437Z
LAST-MODIFIED:20221116T200437Z
UID:10000151-1670691600-1670778000@kingdomfire.us
SUMMARY:Michigan Men's Encounter - "Server Refresh and Renew"
DESCRIPTION:Paul encourages us in Galatians 6:9 not to grow weary in doing good.  Being a server at Men’s Encounter is certainly rewarding\, but can also be exhausting.  Come to relax\, refill and be renewed as we spend time in fellowship\, breaking bread and increasing our bond of unity. \n  \nBring a bedroll and belongings to stay overnight or your RV or Camping Trailer.  We will share 3 meals together and be encouraged by two guest speakers: \n  \nJustin Fahrenbruch and Loren Siffring
URL:https://kingdomfire.us/event/michigan-mens-encounter-server-refresh-and-renew/2022-12-10/
LOCATION:Abbotts\, 5011 Mayville Rd\, Silverwood\, MI\, 48760\, United States
CATEGORIES:Guest Speaker at Conference
END:VEVENT
BEGIN:VEVENT
DTSTART;TZID=UTC:20221209T170000
DTEND;TZID=UTC:20221210T170000
DTSTAMP:20260424T144329
CREATED:20221116T200437Z
LAST-MODIFIED:20221116T200437Z
UID:10000150-1670605200-1670691600@kingdomfire.us
SUMMARY:Michigan Men's Encounter - "Server Refresh and Renew"
DESCRIPTION:Paul encourages us in Galatians 6:9 not to grow weary in doing good.  Being a server at Men’s Encounter is certainly rewarding\, but can also be exhausting.  Come to relax\, refill and be renewed as we spend time in fellowship\, breaking bread and increasing our bond of unity. \n  \nBring a bedroll and belongings to stay overnight or your RV or Camping Trailer.  We will share 3 meals together and be encouraged by two guest speakers: \n  \nJustin Fahrenbruch and Loren Siffring
URL:https://kingdomfire.us/event/michigan-mens-encounter-server-refresh-and-renew/2022-12-09/
LOCATION:Abbotts\, 5011 Mayville Rd\, Silverwood\, MI\, 48760\, United States
CATEGORIES:Guest Speaker at Conference
END:VEVENT
BEGIN:VEVENT
DTSTART;TZID=UTC:20221127T130000
DTEND;TZID=UTC:20221127T170000
DTSTAMP:20260424T144329
CREATED:20221115T220323Z
LAST-MODIFIED:20221116T193538Z
UID:10000149-1669554000-1669568400@kingdomfire.us
SUMMARY:Deckerville Community Church
DESCRIPTION:We’re Super excited to be coming back out to Deckerville\, Michigan! \n  \nIf you are in the thumb area (and do not have a home church OR would like to attend this service AFTER your home church) please come join us! \nIt’s going to be an amazing time together\, allowing Holy Spirit to do whatever He wants to do! \n\n**Justin was a drug addict for 14 years of his life. In 2018 he was radically and miraculously set free when a chain of events lead to the surrender of his life to Christ in the middle of a parking lot. Since the surrender of his life\, Justin has seen the miraculous power of God move mightily through his life and many others around him.**\n\n\n\nHealing and Deliverance \nProphetic Words \nPreaching the Kingdom \nFresh Revival Fire\n\n\n\nMiracles signs and wonders!!\nCome Expecting your Breakthrough!\n\n\n\nHallelujah – He’s Alive!\nLet’s Go!!\n\n  \n  \nIt’s always a fun time when we get together!  If you were part of the “Deckerville Youth Festival” in June – you know God is doing something special in this city!! \n  \nSee you then!
URL:https://kingdomfire.us/event/deckerville-community-church/
LOCATION:Deckerville Community Center\, 3451 Main St.\, Deckerville\, MI\, 48427\, United States
CATEGORIES:Guest Speaker for Church Service
ATTACH;FMTTYPE=image/jpeg:https://kingdomfire.us/wp-content/uploads/2022/11/Small-Flyer.jpg
END:VEVENT
END:VCALENDAR