BEGIN:VCALENDAR
VERSION:2.0
PRODID:-//Kingdom Fire - ECPv6.15.20//NONSGML v1.0//EN
CALSCALE:GREGORIAN
METHOD:PUBLISH
X-WR-CALNAME:Kingdom Fire
X-ORIGINAL-URL:https://kingdomfire.us
X-WR-CALDESC:Events for Kingdom Fire
REFRESH-INTERVAL;VALUE=DURATION:PT1H
X-Robots-Tag:noindex
X-PUBLISHED-TTL:PT1H
BEGIN:VTIMEZONE
TZID:UTC
BEGIN:STANDARD
TZOFFSETFROM:+0000
TZOFFSETTO:+0000
TZNAME:UTC
DTSTART:20220101T000000
END:STANDARD
END:VTIMEZONE
BEGIN:VEVENT
DTSTART;TZID=UTC:20251101T180000
DTEND;TZID=UTC:20251101T230000
DTSTAMP:20260423T215317
CREATED:20251001T185031Z
LAST-MODIFIED:20251001T185031Z
UID:10001010-1762020000-1762038000@kingdomfire.us
SUMMARY:Guest Speaker for Memorial Service - Ev. Justin Fahrenbruch | The Hope Barn |  Lapeer\, Michigan
DESCRIPTION:  LAPEER\, MICHIGAN   \n\n\n“Let Freedom Reign–Charlie Kirk Memorial Service”\n\n\n Saturday\, November 1st  – 6:00PM\n\nA night of honoring our vets with a patriotic message\n\n\n\n** FREE AND OPEN TO THE PUBLIC **
URL:https://kingdomfire.us/event/guest-speaker-for-memorial-service-in-lapeer/
LOCATION:The Hope Barn\, 3421 Bronson Lake Rd.\, Lapeer\, MI\, 48446\, United States
CATEGORIES:Guest Speaker for Special Event,Revival Services,Special Event
ATTACH;FMTTYPE=image/jpeg:https://kingdomfire.us/wp-content/uploads/2025/10/Hope-Barn.jpg
ORGANIZER;CN="Jacqueline Stone":MAILTO:mommastone78@yahoo.com
END:VEVENT
BEGIN:VEVENT
DTSTART;TZID=UTC:20250531T180000
DTEND;TZID=UTC:20250531T230000
DTSTAMP:20260423T215317
CREATED:20250203T223649Z
LAST-MODIFIED:20250521T232040Z
UID:10000685-1748714400-1748732400@kingdomfire.us
SUMMARY:Guest Speaker for Revival Service - Ev. Justin Fahrenbruch | The Hope Barn |  Lapeer\, Michigan
DESCRIPTION:  LAPEER\, MICHIGAN   \n\n\n“Holy Spirit Filled – Glory Night”\n\n\n Saturday\, May 31st  – 6:00PM\n\nA night of REVELATION and MIRACLES \n\n\n\n** FREE AND OPEN TO THE PUBLIC **
URL:https://kingdomfire.us/event/guest-speaker-for-revival-in-lapeer/
LOCATION:The Hope Barn\, 3421 Bronson Lake Rd.\, Lapeer\, MI\, 48446\, United States
CATEGORIES:Revival Services
ATTACH;FMTTYPE=image/jpeg:https://kingdomfire.us/wp-content/uploads/2025/02/497992047_1450418422794351_4563392547544274732_n.jpg
ORGANIZER;CN="Jacqueline Stone":MAILTO:mommastone78@yahoo.com
END:VEVENT
BEGIN:VEVENT
DTSTART;TZID=UTC:20240622T180000
DTEND;TZID=UTC:20240622T210000
DTSTAMP:20260423T215317
CREATED:20240117T190346Z
LAST-MODIFIED:20240604T204319Z
UID:10000241-1719079200-1719090000@kingdomfire.us
SUMMARY:The Hope Barn Revival Services | Guest Speaker | Lapeer\, Michigan
DESCRIPTION:Super excited to be coming back to spend time in “The Thumb” of Michigan this weekend! \nOur good friends at The Hope Barn have invited us back to come\, share and light it up once again! \nThe LORD has directed us to not just preach… but teach & equip the Saints. \nAnointed Worship & Preaching!! \n** More details to come!! **
URL:https://kingdomfire.us/event/the-hope-barn-revival-services-guest-speaker-lapeer-michigan/
LOCATION:The Hope Barn\, 3421 Bronson Lake Rd.\, Lapeer\, MI\, 48446\, United States
CATEGORIES:Guest Speaker for Special Event
ATTACH;FMTTYPE=image/jpeg:https://kingdomfire.us/wp-content/uploads/2024/01/441954957_344727558639723_6914741694710323470_n.jpg
ORGANIZER;CN="Jacqueline Stone":MAILTO:mommastone78@yahoo.com
END:VEVENT
BEGIN:VEVENT
DTSTART;TZID=UTC:20231111T180000
DTEND;TZID=UTC:20231111T210000
DTSTAMP:20260423T215317
CREATED:20231024T194613Z
LAST-MODIFIED:20231024T195015Z
UID:10000220-1699725600-1699736400@kingdomfire.us
SUMMARY:Guest Speaker | The Hope Barn - Lapeer\, MI | DIVINE HEALING EQUIPPING
DESCRIPTION:Super excited to be coming back to spend time in “The Thumb” of Michigan this weekend! \nOur good friends at The Hope Barn have invited us back to come\, share and light it up once again! \nThe LORD has directed us to not just preach… but teach & equip the Saints. \n“THE TRUTH ABOUT DIVINE HEALING” \n  \nHave you had questions about DIVINE HEALING in the Bible? \nIs healing for today?   Did the gifts pass away with the apostles? \nIs it possible is normal\, everyday average believers to pray for the sick? \nWhat qualifies you to pray for the sick? \nHow does healing work?  Why do some people operate stronger in this “gift” than others? \n  \nWe’ll be answering these questions and MANY MORE on this special Saturday service at THE HOPE BARN. \nAt the end of the service\, we will be praying for anyone and everyone who needs physical healing in their bodies as we prove that Jesus Christ is the same yesterday… today… and forever (Hebrews 13:8) \nBreaking down principles that will help you to operate in the power of GOD more freely\, more confidently and more boldly. \n  \nLooking forward to seeing you there!
URL:https://kingdomfire.us/event/guest-speaker-the-hope-barn-lapeer-mi-divine-healing-equipping/
LOCATION:The Hope Barn\, 3421 Bronson Lake Rd.\, Lapeer\, MI\, 48446\, United States
CATEGORIES:Guest Speaker for Special Event
ATTACH;FMTTYPE=image/jpeg:https://kingdomfire.us/wp-content/uploads/2023/10/394529500_208949408884206_4746681684723407759_n.jpg
ORGANIZER;CN="Jacqueline Stone":MAILTO:mommastone78@yahoo.com
END:VEVENT
BEGIN:VEVENT
DTSTART;TZID=UTC:20230617T183000
DTEND;TZID=UTC:20230617T210000
DTSTAMP:20260423T215317
CREATED:20230606T232326Z
LAST-MODIFIED:20230606T232349Z
UID:10000182-1687026600-1687035600@kingdomfire.us
SUMMARY:Revolution Worship Night | Revival Service | Lapeer\, MI
DESCRIPTION:LAPEER\, MICHIGAN \n\n\n\nMark your calendars! You won’t want to miss this!!\n Saturday\, June 17th \n\n\n\n REVIVAL SERVICE \n\n\n\nCome and receive your blessing from the Lord.\n\n\n\n**Justin was a drug addict for 14 years of his life. In 2018 he was radically and miraculously set free when a chain of events lead to an encounter with Jesus Christ in the middle of a parking lot. Since the surrender of his life\, Justin has seen the miraculous power of The Holy Spirit move mightily through his life and many others around him.**\n\n\n\n Amazing Praise and Worship \n Healing and Deliverance \n Prophetic Words \n Preaching the Kingdom \n Holy Spirit Baptisms \n Fresh Fire \n\n\n\nMiracles signs and wonders!!\nCome Expecting your Breakthrough!\n\n\n\nHallelujah – He’s Alive!\nLet’s Go!
URL:https://kingdomfire.us/event/revolution-worship-night-revival-services-lapeer-mi/
LOCATION:The Hope Barn\, 3421 Bronson Lake Rd.\, Lapeer\, MI\, 48446\, United States
CATEGORIES:Guest Speaker for Church Service
ATTACH;FMTTYPE=image/jpeg:https://kingdomfire.us/wp-content/uploads/2023/06/352230076_796782045408675_4172354554635348364_n.jpg
ORGANIZER;CN="Jacqueline Stone":MAILTO:mommastone78@yahoo.com
END:VEVENT
END:VCALENDAR