BEGIN:VCALENDAR
VERSION:2.0
PRODID:-//Kingdom Fire - ECPv6.15.20//NONSGML v1.0//EN
CALSCALE:GREGORIAN
METHOD:PUBLISH
X-ORIGINAL-URL:https://kingdomfire.us
X-WR-CALDESC:Events for Kingdom Fire
REFRESH-INTERVAL;VALUE=DURATION:PT1H
X-Robots-Tag:noindex
X-PUBLISHED-TTL:PT1H
BEGIN:VTIMEZONE
TZID:UTC
BEGIN:STANDARD
TZOFFSETFROM:+0000
TZOFFSETTO:+0000
TZNAME:UTC
DTSTART:20230101T000000
END:STANDARD
END:VTIMEZONE
BEGIN:VEVENT
DTSTART;TZID=UTC:20240519T180000
DTEND;TZID=UTC:20240519T210000
DTSTAMP:20260424T054534
CREATED:20240422T003740Z
LAST-MODIFIED:20240430T232318Z
UID:10000270-1716141600-1716152400@kingdomfire.us
SUMMARY:Evangelism Equipping Weekend | Regional Gathering | The Ark Hub - Flint\, Michigan
DESCRIPTION:Come on out and join us for an entire weekend for Evangelism Equipping: \nFriday\, May 17th –  6:00PM  :  Justin Fahrenbruch sharing his testimony and altar ministry \n  \nSaturday May 18th  –  (3 Session) \nMorning Session  9:00AM – 12:00PM  –  Personal Evangelism  (Justin) \n(Lunch Break)  –  Activation Opportunity \n  \nAfternoon Session  2:00PM – 4:00PM  –  Prophetic Evangelism  (Lonnie) \n(Dinner Break)  –  Activation Opportunity \n  \nEvening Session 6:00PM – 9:00PM –  Power Evangelism  (Justin) \nAltar Ministry / Healing & Deliverance \n  \nSunday May 19th – Church Service  6:00PM \nPractical Application // Q&A Time // Impartation   (Justin + Lonnie) \n  \n🚦 Evangelism Equipping and Impartation 🚦 \n\nHow to lead with love\nBoldness to step out in faith\nHow to approach people\nDealing with rejection\nMeeting people where they’re at\nHow to release a Prophetic Word over someone\nFlowing in the gifts of the Spirit\nPraying for the sick and oppressed\nHow to lead someone to Christ\n\n  \nThis will be a fun weekend for the whole family – come on out to be equipped\, encouraged\, great fellowship and have some fun all at the same time. \n  \nSee you there!
URL:https://kingdomfire.us/event/regional-evangelism-equipping-flint-michigan-2-2/
LOCATION:The Ark – Flint\, 2920 W. Court St.\, Flint\, MI\, 48503\, United States
CATEGORIES:Evangelism Equipping
ATTACH;FMTTYPE=image/jpeg:https://kingdomfire.us/wp-content/uploads/2024/04/440852886_318328201298118_3105721116246200895_n.jpg
ORGANIZER;CN="Apostle Matt Jones":MAILTO:Matt@thearkflint.com
END:VEVENT
BEGIN:VEVENT
DTSTART;TZID=UTC:20240517T180000
DTEND;TZID=UTC:20240517T210000
DTSTAMP:20260424T054534
CREATED:20240422T003151Z
LAST-MODIFIED:20240430T232556Z
UID:10000268-1715968800-1715979600@kingdomfire.us
SUMMARY:Evangelism Equipping Weekend | Regional Gathering | The Ark Hub - Flint\, Michigan
DESCRIPTION:Come on out and join us for an entire weekend for Evangelism Equipping: \nFriday\, May 17th –  6:00PM  :  Justin Fahrenbruch sharing his testimony and altar ministry \n  \nSaturday May 18th  –  (3 Session) \nMorning Session  9:00AM – 12:00PM  –  Personal Evangelism  (Justin) \n(Lunch Break)  –  Activation Opportunity \n  \nAfternoon Session  2:00PM – 4:00PM  –  Prophetic Evangelism  (Lonnie) \n(Dinner Break)  –  Activation Opportunity \n  \nEvening Session 6:00PM – 9:00PM –  Power Evangelism  (Justin) \nAltar Ministry / Healing & Deliverance \n  \nSunday May 19th – Church Service  6:00PM \nPractical Application // Q&A Time // Impartation   (Justin + Lonnie) \n  \n🚦 Evangelism Equipping and Impartation 🚦 \n\nHow to lead with love\nBoldness to step out in faith\nHow to approach people\nDealing with rejection\nMeeting people where they’re at\nHow to release a Prophetic Word over someone\nFlowing in the gifts of the Spirit\nPraying for the sick and oppressed\nHow to lead someone to Christ\n\n  \nThis will be a fun weekend for the whole family – come on out to be equipped\, encouraged\, great fellowship and have some fun all at the same time. \n  \nSee you there!
URL:https://kingdomfire.us/event/regional-evangelism-equipping-flint-michigan/
LOCATION:The Ark – Flint\, 2920 W. Court St.\, Flint\, MI\, 48503\, United States
CATEGORIES:Evangelism Equipping
ATTACH;FMTTYPE=image/jpeg:https://kingdomfire.us/wp-content/uploads/2024/04/440852886_318328201298118_3105721116246200895_n-2.jpg
ORGANIZER;CN="Apostle Matt Jones":MAILTO:Matt@thearkflint.com
END:VEVENT
END:VCALENDAR