BEGIN:VCALENDAR
VERSION:2.0
PRODID:-//Kingdom Fire - ECPv6.15.20//NONSGML v1.0//EN
CALSCALE:GREGORIAN
METHOD:PUBLISH
X-WR-CALNAME:Kingdom Fire
X-ORIGINAL-URL:https://kingdomfire.us
X-WR-CALDESC:Events for Kingdom Fire
REFRESH-INTERVAL;VALUE=DURATION:PT1H
X-Robots-Tag:noindex
X-PUBLISHED-TTL:PT1H
BEGIN:VTIMEZONE
TZID:UTC
BEGIN:STANDARD
TZOFFSETFROM:+0000
TZOFFSETTO:+0000
TZNAME:UTC
DTSTART:20250101T000000
END:STANDARD
END:VTIMEZONE
BEGIN:VEVENT
DTSTART;TZID=UTC:20260618T210000
DTEND;TZID=UTC:20260618T223000
DTSTAMP:20260423T213810
CREATED:20250216T220513Z
LAST-MODIFIED:20251111T194722Z
UID:10000767-1781816400-1781821800@kingdomfire.us
SUMMARY:Kingdom Fire Equipping and Discipleship  | |   FREE Bible Study & Community Group   ||  Online via ZOOM
DESCRIPTION:Kingdom Fire Equipping and Discipleship\n\n EVERY THURSDAY @ 9:00PM (ETZ) \n\nYour host\, Justin Fahrenbruch – Kingdom Fire Ministries – is inviting you to an On-Line\, Interactive\, LIVE (Non-Public)\, Discipleship/Bible Study Group.\n\nThis is not be your ordinary “Bible Study” group.  The instruction I have received of the LORD is to expand His Kingdom by raising up Warrior-Disciples.  In this Study Group you will be stretched\, built up and encouraged to go deeper in your walk with Christ.  Divine Connections will be bridged and building relationships that work together for Kingdom Advancement on earth as it is in Heaven.\n\nThere is 30-45 minutes of teaching on various topics by Justin Fahrenbrcuh\nAfter the teaching\, there is another 45 minutes of “Community Time”\n\n Question and Answer\n Sharing what’s on your heart\n Praying and Encouraging one another\n\n** All of the teaching sessions are being recorded and uploaded to our website **\n\n\nReplay Access to this Teaching Series and ALL other teaching series are available for FREE as a special gift to monthly partners with our ministry.\n www.kingdomfire.us/partners-classes \n\n\n*** YOU MUST REGISTER IN ORDER TO RECEIVE THE ACCESS LINK TO THE ZOOM STUDIES ***\n** THE SAME LINK IS USED EVERY WEEK\, SO SAVE THE LINK **\n\n REGISTER HERE: https://us02web.zoom.us/meeting/register/tZ0tce2hqjwsHNyJ3hGAIeeamVbyvbQW22QF \n\n\nSEE YOU THIS THURSDAY @ 9PM!
URL:https://kingdomfire.us/event/kingdom-foundations-identity-in-christ-online-bible-study-2-2/2026-06-18/
LOCATION:ZOOM VIRTUAL ONLINE CLASSROOM
CATEGORIES:Equipping Class,Kingdom Equipping
ATTACH;FMTTYPE=image/jpeg:https://kingdomfire.us/wp-content/uploads/2024/04/Online-bible-study-classes-flyer-scaled.jpg
ORGANIZER;CN="Justin Fahrenbruch":MAILTO:Admin@Kingdomfire.us
END:VEVENT
BEGIN:VEVENT
DTSTART;TZID=UTC:20260621T090000
DTEND;TZID=UTC:20260621T170000
DTSTAMP:20260423T213810
CREATED:20260410T233225Z
LAST-MODIFIED:20260410T233225Z
UID:10001075-1782032400-1782061200@kingdomfire.us
SUMMARY:Guest Speaker for Church Service  |  Vertical Life Church |  Clio\, Michigan
DESCRIPTION:CLIO\, MICHIGAN \nIf you’re in the Clio area and don’t currently have a home church—or it’s been a while since you’ve stepped into one—we’d love to personally invite you to join us for a special Sunday service! \n📍 Location:Vertical Life Church – 500 S. Mill St.  Suite 3    Clio\, Michigan 48420 \n📅 Date:Sunday\, June 21st \n⏰ Service Time:9:00 AM & 11:00AM \n🎤 Guest Speaker:Evangelist Justin Fahrenbruch \nAfter 14 years of addiction\, Justin had a life-altering encounter with Jesus in 2018 that completely transformed his life. In the middle of an ordinary day\, in a parking lot\, he surrendered everything to Christ—and in that moment\, everything changed. \nSince that encounter\, Justin\, alongside his family\, has stepped into full-time missionary ministry through Kingdom Fire Ministries—traveling\, preaching the Gospel\, equipping believers\, and reaching those who may never walk into a church. \nThis Sunday will be more than just a service—it will be a time of sharing testimony\, mission\, and the powerful reality of what God is doing today. Come expectant for encouragement\, freedom\, and a real encounter with the presence of God. \n✨ Come as you are.👥 Bring a friend.🔥 We’d love to see you there.
URL:https://kingdomfire.us/event/guest-speaker-for-church-service-vertical-life-church-clio-michigan/
LOCATION:Vertical Life Church\, 500 S. Mill St. Suite 3\, Clio\, MI\, 48420\, United States
CATEGORIES:Guest Speaker for Church Service
ATTACH;FMTTYPE=image/jpeg:https://kingdomfire.us/wp-content/uploads/2026/04/A4-Guest-Speaker-1-scaled.jpg
END:VEVENT
END:VCALENDAR