BEGIN:VCALENDAR
VERSION:2.0
PRODID:-//Kingdom Fire - ECPv6.15.20//NONSGML v1.0//EN
CALSCALE:GREGORIAN
METHOD:PUBLISH
X-WR-CALNAME:Kingdom Fire
X-ORIGINAL-URL:https://kingdomfire.us
X-WR-CALDESC:Events for Kingdom Fire
REFRESH-INTERVAL;VALUE=DURATION:PT1H
X-Robots-Tag:noindex
X-PUBLISHED-TTL:PT1H
BEGIN:VTIMEZONE
TZID:UTC
BEGIN:STANDARD
TZOFFSETFROM:+0000
TZOFFSETTO:+0000
TZNAME:UTC
DTSTART:20250101T000000
END:STANDARD
END:VTIMEZONE
BEGIN:VEVENT
DTSTART;TZID=UTC:20260507T210000
DTEND;TZID=UTC:20260507T223000
DTSTAMP:20260423T203941
CREATED:20250216T220513Z
LAST-MODIFIED:20251111T194722Z
UID:10000761-1778187600-1778193000@kingdomfire.us
SUMMARY:Kingdom Fire Equipping and Discipleship  | |   FREE Bible Study & Community Group   ||  Online via ZOOM
DESCRIPTION:Kingdom Fire Equipping and Discipleship\n\n EVERY THURSDAY @ 9:00PM (ETZ) \n\nYour host\, Justin Fahrenbruch – Kingdom Fire Ministries – is inviting you to an On-Line\, Interactive\, LIVE (Non-Public)\, Discipleship/Bible Study Group.\n\nThis is not be your ordinary “Bible Study” group.  The instruction I have received of the LORD is to expand His Kingdom by raising up Warrior-Disciples.  In this Study Group you will be stretched\, built up and encouraged to go deeper in your walk with Christ.  Divine Connections will be bridged and building relationships that work together for Kingdom Advancement on earth as it is in Heaven.\n\nThere is 30-45 minutes of teaching on various topics by Justin Fahrenbrcuh\nAfter the teaching\, there is another 45 minutes of “Community Time”\n\n Question and Answer\n Sharing what’s on your heart\n Praying and Encouraging one another\n\n** All of the teaching sessions are being recorded and uploaded to our website **\n\n\nReplay Access to this Teaching Series and ALL other teaching series are available for FREE as a special gift to monthly partners with our ministry.\n www.kingdomfire.us/partners-classes \n\n\n*** YOU MUST REGISTER IN ORDER TO RECEIVE THE ACCESS LINK TO THE ZOOM STUDIES ***\n** THE SAME LINK IS USED EVERY WEEK\, SO SAVE THE LINK **\n\n REGISTER HERE: https://us02web.zoom.us/meeting/register/tZ0tce2hqjwsHNyJ3hGAIeeamVbyvbQW22QF \n\n\nSEE YOU THIS THURSDAY @ 9PM!
URL:https://kingdomfire.us/event/kingdom-foundations-identity-in-christ-online-bible-study-2-2/2026-05-07/
LOCATION:ZOOM VIRTUAL ONLINE CLASSROOM
CATEGORIES:Equipping Class,Kingdom Equipping
ATTACH;FMTTYPE=image/jpeg:https://kingdomfire.us/wp-content/uploads/2024/04/Online-bible-study-classes-flyer-scaled.jpg
ORGANIZER;CN="Justin Fahrenbruch":MAILTO:Admin@Kingdomfire.us
END:VEVENT
BEGIN:VEVENT
DTSTART;TZID=UTC:20260509T100000
DTEND;TZID=UTC:20260509T153000
DTSTAMP:20260423T203941
CREATED:20260325T153505Z
LAST-MODIFIED:20260330T220505Z
UID:10001067-1778320800-1778340600@kingdomfire.us
SUMMARY:Guest Speaker  |  Jesus in the Public Square - Liberty Leaders Unite  |  Eastpointe\, Michigan
DESCRIPTION:𝐉𝐞𝐬𝐮𝐬 𝐢𝐧 𝐭𝐡𝐞 𝐏𝐮𝐛𝐥𝐢𝐜 𝐒𝐪𝐮𝐚𝐫𝐞 A powerful gathering focused on 𝙀𝙫𝙖𝙣𝙜𝙚𝙡𝙞𝙨𝙢 𝙏𝙧𝙖𝙞𝙣𝙞𝙣𝙜\, 𝙁𝙖𝙞𝙩𝙝 𝙞𝙣 𝘼𝙘𝙩𝙞𝙤𝙣\, 𝙖𝙣𝙙 𝘾𝙤𝙢𝙢𝙪𝙣𝙞𝙩𝙮 𝙄𝙢𝙥𝙖𝙘𝙩. Join us as we come together to boldly preach the Gospel and take the message of Jesus beyond the four walls of the church and into our communities.  \n \n 𝓖𝓾𝓮𝓼𝓽 𝓢𝓹𝓮𝓪𝓴𝓮𝓻𝓼: Apostle Ellis Smith\, Lisha Kilgus\, Justin Fahrenbruch\, and Pastor Dion. Each speaker brings a unique testimony\, calling\, and passion for seeing lives transformed\, believers equipped\, and communities impacted by the power of Jesus Christ.   \n𝗦𝗮𝘁𝘂𝗿𝗱𝗮𝘆\, 𝗠𝗮𝘆 𝟵𝘁𝗵  𝟭𝟬:𝟬𝟬 𝗔𝗠 \nLunch will be provided.  \nCome ready to be encouraged\, equipped\, and ignited to live out your faith in the public square. \nEVENT IS FREE — BUT PLEASE REGISTER SO WE HAVE A HEAD COUNT FOR FOOD \nhttps://www.libertyleadersunite.org/event-details-registration/jesus-in-the-public-square-preaching-the-gospel-and-evangelism-training
URL:https://kingdomfire.us/event/guest-speaker-jesus-in-the-public-square-liberty-leaders-unite-eastpointe-michigan/
LOCATION:Christian Trinity Church\, 21770 Kelly Rd.\, Eastpointe\, MI\, 48021\, United States
CATEGORIES:Evangelism Equipping,Special Event
ATTACH;FMTTYPE=image/jpeg:https://kingdomfire.us/wp-content/uploads/2026/03/659363775_1701542627681928_4601359438339690164_n-1.jpg
END:VEVENT
END:VCALENDAR