BEGIN:VCALENDAR
VERSION:2.0
PRODID:-//Kingdom Fire - ECPv6.15.20//NONSGML v1.0//EN
CALSCALE:GREGORIAN
METHOD:PUBLISH
X-ORIGINAL-URL:https://kingdomfire.us
X-WR-CALDESC:Events for Kingdom Fire
REFRESH-INTERVAL;VALUE=DURATION:PT1H
X-Robots-Tag:noindex
X-PUBLISHED-TTL:PT1H
BEGIN:VTIMEZONE
TZID:UTC
BEGIN:STANDARD
TZOFFSETFROM:+0000
TZOFFSETTO:+0000
TZNAME:UTC
DTSTART:20250101T000000
END:STANDARD
END:VTIMEZONE
BEGIN:VEVENT
DTSTART;TZID=UTC:20260423T210000
DTEND;TZID=UTC:20260423T223000
DTSTAMP:20260423T225208
CREATED:20250216T220513Z
LAST-MODIFIED:20251111T194722Z
UID:10000759-1776978000-1776983400@kingdomfire.us
SUMMARY:Kingdom Fire Equipping and Discipleship  | |   FREE Bible Study & Community Group   ||  Online via ZOOM
DESCRIPTION:Kingdom Fire Equipping and Discipleship\n\n EVERY THURSDAY @ 9:00PM (ETZ) \n\nYour host\, Justin Fahrenbruch – Kingdom Fire Ministries – is inviting you to an On-Line\, Interactive\, LIVE (Non-Public)\, Discipleship/Bible Study Group.\n\nThis is not be your ordinary “Bible Study” group.  The instruction I have received of the LORD is to expand His Kingdom by raising up Warrior-Disciples.  In this Study Group you will be stretched\, built up and encouraged to go deeper in your walk with Christ.  Divine Connections will be bridged and building relationships that work together for Kingdom Advancement on earth as it is in Heaven.\n\nThere is 30-45 minutes of teaching on various topics by Justin Fahrenbrcuh\nAfter the teaching\, there is another 45 minutes of “Community Time”\n\n Question and Answer\n Sharing what’s on your heart\n Praying and Encouraging one another\n\n** All of the teaching sessions are being recorded and uploaded to our website **\n\n\nReplay Access to this Teaching Series and ALL other teaching series are available for FREE as a special gift to monthly partners with our ministry.\n www.kingdomfire.us/partners-classes \n\n\n*** YOU MUST REGISTER IN ORDER TO RECEIVE THE ACCESS LINK TO THE ZOOM STUDIES ***\n** THE SAME LINK IS USED EVERY WEEK\, SO SAVE THE LINK **\n\n REGISTER HERE: https://us02web.zoom.us/meeting/register/tZ0tce2hqjwsHNyJ3hGAIeeamVbyvbQW22QF \n\n\nSEE YOU THIS THURSDAY @ 9PM!
URL:https://kingdomfire.us/event/kingdom-foundations-identity-in-christ-online-bible-study-2-2/2026-04-23/
LOCATION:ZOOM VIRTUAL ONLINE CLASSROOM
CATEGORIES:Equipping Class,Kingdom Equipping
ATTACH;FMTTYPE=image/jpeg:https://kingdomfire.us/wp-content/uploads/2024/04/Online-bible-study-classes-flyer-scaled.jpg
ORGANIZER;CN="Justin Fahrenbruch":MAILTO:Admin@Kingdomfire.us
END:VEVENT
BEGIN:VEVENT
DTSTART;TZID=UTC:20260425T180000
DTEND;TZID=UTC:20260425T220000
DTSTAMP:20260423T225208
CREATED:20260322T022753Z
LAST-MODIFIED:20260407T005719Z
UID:10001058-1777140000-1777154400@kingdomfire.us
SUMMARY:Guest Speaker @ The Hope Barn | "Baptized By Fire" Revival Service | Lapeer\, Michigan
DESCRIPTION:🔥 HOPE BARN REVIVAL SERVICE 🔥\nThere is more. \nMore power.More encounter.More of the Holy Spirit. \nJoin us for a powerful night at the Hope Barn Revival Service as we gather hungry\, expectant\, and ready for a fresh move of God. \nThis night\, Evangelist Justin Fahrenbruch will be ministering on: \n🔥 The Baptism of the Holy Spirit🔥 Speaking in your Heavenly Langauge (Gift of Tongues)🔥 Living empowered by the Spirit of God \nThis is not just teaching — this is an activation night. \nWe are believing and praying for:\n🔥 Fresh infilling of the Holy Spirit🔥 Boldness and power released🔥 Breakthrough and freedom🔥 A deeper encounter with God \nIf you’ve been hungry for more… this night is for you. \n\n📍 Location:3421 Bronson Lake Rd.Lapeer\, MI \n📅 Date:April 25 \nService:  6:30PM \nDoors open at 6:00PM
URL:https://kingdomfire.us/event/guest-speaker-the-hope-barn-holy-spirit-baptism-revival-service-lapeer-michigan/
LOCATION:The Hope Barn\, 3421 Bronson Lake Rd.\, Lapeer\, MI\, 48446\, United States
CATEGORIES:Revival Services
ATTACH;FMTTYPE=image/jpeg:https://kingdomfire.us/wp-content/uploads/2026/03/Baptized-By-Fire-Hope-Barn.jpg
ORGANIZER;CN="Jacqueline Stone":MAILTO:mommastone78@yahoo.com
END:VEVENT
BEGIN:VEVENT
DTSTART;TZID=UTC:20260426T100000
DTEND;TZID=UTC:20260426T120000
DTSTAMP:20260423T225208
CREATED:20260401T144102Z
LAST-MODIFIED:20260401T144102Z
UID:10001071-1777197600-1777204800@kingdomfire.us
SUMMARY:Guest Speaker for Church Service  |  Glory House International Ministries  |  Saginaw\, Michigan
DESCRIPTION:SAGINAW\, MICHIGAN \n\n\n\nIf you’re in Saginaw County and don’t have a home church—or it’s been a while since you’ve been in church—we would love to invite you to join us at Glory House International Ministries – Sunday\, April 26th!\n\n\n\n Service Time:\n10:00 AM\n\n\n\n Guest Speaker:\nEvangelist Justin Fahrenbruch \n\n\n\nAfter 14 years bound by addiction\, Justin experienced a radical and miraculous encounter with Jesus in 2018 that completely changed the trajectory of his life. In the middle of an ordinary day—and an unexpected parking lot—he surrendered his life to Christ and was instantly set free. Since that moment\, Justin has seen the dynamic power of God move not only in his own life\, but through him as he shares the hope\, freedom\, and transformation found in Jesus.\n\n\n\nJustin will be sharing his heart during Sunday service\, and we believe this will be a powerful morning of encouragement\, hope\, and encounter.\n\n\n\n Come as you are. Bring a friend. We’d love to see you there.
URL:https://kingdomfire.us/event/guest-speaker-for-church-service-glory-house-international-ministries-saginaw-michigan-2/
LOCATION:Glory House International Ministries\, 3660 Hermansau Rd.\, Saginaw\, PA\, 48603\, United States
CATEGORIES:Guest Speaker for Church Service
ATTACH;FMTTYPE=image/jpeg:https://kingdomfire.us/wp-content/uploads/2026/04/cHURCH-AD-INSTAGRAM-POST-TEMPLATE-1.jpg
END:VEVENT
END:VCALENDAR