BEGIN:VCALENDAR
VERSION:2.0
PRODID:-//Kingdom Fire - ECPv6.15.20//NONSGML v1.0//EN
CALSCALE:GREGORIAN
METHOD:PUBLISH
X-ORIGINAL-URL:https://kingdomfire.us
X-WR-CALDESC:Events for Kingdom Fire
REFRESH-INTERVAL;VALUE=DURATION:PT1H
X-Robots-Tag:noindex
X-PUBLISHED-TTL:PT1H
BEGIN:VTIMEZONE
TZID:UTC
BEGIN:STANDARD
TZOFFSETFROM:+0000
TZOFFSETTO:+0000
TZNAME:UTC
DTSTART:20240101T000000
END:STANDARD
END:VTIMEZONE
BEGIN:VEVENT
DTSTART;TZID=UTC:20250604T190000
DTEND;TZID=UTC:20250604T210000
DTSTAMP:20260425T125226
CREATED:20250105T021930Z
LAST-MODIFIED:20250604T004909Z
UID:10000680-1749063600-1749070800@kingdomfire.us
SUMMARY:Guest Speaker for Church Service  |  Faith Christian Center  |  Chesterfield\, MI
DESCRIPTION:Chesterfield\, Michigan \n\n\n\nIf you are from Macomb County (and do not have a home church or haven’t been to church in a while) we would LOVE to see you at Faith Christian Center for Mid-Week service time:  7:00PM  –  on Wednesday\, June 4th!\n\n\n\nGuest Speaker:\nEvangelist Justin Fahrenbruch  \n\n\n\n**Justin was a drug addict for 14 years of his life. In 2018 he was radically and miraculously set free when a chain of events lead to encounter with Jesus Christ in the middle of a parking lot. Since the surrender of his life\, Justin has seen the dynamic power of God move mightily through his life and many others around him.**\n\n\n\nSharing his testimony and heart at Sunday Service.\nSee you there!
URL:https://kingdomfire.us/event/guest-speaker-for-church-service-faith-christian-center-chesterfield-mi-3/
LOCATION:Faith Christian Center\, 46000 Gratiot Ave.
CATEGORIES:Guest Speaker for Church Service
ATTACH;FMTTYPE=image/jpeg:https://kingdomfire.us/wp-content/uploads/2025/01/503737357_1131098829057854_8542414039162943622_n.jpg
END:VEVENT
BEGIN:VEVENT
DTSTART;TZID=UTC:20250604T190000
DTEND;TZID=UTC:20250604T220000
DTSTAMP:20260425T125226
CREATED:20250421T205550Z
LAST-MODIFIED:20250421T205550Z
UID:10000977-1749063600-1749074400@kingdomfire.us
SUMMARY:"City Quake"  |  Power Evangelism Equipping  |  Dearborn/Detroit\, Michigan
DESCRIPTION:City Quake is a three and a half-day event that will propel you to become who Jesus created you to be! \nAs Christians\, we are to model Jesus and make Him known everywhere we go. However\, we often settle for much less. \nCity Quake will motivate and activate you to “live out” what you believe.  Join Tom Ruotolo\, Dan Mohler and other special guests for this life-changing event. Come and receive the confidence to walk-in signs\, wonders\, and miracles — energized by the love of Jesus — every day. \n  \nWednesday\, June 4 \n7:00 pm – Session (Doors open at 6:15 pm) \nThursday\, Friday\, Saturday\, June 5-7  \n9:00 am – Session (Doors open at 8:30 am)\n11:30 am – Love in Action\n2:00 pm – Session (Doors open at 1:45pm)\n4:30pm – Love in Action\n7:00 pm – Session (Doors open at 6:30) \n  \nGo to cityquake.org/michigan for more information and tickets.
URL:https://kingdomfire.us/event/city-quake-power-evangelism-equipping-dearborn-detroit-michigan/
LOCATION:First Assembly – Dearborn\, MIchigan\, 5650 S Telegraph Rd.\, Dearborn\, MI\, 48125\, United States
CATEGORIES:Evangelism Equipping,Guest Speaker at Conference
ATTACH;FMTTYPE=image/jpeg:https://kingdomfire.us/wp-content/uploads/2025/04/483552343_1193152446153785_7447882869011183654_n.jpg
END:VEVENT
BEGIN:VEVENT
DTSTART;VALUE=DATE:20250605
DTEND;VALUE=DATE:20250606
DTSTAMP:20260425T125226
CREATED:20250421T210124Z
LAST-MODIFIED:20250421T210124Z
UID:10000978-1749081600-1749167999@kingdomfire.us
SUMMARY:"City Quake"  |  Power Evangelism Equipping  |  Dearborn/Detroit\, Michigan
DESCRIPTION:City Quake is a three and a half-day event that will propel you to become who Jesus created you to be! \nAs Christians\, we are to model Jesus and make Him known everywhere we go. However\, we often settle for much less. \nCity Quake will motivate and activate you to “live out” what you believe.  Join Tom Ruotolo\, Dan Mohler and other special guests for this life-changing event. Come and receive the confidence to walk-in signs\, wonders\, and miracles — energized by the love of Jesus — every day. \n  \nWednesday\, June 4 \n7:00 pm – Session (Doors open at 6:15 pm) \nThursday\, Friday\, Saturday\, June 5-7  \n9:00 am – Session (Doors open at 8:30 am)\n11:30 am – Love in Action\n2:00 pm – Session (Doors open at 1:45pm)\n4:30pm – Love in Action\n7:00 pm – Session (Doors open at 6:30) \n  \nGo to cityquake.org/michigan for more information and tickets.
URL:https://kingdomfire.us/event/city-quake-power-evangelism-equipping-dearborn-detroit-michigan-2/
LOCATION:First Assembly – Dearborn\, MIchigan\, 5650 S Telegraph Rd.\, Dearborn\, MI\, 48125\, United States
CATEGORIES:Evangelism Equipping,Guest Speaker for Special Event
ATTACH;FMTTYPE=image/jpeg:https://kingdomfire.us/wp-content/uploads/2025/04/483552343_1193152446153785_7447882869011183654_n.jpg
END:VEVENT
BEGIN:VEVENT
DTSTART;TZID=UTC:20250605T210000
DTEND;TZID=UTC:20250605T223000
DTSTAMP:20260425T125226
CREATED:20250216T220513Z
LAST-MODIFIED:20251111T194722Z
UID:10000717-1749157200-1749162600@kingdomfire.us
SUMMARY:Kingdom Fire Equipping and Discipleship  | |   FREE Bible Study & Community Group   ||  Online via ZOOM
DESCRIPTION:Kingdom Fire Equipping and Discipleship\n\n EVERY THURSDAY @ 9:00PM (ETZ) \n\nYour host\, Justin Fahrenbruch – Kingdom Fire Ministries – is inviting you to an On-Line\, Interactive\, LIVE (Non-Public)\, Discipleship/Bible Study Group.\n\nThis is not be your ordinary “Bible Study” group.  The instruction I have received of the LORD is to expand His Kingdom by raising up Warrior-Disciples.  In this Study Group you will be stretched\, built up and encouraged to go deeper in your walk with Christ.  Divine Connections will be bridged and building relationships that work together for Kingdom Advancement on earth as it is in Heaven.\n\nThere is 30-45 minutes of teaching on various topics by Justin Fahrenbrcuh\nAfter the teaching\, there is another 45 minutes of “Community Time”\n\n Question and Answer\n Sharing what’s on your heart\n Praying and Encouraging one another\n\n** All of the teaching sessions are being recorded and uploaded to our website **\n\n\nReplay Access to this Teaching Series and ALL other teaching series are available for FREE as a special gift to monthly partners with our ministry.\n www.kingdomfire.us/partners-classes \n\n\n*** YOU MUST REGISTER IN ORDER TO RECEIVE THE ACCESS LINK TO THE ZOOM STUDIES ***\n** THE SAME LINK IS USED EVERY WEEK\, SO SAVE THE LINK **\n\n REGISTER HERE: https://us02web.zoom.us/meeting/register/tZ0tce2hqjwsHNyJ3hGAIeeamVbyvbQW22QF \n\n\nSEE YOU THIS THURSDAY @ 9PM!
URL:https://kingdomfire.us/event/kingdom-foundations-identity-in-christ-online-bible-study-2-2/2025-06-05/
LOCATION:ZOOM VIRTUAL ONLINE CLASSROOM
CATEGORIES:Equipping Class,Kingdom Equipping
ATTACH;FMTTYPE=image/jpeg:https://kingdomfire.us/wp-content/uploads/2024/04/Online-bible-study-classes-flyer-scaled.jpg
ORGANIZER;CN="Justin Fahrenbruch":MAILTO:Admin@Kingdomfire.us
END:VEVENT
BEGIN:VEVENT
DTSTART;VALUE=DATE:20250606
DTEND;VALUE=DATE:20250607
DTSTAMP:20260425T125226
CREATED:20250421T210517Z
LAST-MODIFIED:20250421T210517Z
UID:10000979-1749168000-1749254399@kingdomfire.us
SUMMARY:"City Quake"  |  Power Evangelism Equipping  |  Dearborn/Detroit\, Michigan
DESCRIPTION:City Quake is a three and a half-day event that will propel you to become who Jesus created you to be! \nAs Christians\, we are to model Jesus and make Him known everywhere we go. However\, we often settle for much less. \nCity Quake will motivate and activate you to “live out” what you believe.  Join Tom Ruotolo\, Dan Mohler and other special guests for this life-changing event. Come and receive the confidence to walk-in signs\, wonders\, and miracles — energized by the love of Jesus — every day. \n  \nWednesday\, June 4 \n7:00 pm – Session (Doors open at 6:15 pm) \nThursday\, Friday\, Saturday\, June 5-7  \n9:00 am – Session (Doors open at 8:30 am)\n11:30 am – Love in Action\n2:00 pm – Session (Doors open at 1:45pm)\n4:30pm – Love in Action\n7:00 pm – Session (Doors open at 6:30) \n  \nGo to cityquake.org/michigan for more information and tickets.
URL:https://kingdomfire.us/event/city-quake-power-evangelism-equipping-dearborn-detroit-michigan-3/
LOCATION:First Assembly – Dearborn\, MIchigan\, 5650 S Telegraph Rd.\, Dearborn\, MI\, 48125\, United States
CATEGORIES:Evangelism Equipping,Guest Speaker for Special Event
ATTACH;FMTTYPE=image/jpeg:https://kingdomfire.us/wp-content/uploads/2025/04/483552343_1193152446153785_7447882869011183654_n.jpg
END:VEVENT
BEGIN:VEVENT
DTSTART;VALUE=DATE:20250607
DTEND;VALUE=DATE:20250608
DTSTAMP:20260425T125226
CREATED:20250421T211228Z
LAST-MODIFIED:20250421T211228Z
UID:10000980-1749254400-1749340799@kingdomfire.us
SUMMARY:"City Quake"  |  Power Evangelism Equipping  |  Dearborn/Detroit\, Michigan
DESCRIPTION:City Quake is a three and a half-day event that will propel you to become who Jesus created you to be! \nAs Christians\, we are to model Jesus and make Him known everywhere we go. However\, we often settle for much less. \nCity Quake will motivate and activate you to “live out” what you believe.  Join Tom Ruotolo\, Dan Mohler and other special guests for this life-changing event. Come and receive the confidence to walk-in signs\, wonders\, and miracles — energized by the love of Jesus — every day. \n  \nWednesday\, June 4 \n7:00 pm – Session (Doors open at 6:15 pm) \nThursday\, Friday\, Saturday\, June 5-7  \n9:00 am – Session (Doors open at 8:30 am)\n11:30 am – Love in Action\n2:00 pm – Session (Doors open at 1:45pm)\n4:30pm – Love in Action\n7:00 pm – Session (Doors open at 6:30) \n  \nGo to cityquake.org/michigan for more information and tickets.
URL:https://kingdomfire.us/event/city-quake-power-evangelism-equipping-dearborn-detroit-michigan-4/
LOCATION:First Assembly – Dearborn\, MIchigan\, 5650 S Telegraph Rd.\, Dearborn\, MI\, 48125\, United States
CATEGORIES:Evangelism Equipping,Guest Speaker at Conference
ATTACH;FMTTYPE=image/jpeg:https://kingdomfire.us/wp-content/uploads/2025/04/483552343_1193152446153785_7447882869011183654_n.jpg
END:VEVENT
END:VCALENDAR