BEGIN:VCALENDAR
VERSION:2.0
PRODID:-//Kingdom Fire - ECPv6.15.20//NONSGML v1.0//EN
CALSCALE:GREGORIAN
METHOD:PUBLISH
X-ORIGINAL-URL:https://kingdomfire.us
X-WR-CALDESC:Events for Kingdom Fire
REFRESH-INTERVAL;VALUE=DURATION:PT1H
X-Robots-Tag:noindex
X-PUBLISHED-TTL:PT1H
BEGIN:VTIMEZONE
TZID:UTC
BEGIN:STANDARD
TZOFFSETFROM:+0000
TZOFFSETTO:+0000
TZNAME:UTC
DTSTART:20240101T000000
END:STANDARD
END:VTIMEZONE
BEGIN:VEVENT
DTSTART;TZID=UTC:20250522T210000
DTEND;TZID=UTC:20250522T223000
DTSTAMP:20260425T130020
CREATED:20250216T220513Z
LAST-MODIFIED:20251111T194722Z
UID:10000715-1747947600-1747953000@kingdomfire.us
SUMMARY:Kingdom Fire Equipping and Discipleship  | |   FREE Bible Study & Community Group   ||  Online via ZOOM
DESCRIPTION:Kingdom Fire Equipping and Discipleship\n\n EVERY THURSDAY @ 9:00PM (ETZ) \n\nYour host\, Justin Fahrenbruch – Kingdom Fire Ministries – is inviting you to an On-Line\, Interactive\, LIVE (Non-Public)\, Discipleship/Bible Study Group.\n\nThis is not be your ordinary “Bible Study” group.  The instruction I have received of the LORD is to expand His Kingdom by raising up Warrior-Disciples.  In this Study Group you will be stretched\, built up and encouraged to go deeper in your walk with Christ.  Divine Connections will be bridged and building relationships that work together for Kingdom Advancement on earth as it is in Heaven.\n\nThere is 30-45 minutes of teaching on various topics by Justin Fahrenbrcuh\nAfter the teaching\, there is another 45 minutes of “Community Time”\n\n Question and Answer\n Sharing what’s on your heart\n Praying and Encouraging one another\n\n** All of the teaching sessions are being recorded and uploaded to our website **\n\n\nReplay Access to this Teaching Series and ALL other teaching series are available for FREE as a special gift to monthly partners with our ministry.\n www.kingdomfire.us/partners-classes \n\n\n*** YOU MUST REGISTER IN ORDER TO RECEIVE THE ACCESS LINK TO THE ZOOM STUDIES ***\n** THE SAME LINK IS USED EVERY WEEK\, SO SAVE THE LINK **\n\n REGISTER HERE: https://us02web.zoom.us/meeting/register/tZ0tce2hqjwsHNyJ3hGAIeeamVbyvbQW22QF \n\n\nSEE YOU THIS THURSDAY @ 9PM!
URL:https://kingdomfire.us/event/kingdom-foundations-identity-in-christ-online-bible-study-2-2/2025-05-22/
LOCATION:ZOOM VIRTUAL ONLINE CLASSROOM
CATEGORIES:Equipping Class,Kingdom Equipping
ATTACH;FMTTYPE=image/jpeg:https://kingdomfire.us/wp-content/uploads/2024/04/Online-bible-study-classes-flyer-scaled.jpg
ORGANIZER;CN="Justin Fahrenbruch":MAILTO:Admin@Kingdomfire.us
END:VEVENT
BEGIN:VEVENT
DTSTART;TZID=UTC:20250523T190000
DTEND;TZID=UTC:20250523T210000
DTSTAMP:20260425T130020
CREATED:20250425T140602Z
LAST-MODIFIED:20250425T144644Z
UID:10000981-1748026800-1748034000@kingdomfire.us
SUMMARY:"Friday Night Light Revival Services"  |  Guest Speaker  |  Countryside Christian Church - Greenwood Twp. MI  (St. Clair County)
DESCRIPTION:GREENWOOD TWP\, MICHIGAN –  (St. Clair County) \n\n\n\nREVIVAL SERVICES ARE BACK TO “IGNITE THE THUMB” IN 2025!!\n\n\n\n  FRIDAY NIGHT LIGHT  \n\n\n\n\n“A Night of Testimony and Freedom!”\n** Water Baptisms! **\n\n\n\n\nLocation:\nCountryside Christian Church\n9985 Yale Rd.  Greenwood Twp.  MI  48006\n\n\n\nService Starts:\n⏰ 7:00 PM\n\n\n\nSpecial Guest Speaker:\nEvangelist Justin Fahrenbruch\n\n\n\n**Justin was a drug addict for 14 years of his life. In 2018 he was radically and miraculously set free when a chain of events lead to the surrender of his life to Christ in the middle of a parking lot. Since the surrender of his life\, Justin has seen the dynamic power of God move mightily through his life and many others around him.**\n\n\n\nCome on out and join us for a FREE night of fellowship!!\n\n\n\n Live Band Praise and Worship \n Healing & Deliverance \n Water Baptisms \n Fresh Fire \n Preaching the Kingdom \n\n\n\nAdvancing the Kingdom\,\nIgniting a Fire!
URL:https://kingdomfire.us/event/friday-night-light-revival-services-guest-speaker-countryside-christian-church-greenwood-twp-mi-st-clair-county/
LOCATION:Countryside Christian Church\, 9985 Yale Rd.\, Greenwood Twp.\, MI\, 48006\, United States
CATEGORIES:Guest Speaker for Special Event,Revival Services
ATTACH;FMTTYPE=image/jpeg:https://kingdomfire.us/wp-content/uploads/2025/04/493822410_1435459514290242_6292346810492615987_n.jpg
END:VEVENT
BEGIN:VEVENT
DTSTART;TZID=UTC:20250525T120000
DTEND;TZID=UTC:20250525T170000
DTSTAMP:20260425T130020
CREATED:20250216T213550Z
LAST-MODIFIED:20250514T005615Z
UID:10000698-1748174400-1748192400@kingdomfire.us
SUMMARY:FREE Community BBQ | Kingdom Fire - Flint Driven Church | Evangelism Outreach
DESCRIPTION:“Free Community BBQ”\n\n\n🚨 FLINT\, MICHIGAN 🚨 \nSUNDAY – MAY 25TH! \nJoin Flint Driven Church and Kingdom Fire Ministries as they partner together for this Memorial Day Event. \nA Free Christ-Centered Community Gathering! This family-friendly event is open to everyone-whether you’re part of a church or simply seeking connection and encouragement. \n🔥 Event highlights:\nUplifting worship and live music\nInspiring message of hope\nPrayer and ministry opportunities\nActivities for kids and teens\nFree food and refreshments\nCommunity resource table \n📍 Location:\nSarginson Park\n1400 Beaver Ave.\nFlint\, MI 48503 \nCome as you are and experience the Love of Jesus in a Welcome and Joyful atmosphere. \nLet’s grow in Faith and Unity.\nBring your friends\, family\, and neighbors. We can’t wait to see you!
URL:https://kingdomfire.us/event/free-community-bbq-kingdom-fire-flint-driven-church-evangelism-outreach/
LOCATION:Sarginson Park\, 1400 Beaver Ave.\, Flint\, MI\, 48503\, United States
CATEGORIES:Evangelism Outreach
ATTACH;FMTTYPE=image/jpeg:https://kingdomfire.us/wp-content/uploads/2025/02/497629314_1124370686393980_907169153206288071_n.jpg
ORGANIZER;CN="Kingdom Fire Ministries":MAILTO:Admin@Kingdomfire.us
END:VEVENT
END:VCALENDAR