BEGIN:VCALENDAR
VERSION:2.0
PRODID:-//Kingdom Fire - ECPv6.15.20//NONSGML v1.0//EN
CALSCALE:GREGORIAN
METHOD:PUBLISH
X-WR-CALNAME:Kingdom Fire
X-ORIGINAL-URL:https://kingdomfire.us
X-WR-CALDESC:Events for Kingdom Fire
REFRESH-INTERVAL;VALUE=DURATION:PT1H
X-Robots-Tag:noindex
X-PUBLISHED-TTL:PT1H
BEGIN:VTIMEZONE
TZID:UTC
BEGIN:STANDARD
TZOFFSETFROM:+0000
TZOFFSETTO:+0000
TZNAME:UTC
DTSTART:20240101T000000
END:STANDARD
END:VTIMEZONE
BEGIN:VEVENT
DTSTART;TZID=UTC:20250408T180000
DTEND;TZID=UTC:20250408T193000
DTSTAMP:20260425T141103
CREATED:20250103T233632Z
LAST-MODIFIED:20250103T233632Z
UID:10000305-1744135200-1744140600@kingdomfire.us
SUMMARY:Lifestyle Evangelism Equipping Courses |  @Faith Christian Center  I  Chesterfield\, MI
DESCRIPTION:FREE EVANGELISM EQUIPPING COURSES \n\n\n\nDo you believe you are called to be an Evangelist?\nOr maybe you just wanna grow in this area of your walk…\n\n\n\nEvangelist Justin Fahrenbruch will be training us to grow beyond comfort zones and reach OUR world for Christ. This won’t just be another class… This course will challenge you to discover and become everything God has called you to be!\n\n\n\n A Lifestyle of walking in Kingdom Evangelism.\n\n\n\nSessions Include:\n\n\n – Identity / Becoming Love\n – Destroying Fear / Increased Boldness\n – Holy Spirit / Gifts of the Holy Spirit\n – Kingdom Evangelism / The Jesus Way\n – The Power of Personal Testimony\n – Hearing God’s Voice / Prophetic Gifts\n – Healing & Deliverance / Power Gifts\n\n\n\nThere will also be HANDS-ON Equipping Activations…\n\n\n\n How to share the Gospel\n How to craft and share your personal testimony\n How to give and receive a prophetic word\n How to receive and give words of knowledge\n How to minister to the sick\n How to cast out spirits\n\n\n\n— ONCE A MONTH OUTREACH OPPORTUNITIES —\n\n\n\n Classes will begin on Tuesday\, January 14th and will be held EVERY OTHER TUESDAY (For 7 Weeks)\n\n\n\n*** Registration Required ***\n\n\n\n In-Person Location:\nFaith Christian Center\n46000 N Gratiot Ave.\nChesterfield\, MI 48051\n\n\n\n Online Access\nZOOM LINK provided via E-Mail.\n\n\n\nYou can sign up right now!!!!\n\nREGISTER FOR IN PERSON:\n\nhttps://docs.google.com/forms/d/1n2Uugs18QW0Sdwfs-qBcW0kPCNMvdLUs5lO-lcO0Tx0/viewform?fbclid=IwZXh0bgNhZW0CMTAAAR16FiB1MN3QHj42pUXB8eTz3BAtgAbDxC7SzgzewVBWH1pWcGhdUeaHfV8_aem_D8sMj5V08iTd0oL8ILJrkA&edit_requested=true\n\nREGISTER FOR VIRTUAL ONLINE:\nhttps://us02web.zoom.us/meeting/register/NevTtIo-SoeM7LZh816olg\n\n\n\nAs a friendly reminder… If you cannot make these classes… In-Person or Virtual Online… REPLAY ACCESS will be available for FREE for partners with our ministry.\n\n\n\n Looking forward to seeing you in a few weeks!
URL:https://kingdomfire.us/event/lifestyle-evangelism-equipping-class/2025-04-08/
LOCATION:Faith Christian Center\, 46000 Gratiot Ave.
CATEGORIES:Evangelism Equipping
ATTACH;FMTTYPE=image/jpeg:https://kingdomfire.us/wp-content/uploads/2025/01/street-evangelism-scaled.jpg
ORGANIZER;CN="Justin Fahrenbruch":MAILTO:Admin@Kingdomfire.us
END:VEVENT
BEGIN:VEVENT
DTSTART;TZID=UTC:20250410T210000
DTEND;TZID=UTC:20250410T223000
DTSTAMP:20260425T141104
CREATED:20250216T220513Z
LAST-MODIFIED:20251111T194722Z
UID:10000255-1744318800-1744324200@kingdomfire.us
SUMMARY:Kingdom Fire Equipping and Discipleship  | |   FREE Bible Study & Community Group   ||  Online via ZOOM
DESCRIPTION:Kingdom Fire Equipping and Discipleship\n\n EVERY THURSDAY @ 9:00PM (ETZ) \n\nYour host\, Justin Fahrenbruch – Kingdom Fire Ministries – is inviting you to an On-Line\, Interactive\, LIVE (Non-Public)\, Discipleship/Bible Study Group.\n\nThis is not be your ordinary “Bible Study” group.  The instruction I have received of the LORD is to expand His Kingdom by raising up Warrior-Disciples.  In this Study Group you will be stretched\, built up and encouraged to go deeper in your walk with Christ.  Divine Connections will be bridged and building relationships that work together for Kingdom Advancement on earth as it is in Heaven.\n\nThere is 30-45 minutes of teaching on various topics by Justin Fahrenbrcuh\nAfter the teaching\, there is another 45 minutes of “Community Time”\n\n Question and Answer\n Sharing what’s on your heart\n Praying and Encouraging one another\n\n** All of the teaching sessions are being recorded and uploaded to our website **\n\n\nReplay Access to this Teaching Series and ALL other teaching series are available for FREE as a special gift to monthly partners with our ministry.\n www.kingdomfire.us/partners-classes \n\n\n*** YOU MUST REGISTER IN ORDER TO RECEIVE THE ACCESS LINK TO THE ZOOM STUDIES ***\n** THE SAME LINK IS USED EVERY WEEK\, SO SAVE THE LINK **\n\n REGISTER HERE: https://us02web.zoom.us/meeting/register/tZ0tce2hqjwsHNyJ3hGAIeeamVbyvbQW22QF \n\n\nSEE YOU THIS THURSDAY @ 9PM!
URL:https://kingdomfire.us/event/kingdom-foundations-identity-in-christ-online-bible-study-2-2/2025-04-10/
LOCATION:ZOOM VIRTUAL ONLINE CLASSROOM
CATEGORIES:Equipping Class,Kingdom Equipping
ATTACH;FMTTYPE=image/jpeg:https://kingdomfire.us/wp-content/uploads/2024/04/Online-bible-study-classes-flyer-scaled.jpg
ORGANIZER;CN="Justin Fahrenbruch":MAILTO:Admin@Kingdomfire.us
END:VEVENT
BEGIN:VEVENT
DTSTART;TZID=UTC:20250413T180000
DTEND;TZID=UTC:20250413T200000
DTSTAMP:20260425T141104
CREATED:20250216T210240Z
LAST-MODIFIED:20250216T210240Z
UID:10000695-1744567200-1744574400@kingdomfire.us
SUMMARY:Freedom Nights | Healing & Deliverance Service | Flint\, Michigan
DESCRIPTION:“Freedom Nights” at Flint Driven Church!\n\nEvangelist Justin Fahrenbruch and Pastor Dion Lewellen are teamed up and FIRED UP to bring fresh revelation about healing\, deliverance\, & spiritual warfare to region of Flint!!\n\nJoin us Sunday Night as the Flint Driven Worship team ushers in and prepares us to enter into the LORD’s Presence.\n\nJustin will be bringing the heat\, sharing a Word about The Kingdom of God and Equipping the Saints – to walk in POWER and FREEDOM.\n\nAfterwards there will be a time of personal ministry as we open up the altar for everyone and anyone in need. A night of FREEDOM!!\n\nHealing  Deliverance Baptisms Fresh Fire Preaching the Kingdom \n\nFREE and open to the Public!\n\nAdvancing the KingdomIgniting a Fire\n\nLet’s Go! 
URL:https://kingdomfire.us/event/freedom-nights-healing-deliverance-service-flint-michigan/
LOCATION:Flint Driven Church\, 2901 Brown St.\, Flint\, MI\, 48503\, United States
CATEGORIES:Revival Services
ATTACH;FMTTYPE=image/jpeg:https://kingdomfire.us/wp-content/uploads/2025/02/Sunday-service-scaled.jpg
ORGANIZER;CN="Kingdom Fire Ministries":MAILTO:Admin@Kingdomfire.us
END:VEVENT
END:VCALENDAR