BEGIN:VCALENDAR
VERSION:2.0
PRODID:-//Kingdom Fire - ECPv6.15.20//NONSGML v1.0//EN
CALSCALE:GREGORIAN
METHOD:PUBLISH
X-WR-CALNAME:Kingdom Fire
X-ORIGINAL-URL:https://kingdomfire.us
X-WR-CALDESC:Events for Kingdom Fire
REFRESH-INTERVAL;VALUE=DURATION:PT1H
X-Robots-Tag:noindex
X-PUBLISHED-TTL:PT1H
BEGIN:VTIMEZONE
TZID:UTC
BEGIN:STANDARD
TZOFFSETFROM:+0000
TZOFFSETTO:+0000
TZNAME:UTC
DTSTART:20240101T000000
END:STANDARD
END:VTIMEZONE
BEGIN:VEVENT
DTSTART;TZID=UTC:20250401T160000
DTEND;TZID=UTC:20250401T180000
DTSTAMP:20260425T141108
CREATED:20250310T185509Z
LAST-MODIFIED:20250310T185509Z
UID:10000959-1743523200-1743530400@kingdomfire.us
SUMMARY:Evangelism Outreach  |  Pull Over Prayer |  Flint\, Michigan
DESCRIPTION:EVANGELISM OUTREACH | PULL OVER PRAYER \n FLINT\, MICHIGAN \n\n\n\nIt’s time to get outside the 4 walls and bring Jesus to the people!!\n\n\n\nRescue Mission Outreach\, Nellie’s Mac Shack\, Kingdom Fire Evangelism\, Changed Man Outreach Ministries\n\n\nMultiple Ministries\, Multiple Churches\, Many People…\nONE COMMON DENOMINATOR = SOULS!\nIt’s a KINGDOM thing!\n\n\n\n Pull Over 4 Prayer \n Praise and Worship on the street \n Free Pulled-Pork for the Community\n Praying for our City \n Being the Light \n\n\n\n Location:\nThe Old Angelo’s Parking Lot\n1816 Davidson Rd.\nFlint\, MI 48506\n\n\n\n Tuesday\, April 1st\, 2025\n 4:00PM – 6:00PM\n\n\n\nCome on out and join us!\nALL ARE WELCOME\n\n\n\nHelp us get the word out! Invite your friends and Share this event to your social media page. See you there!!
URL:https://kingdomfire.us/event/evangelism-outreach-pull-over-prayer-flint-michigan/
LOCATION:The Old Angelos\, 1816 Davidson Rd.\, Flint\, MI\, 48506\, United States
CATEGORIES:Evangelism Outreach
ATTACH;FMTTYPE=image/jpeg:https://kingdomfire.us/wp-content/uploads/2025/03/church-flyer-template-1.jpg
ORGANIZER;CN="Kingdom Fire Ministries":MAILTO:Admin@Kingdomfire.us
END:VEVENT
BEGIN:VEVENT
DTSTART;TZID=UTC:20250403T210000
DTEND;TZID=UTC:20250403T223000
DTSTAMP:20260425T141108
CREATED:20250216T220513Z
LAST-MODIFIED:20251111T194722Z
UID:10000709-1743714000-1743719400@kingdomfire.us
SUMMARY:Kingdom Fire Equipping and Discipleship  | |   FREE Bible Study & Community Group   ||  Online via ZOOM
DESCRIPTION:Kingdom Fire Equipping and Discipleship\n\n EVERY THURSDAY @ 9:00PM (ETZ) \n\nYour host\, Justin Fahrenbruch – Kingdom Fire Ministries – is inviting you to an On-Line\, Interactive\, LIVE (Non-Public)\, Discipleship/Bible Study Group.\n\nThis is not be your ordinary “Bible Study” group.  The instruction I have received of the LORD is to expand His Kingdom by raising up Warrior-Disciples.  In this Study Group you will be stretched\, built up and encouraged to go deeper in your walk with Christ.  Divine Connections will be bridged and building relationships that work together for Kingdom Advancement on earth as it is in Heaven.\n\nThere is 30-45 minutes of teaching on various topics by Justin Fahrenbrcuh\nAfter the teaching\, there is another 45 minutes of “Community Time”\n\n Question and Answer\n Sharing what’s on your heart\n Praying and Encouraging one another\n\n** All of the teaching sessions are being recorded and uploaded to our website **\n\n\nReplay Access to this Teaching Series and ALL other teaching series are available for FREE as a special gift to monthly partners with our ministry.\n www.kingdomfire.us/partners-classes \n\n\n*** YOU MUST REGISTER IN ORDER TO RECEIVE THE ACCESS LINK TO THE ZOOM STUDIES ***\n** THE SAME LINK IS USED EVERY WEEK\, SO SAVE THE LINK **\n\n REGISTER HERE: https://us02web.zoom.us/meeting/register/tZ0tce2hqjwsHNyJ3hGAIeeamVbyvbQW22QF \n\n\nSEE YOU THIS THURSDAY @ 9PM!
URL:https://kingdomfire.us/event/kingdom-foundations-identity-in-christ-online-bible-study-2-2/2025-04-03/
LOCATION:ZOOM VIRTUAL ONLINE CLASSROOM
CATEGORIES:Equipping Class,Kingdom Equipping
ATTACH;FMTTYPE=image/jpeg:https://kingdomfire.us/wp-content/uploads/2024/04/Online-bible-study-classes-flyer-scaled.jpg
ORGANIZER;CN="Justin Fahrenbruch":MAILTO:Admin@Kingdomfire.us
END:VEVENT
BEGIN:VEVENT
DTSTART;TZID=UTC:20250406T110000
DTEND;TZID=UTC:20250406T130000
DTSTAMP:20260425T141108
CREATED:20250321T200011Z
LAST-MODIFIED:20250321T200011Z
UID:10000963-1743937200-1743944400@kingdomfire.us
SUMMARY:Guest Speaker for Church Services  |  Lapeer\, Michigan  |  New Beginnings Family Church
DESCRIPTION:LAPEER\, MICHIGAN \n\n\n\nIf you are from “The Thumb” of Michigan and do not have a Home Church or haven’t been to church in a while… we would LOVE to see you at New Beginning Family Church –  Sunday\, April 6th!!\n\n\n\n**Justin was a drug addict for 14 years of his life. In 2018 he was radically and miraculously set free when a chain of events lead to an encounter with Jesus Christ in the middle of a parking lot. Since the surrender of his life\, Justin has seen the miraculous power of The Holy Spirit move mightily through his life and many others around him.**\n\n\n\nJustin will be sharing his testimony and heart at church.\n\n\nYou won’t want to miss this POWERFUL service!\n\nCome expecting and receive your blessing from the Lord!\n\n\n\n Altar Ministry \n Preaching the Kingdom \n Holy Spirit Baptisms \n Fresh Fire \n\n\n\nHallelujah – He’s Alive!!\n\n\nIt’s time to change the world!\nLet’s Go!!\n\n\n\n“…He will baptize you with the Holy Spirit and fire.”\nMatthew 3:11\n\n\n\n“But you shall receive power when the Holy Spirit has come upon you; and you shall be witnesses to Me in Jerusalem\, and in all Judea and Samaria\, and to the end of the earth.”\nActs 1:8
URL:https://kingdomfire.us/event/guest-speaker-for-church-services-lapeer-michigan-new-beginnings-family-church/
LOCATION:New Beginnings Family Church\, 1066 N. Saginaw St.\, Lapeer\, MI\, 48446\, United States
CATEGORIES:Guest Speaker for Church Service
ATTACH;FMTTYPE=image/jpeg:https://kingdomfire.us/wp-content/uploads/2025/03/event-guest-speaker-flyer.jpg
ORGANIZER;CN="Pastor Keith Atwood":MAILTO:Pkwood55nbfc@charter.net
END:VEVENT
END:VCALENDAR