BEGIN:VCALENDAR
VERSION:2.0
PRODID:-//Kingdom Fire - ECPv6.15.20//NONSGML v1.0//EN
CALSCALE:GREGORIAN
METHOD:PUBLISH
X-ORIGINAL-URL:https://kingdomfire.us
X-WR-CALDESC:Events for Kingdom Fire
REFRESH-INTERVAL;VALUE=DURATION:PT1H
X-Robots-Tag:noindex
X-PUBLISHED-TTL:PT1H
BEGIN:VTIMEZONE
TZID:UTC
BEGIN:STANDARD
TZOFFSETFROM:+0000
TZOFFSETTO:+0000
TZNAME:UTC
DTSTART:20240101T000000
END:STANDARD
END:VTIMEZONE
BEGIN:VEVENT
DTSTART;TZID=UTC:20250318T180000
DTEND;TZID=UTC:20250318T200000
DTSTAMP:20260425T113302
CREATED:20250216T195217Z
LAST-MODIFIED:20250301T222402Z
UID:10000690-1742320800-1742328000@kingdomfire.us
SUMMARY:Lifestyle Evangelism w/ HOW Ministry Bread of Life  ||  "Outreach to the Homeless"  ||  Lapeer\, MI
DESCRIPTION:Lifestyle Evangelism in Action!  Heading out into the community this evening to share our faith!\n\n\n\n Kingdom Fire Lifestyle Evangelism Equipping\n\n\n\nPartnering with HOW Ministry Bread of Life to reach and serve the homeless in Lapeer County.\n\n\nEvent Hosted by:\n\nH.O.W. Ministry Bread of Life.\n\n\nLocation:\nFirst Presbyterian Church of Lapeer\n433 N Calhoun St.  Lapeer\, MI 48446\n\nServing Irish Food (St. Patrick’s Day Theme) @ 5:30PM.\nMinistering to people:  All Evening.\n\nGospel Presentation and Sharing:  Justin Fahrenbruch\n\nCome on out and join us!
URL:https://kingdomfire.us/event/lifestyle-evangelism-outreach-love-in-action-chesterfield-mi-3/
LOCATION:Faith Christian Center\, 46000 Gratiot Ave.
CATEGORIES:Evangelism Outreach
ATTACH;FMTTYPE=image/jpeg:https://kingdomfire.us/wp-content/uploads/2025/02/5cb3a586-46d5-4521-b44a-ba293eb21ba4.jpg
ORGANIZER;CN="Justin Fahrenbruch":MAILTO:Admin@Kingdomfire.us
END:VEVENT
BEGIN:VEVENT
DTSTART;TZID=UTC:20250320T210000
DTEND;TZID=UTC:20250320T223000
DTSTAMP:20260425T113302
CREATED:20250216T220513Z
LAST-MODIFIED:20251111T194722Z
UID:10000707-1742504400-1742509800@kingdomfire.us
SUMMARY:Kingdom Fire Equipping and Discipleship  | |   FREE Bible Study & Community Group   ||  Online via ZOOM
DESCRIPTION:Kingdom Fire Equipping and Discipleship\n\n EVERY THURSDAY @ 9:00PM (ETZ) \n\nYour host\, Justin Fahrenbruch – Kingdom Fire Ministries – is inviting you to an On-Line\, Interactive\, LIVE (Non-Public)\, Discipleship/Bible Study Group.\n\nThis is not be your ordinary “Bible Study” group.  The instruction I have received of the LORD is to expand His Kingdom by raising up Warrior-Disciples.  In this Study Group you will be stretched\, built up and encouraged to go deeper in your walk with Christ.  Divine Connections will be bridged and building relationships that work together for Kingdom Advancement on earth as it is in Heaven.\n\nThere is 30-45 minutes of teaching on various topics by Justin Fahrenbrcuh\nAfter the teaching\, there is another 45 minutes of “Community Time”\n\n Question and Answer\n Sharing what’s on your heart\n Praying and Encouraging one another\n\n** All of the teaching sessions are being recorded and uploaded to our website **\n\n\nReplay Access to this Teaching Series and ALL other teaching series are available for FREE as a special gift to monthly partners with our ministry.\n www.kingdomfire.us/partners-classes \n\n\n*** YOU MUST REGISTER IN ORDER TO RECEIVE THE ACCESS LINK TO THE ZOOM STUDIES ***\n** THE SAME LINK IS USED EVERY WEEK\, SO SAVE THE LINK **\n\n REGISTER HERE: https://us02web.zoom.us/meeting/register/tZ0tce2hqjwsHNyJ3hGAIeeamVbyvbQW22QF \n\n\nSEE YOU THIS THURSDAY @ 9PM!
URL:https://kingdomfire.us/event/kingdom-foundations-identity-in-christ-online-bible-study-2-2/2025-03-20/
LOCATION:ZOOM VIRTUAL ONLINE CLASSROOM
CATEGORIES:Equipping Class,Kingdom Equipping
ATTACH;FMTTYPE=image/jpeg:https://kingdomfire.us/wp-content/uploads/2024/04/Online-bible-study-classes-flyer-scaled.jpg
ORGANIZER;CN="Justin Fahrenbruch":MAILTO:Admin@Kingdomfire.us
END:VEVENT
BEGIN:VEVENT
DTSTART;TZID=UTC:20250323T110000
DTEND;TZID=UTC:20250323T130000
DTSTAMP:20260425T113302
CREATED:20250314T162954Z
LAST-MODIFIED:20250314T163026Z
UID:10000961-1742727600-1742734800@kingdomfire.us
SUMMARY:Guest Speaker for Church Service  |  Bay Valley Christian Church - South Campus  |  Vassar\, Michigan
DESCRIPTION:  Vassar\, Michigan  \n\n\n\nIf you are from “The Thumb” of Michigan (and do not have a home church or haven’t been to church in a while) we would LOVE to see you at Bay Valley Christian Church – Vassar Campus at 11:00AM! – Vassar\, Michigan on March 23rd!\n\n\n\nGuest Speaker:\nEvangelist Justin Fahrenbruch\n\n\n\n**Justin was a drug addict for 14 years of his life. In 2018 he was radically and miraculously set free when a chain of events lead to encounter with Jesus Christ in the middle of a parking lot. Since the surrender of his life\, Justin has seen the dynamic power of God move mightily through his life and many others around him.**\n\n\n\nReleasing KINGDOM FIRE at this Sunday’s Service!\nSee you there!
URL:https://kingdomfire.us/event/guest-speaker-for-church-service-bay-valley-christian-church-south-campus-vassar-michigan/
LOCATION:Bay Valley Christian Church – Vassar Campus\, 800 State St.\, Vassar\, MI\, 48768\, United States
CATEGORIES:Guest Speaker for Church Service
ATTACH;FMTTYPE=image/jpeg:https://kingdomfire.us/wp-content/uploads/2025/03/Vassar-Campus-scaled.jpg
END:VEVENT
END:VCALENDAR