BEGIN:VCALENDAR
VERSION:2.0
PRODID:-//Kingdom Fire - ECPv6.15.20//NONSGML v1.0//EN
CALSCALE:GREGORIAN
METHOD:PUBLISH
X-ORIGINAL-URL:https://kingdomfire.us
X-WR-CALDESC:Events for Kingdom Fire
REFRESH-INTERVAL;VALUE=DURATION:PT1H
X-Robots-Tag:noindex
X-PUBLISHED-TTL:PT1H
BEGIN:VTIMEZONE
TZID:UTC
BEGIN:STANDARD
TZOFFSETFROM:+0000
TZOFFSETTO:+0000
TZNAME:UTC
DTSTART:20240101T000000
END:STANDARD
END:VTIMEZONE
BEGIN:VEVENT
DTSTART;TZID=UTC:20250225T180000
DTEND;TZID=UTC:20250225T193000
DTSTAMP:20260425T141153
CREATED:20250103T233632Z
LAST-MODIFIED:20250103T233632Z
UID:10000302-1740506400-1740511800@kingdomfire.us
SUMMARY:Lifestyle Evangelism Equipping Courses |  @Faith Christian Center  I  Chesterfield\, MI
DESCRIPTION:FREE EVANGELISM EQUIPPING COURSES \n\n\n\nDo you believe you are called to be an Evangelist?\nOr maybe you just wanna grow in this area of your walk…\n\n\n\nEvangelist Justin Fahrenbruch will be training us to grow beyond comfort zones and reach OUR world for Christ. This won’t just be another class… This course will challenge you to discover and become everything God has called you to be!\n\n\n\n A Lifestyle of walking in Kingdom Evangelism.\n\n\n\nSessions Include:\n\n\n – Identity / Becoming Love\n – Destroying Fear / Increased Boldness\n – Holy Spirit / Gifts of the Holy Spirit\n – Kingdom Evangelism / The Jesus Way\n – The Power of Personal Testimony\n – Hearing God’s Voice / Prophetic Gifts\n – Healing & Deliverance / Power Gifts\n\n\n\nThere will also be HANDS-ON Equipping Activations…\n\n\n\n How to share the Gospel\n How to craft and share your personal testimony\n How to give and receive a prophetic word\n How to receive and give words of knowledge\n How to minister to the sick\n How to cast out spirits\n\n\n\n— ONCE A MONTH OUTREACH OPPORTUNITIES —\n\n\n\n Classes will begin on Tuesday\, January 14th and will be held EVERY OTHER TUESDAY (For 7 Weeks)\n\n\n\n*** Registration Required ***\n\n\n\n In-Person Location:\nFaith Christian Center\n46000 N Gratiot Ave.\nChesterfield\, MI 48051\n\n\n\n Online Access\nZOOM LINK provided via E-Mail.\n\n\n\nYou can sign up right now!!!!\n\nREGISTER FOR IN PERSON:\n\nhttps://docs.google.com/forms/d/1n2Uugs18QW0Sdwfs-qBcW0kPCNMvdLUs5lO-lcO0Tx0/viewform?fbclid=IwZXh0bgNhZW0CMTAAAR16FiB1MN3QHj42pUXB8eTz3BAtgAbDxC7SzgzewVBWH1pWcGhdUeaHfV8_aem_D8sMj5V08iTd0oL8ILJrkA&edit_requested=true\n\nREGISTER FOR VIRTUAL ONLINE:\nhttps://us02web.zoom.us/meeting/register/NevTtIo-SoeM7LZh816olg\n\n\n\nAs a friendly reminder… If you cannot make these classes… In-Person or Virtual Online… REPLAY ACCESS will be available for FREE for partners with our ministry.\n\n\n\n Looking forward to seeing you in a few weeks!
URL:https://kingdomfire.us/event/lifestyle-evangelism-equipping-class/2025-02-25/
LOCATION:Faith Christian Center\, 46000 Gratiot Ave.
CATEGORIES:Evangelism Equipping
ATTACH;FMTTYPE=image/jpeg:https://kingdomfire.us/wp-content/uploads/2025/01/street-evangelism-scaled.jpg
ORGANIZER;CN="Justin Fahrenbruch":MAILTO:Admin@Kingdomfire.us
END:VEVENT
BEGIN:VEVENT
DTSTART;TZID=UTC:20250227T210000
DTEND;TZID=UTC:20250227T223000
DTSTAMP:20260425T141153
CREATED:20250216T220513Z
LAST-MODIFIED:20251111T194722Z
UID:10000704-1740690000-1740695400@kingdomfire.us
SUMMARY:Kingdom Fire Equipping and Discipleship  | |   FREE Bible Study & Community Group   ||  Online via ZOOM
DESCRIPTION:Kingdom Fire Equipping and Discipleship\n\n EVERY THURSDAY @ 9:00PM (ETZ) \n\nYour host\, Justin Fahrenbruch – Kingdom Fire Ministries – is inviting you to an On-Line\, Interactive\, LIVE (Non-Public)\, Discipleship/Bible Study Group.\n\nThis is not be your ordinary “Bible Study” group.  The instruction I have received of the LORD is to expand His Kingdom by raising up Warrior-Disciples.  In this Study Group you will be stretched\, built up and encouraged to go deeper in your walk with Christ.  Divine Connections will be bridged and building relationships that work together for Kingdom Advancement on earth as it is in Heaven.\n\nThere is 30-45 minutes of teaching on various topics by Justin Fahrenbrcuh\nAfter the teaching\, there is another 45 minutes of “Community Time”\n\n Question and Answer\n Sharing what’s on your heart\n Praying and Encouraging one another\n\n** All of the teaching sessions are being recorded and uploaded to our website **\n\n\nReplay Access to this Teaching Series and ALL other teaching series are available for FREE as a special gift to monthly partners with our ministry.\n www.kingdomfire.us/partners-classes \n\n\n*** YOU MUST REGISTER IN ORDER TO RECEIVE THE ACCESS LINK TO THE ZOOM STUDIES ***\n** THE SAME LINK IS USED EVERY WEEK\, SO SAVE THE LINK **\n\n REGISTER HERE: https://us02web.zoom.us/meeting/register/tZ0tce2hqjwsHNyJ3hGAIeeamVbyvbQW22QF \n\n\nSEE YOU THIS THURSDAY @ 9PM!
URL:https://kingdomfire.us/event/kingdom-foundations-identity-in-christ-online-bible-study-2-2/2025-02-27/
LOCATION:ZOOM VIRTUAL ONLINE CLASSROOM
CATEGORIES:Equipping Class,Kingdom Equipping
ATTACH;FMTTYPE=image/jpeg:https://kingdomfire.us/wp-content/uploads/2024/04/Online-bible-study-classes-flyer-scaled.jpg
ORGANIZER;CN="Justin Fahrenbruch":MAILTO:Admin@Kingdomfire.us
END:VEVENT
BEGIN:VEVENT
DTSTART;TZID=UTC:20250228T180000
DTEND;TZID=UTC:20250228T200000
DTSTAMP:20260425T141153
CREATED:20250105T022518Z
LAST-MODIFIED:20250105T022518Z
UID:10000681-1740765600-1740772800@kingdomfire.us
SUMMARY:Evangelism Outreach in Aspen Creek  |  Chesterfield\, MI
DESCRIPTION:Outreach in Aspen Creek\, Chesterfield\, MI\n\n\n\n** Friday – February 28TH **\n  Times to be determined!  \n\n\n\nOur good friends at Faith Christian Center are hosting an amazing opportunity to have fun with the whole family!\n\n\n\nLocation:\nAspen Creek\n\n\n\n\n\n\n** MORE INFO TO BE DETERMINED **
URL:https://kingdomfire.us/event/evangelism-outreach-in-aspen-creek-chesterfield-mi/
LOCATION:Aspen Creek Pavilion
CATEGORIES:Evangelism Outreach
ATTACH;FMTTYPE=image/jpeg:https://kingdomfire.us/wp-content/uploads/2024/02/368288247_1046746116494919_8029293573373254826_n.jpg
END:VEVENT
BEGIN:VEVENT
DTSTART;TZID=UTC:20250302T100000
DTEND;TZID=UTC:20250302T120000
DTSTAMP:20260425T141153
CREATED:20250216T201221Z
LAST-MODIFIED:20250216T201249Z
UID:10000692-1740909600-1740916800@kingdomfire.us
SUMMARY:Guest Speaker for Church Service  |  Hillside Community Church  |  Gagetown\, MI
DESCRIPTION:Gagetown\, Michigan \n\n\n\nIf you are from “The Thumb” of Michigan (and do not have a home church or haven’t been to church in a while) we would LOVE to see you at Hillside Community Church at 10:00AM! – Gagetown\, Michigan on March 2nd!\n\n\n\nGuest Speaker:\nEvangelist Justin Fahrenbruch \n\n\n\n**Justin was a drug addict for 14 years of his life. In 2018 he was radically and miraculously set free when a chain of events lead to encounter with Jesus Christ in the middle of a parking lot. Since the surrender of his life\, Justin has seen the dynamic power of God move mightily through his life and many others around him.**\n\n\n\nSharing his testimony and heart at Sunday Service.\nSee you there!
URL:https://kingdomfire.us/event/guest-speaker-for-church-service-hillside-community-church-gagetown-mi/
LOCATION:Hillside Community Church\, 4750 South St.\, Gagetown\, MI\, 48735\, United States
CATEGORIES:Guest Speaker for Church Service
ATTACH;FMTTYPE=image/jpeg:https://kingdomfire.us/wp-content/uploads/2025/02/Hillside-scaled.jpg
ORGANIZER;CN="Pastor Seth Colling":MAILTO:hillsidecchurch@hotmail.com
END:VEVENT
END:VCALENDAR