BEGIN:VCALENDAR
VERSION:2.0
PRODID:-//Kingdom Fire - ECPv6.15.20//NONSGML v1.0//EN
CALSCALE:GREGORIAN
METHOD:PUBLISH
X-WR-CALNAME:Kingdom Fire
X-ORIGINAL-URL:https://kingdomfire.us
X-WR-CALDESC:Events for Kingdom Fire
REFRESH-INTERVAL;VALUE=DURATION:PT1H
X-Robots-Tag:noindex
X-PUBLISHED-TTL:PT1H
BEGIN:VTIMEZONE
TZID:UTC
BEGIN:STANDARD
TZOFFSETFROM:+0000
TZOFFSETTO:+0000
TZNAME:UTC
DTSTART:20250101T000000
END:STANDARD
END:VTIMEZONE
BEGIN:VEVENT
DTSTART;TZID=UTC:20260501T150000
DTEND;TZID=UTC:20260501T223000
DTSTAMP:20260423T160629
CREATED:20260324T231517Z
LAST-MODIFIED:20260325T025446Z
UID:10001060-1777647600-1777674600@kingdomfire.us
SUMMARY:Missionary Trip with Youth For Christ | Michigan Youth Challenge Academy | Battle Creek\, Michigan
DESCRIPTION:Hey guys!\n\n\n\n\n\nOur family is going to be serving this year at the Michigan Youth Challenge Academy. It’s a 3-day opportunity for the church to come in and minister to “at risk” teens.\n\n\n\n\n\nWe started serving at this ministry back in the fall of 2019 as a family and fell in love. It’s a beautiful ministry that puts down denominational differences to love on youth from across Michigan.\n\n\n\n\n\nThis is a military program\, but they allow Youth For Christ to come in for 3 days and show these youth the love of Christ. The ministry is very similar to “Encounter” as it’s heavy testimony and worship based – with biblical teaching that goes all the way from repentance\, forgiveness and Salvation.\n\n\n\n\n\nI’m super excited to be back this year\, I will post details in the comments for the next Retreat\, we will be meeting 3 times on Sunday Evenings after Easter in Auburn with the leaders of this ministry.\n\n\n\n\n\nThe ministry itself is located in Battle Creek\, Michigan and will take place April30-May3 If you’d like additional information\, please let me know. Our family and a group of friends will be going to serve. Check comments for additional info! Blessings guys \n\n  \nHere is a bio from the ministry: \nA second chance for the “at risk youth” of Michigan. \nThe Michigan Youth Challenge Academy is a 17.5-month\, three phase program\nconducted by the Michigan National Guard. Cadets start with a two-week Pre-Challenge\nphase at Fort Curter in Augusta\, Michigan. Then for 20 weeks they live\, work\, and study\non-site with other 16-18 year old cadets. In those 20 weeks they will receive 400 hours\nof classroom instruction to prepare them for the G.E.D. exam. After completion of their\n22-week resident phase cadets graduate and continue their personal growth with an\nadult mentor. The mentor provides each graduate with assistance for the next 12\nmonths in their own community. There is NO COST to the cadet or his/her family for\nparticipation in this program. There is NO MILITARY OBLIGATION for participation\neither. \nThe purpose of the program is to help “at risk” youth obtain their G.E.D.\, teach them\nbasic life skills\, set goals for their future\, obtain full-time employment in their community\,\nand/or pursue further education. This is a three phase\, 17.5 month program. The first\ntwo phases are twenty-two weeks combined and they are residents at the academy.\nThe third phase is post-resident\, and they are in their own community.\nThe Challenge Retreat is a faith-based program being offered as an extension of\nthe MYCA to equip the youth with life changing Christian survival skills.
URL:https://kingdomfire.us/event/missionary-trip-with-youth-for-christ-michigan-youth-challenge-academy-battle-creek-michigan-2/
LOCATION:St. Paul’s Lutheran Church\, 349 Capital Ave NE\, Battle Creek\, MI\, 49017\, United States
CATEGORIES:Mission Trip
ATTACH;FMTTYPE=image/jpeg:https://kingdomfire.us/wp-content/uploads/2026/03/MYCA-Retreat-Flyer-2026-Spring-1-scaled.jpg
END:VEVENT
BEGIN:VEVENT
DTSTART;TZID=UTC:20260502T080000
DTEND;TZID=UTC:20260502T220000
DTSTAMP:20260423T160629
CREATED:20260325T025718Z
LAST-MODIFIED:20260325T025718Z
UID:10001062-1777708800-1777759200@kingdomfire.us
SUMMARY:Missionary Trip with Youth For Christ | Michigan Youth Challenge Academy | Battle Creek\, Michigan
DESCRIPTION:Hey guys!\n\n\n\n\n\nOur family is going to be serving this year at the Michigan Youth Challenge Academy. It’s a 3-day opportunity for the church to come in and minister to “at risk” teens.\n\n\n\n\n\nWe started serving at this ministry back in the fall of 2019 as a family and fell in love. It’s a beautiful ministry that puts down denominational differences to love on youth from across Michigan.\n\n\n\n\n\nThis is a military program\, but they allow Youth For Christ to come in for 3 days and show these youth the love of Christ. The ministry is very similar to “Encounter” as it’s heavy testimony and worship based – with biblical teaching that goes all the way from repentance\, forgiveness and Salvation.\n\n\n\n\n\nI’m super excited to be back this year\, I will post details in the comments for the next Retreat\, we will be meeting 3 times on Sunday Evenings after Easter in Auburn with the leaders of this ministry.\n\n\n\n\n\nThe ministry itself is located in Battle Creek\, Michigan and will take place April30-May3 If you’d like additional information\, please let me know. Our family and a group of friends will be going to serve. Check comments for additional info! Blessings guys \n\n  \nHere is a bio from the ministry: \nA second chance for the “at risk youth” of Michigan. \nThe Michigan Youth Challenge Academy is a 17.5-month\, three phase program\nconducted by the Michigan National Guard. Cadets start with a two-week Pre-Challenge\nphase at Fort Curter in Augusta\, Michigan. Then for 20 weeks they live\, work\, and study\non-site with other 16-18 year old cadets. In those 20 weeks they will receive 400 hours\nof classroom instruction to prepare them for the G.E.D. exam. After completion of their\n22-week resident phase cadets graduate and continue their personal growth with an\nadult mentor. The mentor provides each graduate with assistance for the next 12\nmonths in their own community. There is NO COST to the cadet or his/her family for\nparticipation in this program. There is NO MILITARY OBLIGATION for participation\neither. \nThe purpose of the program is to help “at risk” youth obtain their G.E.D.\, teach them\nbasic life skills\, set goals for their future\, obtain full-time employment in their community\,\nand/or pursue further education. This is a three phase\, 17.5 month program. The first\ntwo phases are twenty-two weeks combined and they are residents at the academy.\nThe third phase is post-resident\, and they are in their own community.\nThe Challenge Retreat is a faith-based program being offered as an extension of\nthe MYCA to equip the youth with life changing Christian survival skills.
URL:https://kingdomfire.us/event/missionary-trip-with-youth-for-christ-michigan-youth-challenge-academy-battle-creek-michigan-3/
LOCATION:St. Paul’s Lutheran Church\, 349 Capital Ave NE\, Battle Creek\, MI\, 49017\, United States
CATEGORIES:Mission Trip
ATTACH;FMTTYPE=image/jpeg:https://kingdomfire.us/wp-content/uploads/2026/03/MYCA-Retreat-Flyer-2026-Spring-1-scaled.jpg
END:VEVENT
BEGIN:VEVENT
DTSTART;TZID=UTC:20260503T080000
DTEND;TZID=UTC:20260503T170000
DTSTAMP:20260423T160629
CREATED:20260325T025938Z
LAST-MODIFIED:20260325T025938Z
UID:10001063-1777795200-1777827600@kingdomfire.us
SUMMARY:Missionary Trip with Youth For Christ | Michigan Youth Challenge Academy | Battle Creek\, Michigan
DESCRIPTION:Hey guys!\n\n\n\n\n\nOur family is going to be serving this year at the Michigan Youth Challenge Academy. It’s a 3-day opportunity for the church to come in and minister to “at risk” teens.\n\n\n\n\n\nWe started serving at this ministry back in the fall of 2019 as a family and fell in love. It’s a beautiful ministry that puts down denominational differences to love on youth from across Michigan.\n\n\n\n\n\nThis is a military program\, but they allow Youth For Christ to come in for 3 days and show these youth the love of Christ. The ministry is very similar to “Encounter” as it’s heavy testimony and worship based – with biblical teaching that goes all the way from repentance\, forgiveness and Salvation.\n\n\n\n\n\nI’m super excited to be back this year\, I will post details in the comments for the next Retreat\, we will be meeting 3 times on Sunday Evenings after Easter in Auburn with the leaders of this ministry.\n\n\n\n\n\nThe ministry itself is located in Battle Creek\, Michigan and will take place April30-May3 If you’d like additional information\, please let me know. Our family and a group of friends will be going to serve. Check comments for additional info! Blessings guys \n\n  \nHere is a bio from the ministry: \nA second chance for the “at risk youth” of Michigan. \nThe Michigan Youth Challenge Academy is a 17.5-month\, three phase program\nconducted by the Michigan National Guard. Cadets start with a two-week Pre-Challenge\nphase at Fort Curter in Augusta\, Michigan. Then for 20 weeks they live\, work\, and study\non-site with other 16-18 year old cadets. In those 20 weeks they will receive 400 hours\nof classroom instruction to prepare them for the G.E.D. exam. After completion of their\n22-week resident phase cadets graduate and continue their personal growth with an\nadult mentor. The mentor provides each graduate with assistance for the next 12\nmonths in their own community. There is NO COST to the cadet or his/her family for\nparticipation in this program. There is NO MILITARY OBLIGATION for participation\neither. \nThe purpose of the program is to help “at risk” youth obtain their G.E.D.\, teach them\nbasic life skills\, set goals for their future\, obtain full-time employment in their community\,\nand/or pursue further education. This is a three phase\, 17.5 month program. The first\ntwo phases are twenty-two weeks combined and they are residents at the academy.\nThe third phase is post-resident\, and they are in their own community.\nThe Challenge Retreat is a faith-based program being offered as an extension of\nthe MYCA to equip the youth with life changing Christian survival skills.
URL:https://kingdomfire.us/event/missionary-trip-with-youth-for-christ-michigan-youth-challenge-academy-battle-creek-michigan-4/
LOCATION:St. Paul’s Lutheran Church\, 349 Capital Ave NE\, Battle Creek\, MI\, 49017\, United States
CATEGORIES:Mission Trip
ATTACH;FMTTYPE=image/jpeg:https://kingdomfire.us/wp-content/uploads/2026/03/MYCA-Retreat-Flyer-2026-Spring-1-scaled.jpg
END:VEVENT
BEGIN:VEVENT
DTSTART;TZID=UTC:20260507T210000
DTEND;TZID=UTC:20260507T223000
DTSTAMP:20260423T160629
CREATED:20250216T220513Z
LAST-MODIFIED:20251111T194722Z
UID:10000761-1778187600-1778193000@kingdomfire.us
SUMMARY:Kingdom Fire Equipping and Discipleship  | |   FREE Bible Study & Community Group   ||  Online via ZOOM
DESCRIPTION:Kingdom Fire Equipping and Discipleship\n\n EVERY THURSDAY @ 9:00PM (ETZ) \n\nYour host\, Justin Fahrenbruch – Kingdom Fire Ministries – is inviting you to an On-Line\, Interactive\, LIVE (Non-Public)\, Discipleship/Bible Study Group.\n\nThis is not be your ordinary “Bible Study” group.  The instruction I have received of the LORD is to expand His Kingdom by raising up Warrior-Disciples.  In this Study Group you will be stretched\, built up and encouraged to go deeper in your walk with Christ.  Divine Connections will be bridged and building relationships that work together for Kingdom Advancement on earth as it is in Heaven.\n\nThere is 30-45 minutes of teaching on various topics by Justin Fahrenbrcuh\nAfter the teaching\, there is another 45 minutes of “Community Time”\n\n Question and Answer\n Sharing what’s on your heart\n Praying and Encouraging one another\n\n** All of the teaching sessions are being recorded and uploaded to our website **\n\n\nReplay Access to this Teaching Series and ALL other teaching series are available for FREE as a special gift to monthly partners with our ministry.\n www.kingdomfire.us/partners-classes \n\n\n*** YOU MUST REGISTER IN ORDER TO RECEIVE THE ACCESS LINK TO THE ZOOM STUDIES ***\n** THE SAME LINK IS USED EVERY WEEK\, SO SAVE THE LINK **\n\n REGISTER HERE: https://us02web.zoom.us/meeting/register/tZ0tce2hqjwsHNyJ3hGAIeeamVbyvbQW22QF \n\n\nSEE YOU THIS THURSDAY @ 9PM!
URL:https://kingdomfire.us/event/kingdom-foundations-identity-in-christ-online-bible-study-2-2/2026-05-07/
LOCATION:ZOOM VIRTUAL ONLINE CLASSROOM
CATEGORIES:Equipping Class,Kingdom Equipping
ATTACH;FMTTYPE=image/jpeg:https://kingdomfire.us/wp-content/uploads/2024/04/Online-bible-study-classes-flyer-scaled.jpg
ORGANIZER;CN="Justin Fahrenbruch":MAILTO:Admin@Kingdomfire.us
END:VEVENT
BEGIN:VEVENT
DTSTART;TZID=UTC:20260509T100000
DTEND;TZID=UTC:20260509T153000
DTSTAMP:20260423T160629
CREATED:20260325T153505Z
LAST-MODIFIED:20260330T220505Z
UID:10001067-1778320800-1778340600@kingdomfire.us
SUMMARY:Guest Speaker  |  Jesus in the Public Square - Liberty Leaders Unite  |  Eastpointe\, Michigan
DESCRIPTION:𝐉𝐞𝐬𝐮𝐬 𝐢𝐧 𝐭𝐡𝐞 𝐏𝐮𝐛𝐥𝐢𝐜 𝐒𝐪𝐮𝐚𝐫𝐞 A powerful gathering focused on 𝙀𝙫𝙖𝙣𝙜𝙚𝙡𝙞𝙨𝙢 𝙏𝙧𝙖𝙞𝙣𝙞𝙣𝙜\, 𝙁𝙖𝙞𝙩𝙝 𝙞𝙣 𝘼𝙘𝙩𝙞𝙤𝙣\, 𝙖𝙣𝙙 𝘾𝙤𝙢𝙢𝙪𝙣𝙞𝙩𝙮 𝙄𝙢𝙥𝙖𝙘𝙩. Join us as we come together to boldly preach the Gospel and take the message of Jesus beyond the four walls of the church and into our communities.  \n \n 𝓖𝓾𝓮𝓼𝓽 𝓢𝓹𝓮𝓪𝓴𝓮𝓻𝓼: Apostle Ellis Smith\, Lisha Kilgus\, Justin Fahrenbruch\, and Pastor Dion. Each speaker brings a unique testimony\, calling\, and passion for seeing lives transformed\, believers equipped\, and communities impacted by the power of Jesus Christ.   \n𝗦𝗮𝘁𝘂𝗿𝗱𝗮𝘆\, 𝗠𝗮𝘆 𝟵𝘁𝗵  𝟭𝟬:𝟬𝟬 𝗔𝗠 \nLunch will be provided.  \nCome ready to be encouraged\, equipped\, and ignited to live out your faith in the public square. \nEVENT IS FREE — BUT PLEASE REGISTER SO WE HAVE A HEAD COUNT FOR FOOD \nhttps://www.libertyleadersunite.org/event-details-registration/jesus-in-the-public-square-preaching-the-gospel-and-evangelism-training
URL:https://kingdomfire.us/event/guest-speaker-jesus-in-the-public-square-liberty-leaders-unite-eastpointe-michigan/
LOCATION:Christian Trinity Church\, 21770 Kelly Rd.\, Eastpointe\, MI\, 48021\, United States
CATEGORIES:Evangelism Equipping,Special Event
ATTACH;FMTTYPE=image/jpeg:https://kingdomfire.us/wp-content/uploads/2026/03/659363775_1701542627681928_4601359438339690164_n-1.jpg
END:VEVENT
BEGIN:VEVENT
DTSTART;TZID=UTC:20260514T210000
DTEND;TZID=UTC:20260514T223000
DTSTAMP:20260423T160629
CREATED:20250216T220513Z
LAST-MODIFIED:20251111T194722Z
UID:10000762-1778792400-1778797800@kingdomfire.us
SUMMARY:Kingdom Fire Equipping and Discipleship  | |   FREE Bible Study & Community Group   ||  Online via ZOOM
DESCRIPTION:Kingdom Fire Equipping and Discipleship\n\n EVERY THURSDAY @ 9:00PM (ETZ) \n\nYour host\, Justin Fahrenbruch – Kingdom Fire Ministries – is inviting you to an On-Line\, Interactive\, LIVE (Non-Public)\, Discipleship/Bible Study Group.\n\nThis is not be your ordinary “Bible Study” group.  The instruction I have received of the LORD is to expand His Kingdom by raising up Warrior-Disciples.  In this Study Group you will be stretched\, built up and encouraged to go deeper in your walk with Christ.  Divine Connections will be bridged and building relationships that work together for Kingdom Advancement on earth as it is in Heaven.\n\nThere is 30-45 minutes of teaching on various topics by Justin Fahrenbrcuh\nAfter the teaching\, there is another 45 minutes of “Community Time”\n\n Question and Answer\n Sharing what’s on your heart\n Praying and Encouraging one another\n\n** All of the teaching sessions are being recorded and uploaded to our website **\n\n\nReplay Access to this Teaching Series and ALL other teaching series are available for FREE as a special gift to monthly partners with our ministry.\n www.kingdomfire.us/partners-classes \n\n\n*** YOU MUST REGISTER IN ORDER TO RECEIVE THE ACCESS LINK TO THE ZOOM STUDIES ***\n** THE SAME LINK IS USED EVERY WEEK\, SO SAVE THE LINK **\n\n REGISTER HERE: https://us02web.zoom.us/meeting/register/tZ0tce2hqjwsHNyJ3hGAIeeamVbyvbQW22QF \n\n\nSEE YOU THIS THURSDAY @ 9PM!
URL:https://kingdomfire.us/event/kingdom-foundations-identity-in-christ-online-bible-study-2-2/2026-05-14/
LOCATION:ZOOM VIRTUAL ONLINE CLASSROOM
CATEGORIES:Equipping Class,Kingdom Equipping
ATTACH;FMTTYPE=image/jpeg:https://kingdomfire.us/wp-content/uploads/2024/04/Online-bible-study-classes-flyer-scaled.jpg
ORGANIZER;CN="Justin Fahrenbruch":MAILTO:Admin@Kingdomfire.us
END:VEVENT
BEGIN:VEVENT
DTSTART;TZID=UTC:20260521T210000
DTEND;TZID=UTC:20260521T223000
DTSTAMP:20260423T160629
CREATED:20250216T220513Z
LAST-MODIFIED:20251111T194722Z
UID:10000763-1779397200-1779402600@kingdomfire.us
SUMMARY:Kingdom Fire Equipping and Discipleship  | |   FREE Bible Study & Community Group   ||  Online via ZOOM
DESCRIPTION:Kingdom Fire Equipping and Discipleship\n\n EVERY THURSDAY @ 9:00PM (ETZ) \n\nYour host\, Justin Fahrenbruch – Kingdom Fire Ministries – is inviting you to an On-Line\, Interactive\, LIVE (Non-Public)\, Discipleship/Bible Study Group.\n\nThis is not be your ordinary “Bible Study” group.  The instruction I have received of the LORD is to expand His Kingdom by raising up Warrior-Disciples.  In this Study Group you will be stretched\, built up and encouraged to go deeper in your walk with Christ.  Divine Connections will be bridged and building relationships that work together for Kingdom Advancement on earth as it is in Heaven.\n\nThere is 30-45 minutes of teaching on various topics by Justin Fahrenbrcuh\nAfter the teaching\, there is another 45 minutes of “Community Time”\n\n Question and Answer\n Sharing what’s on your heart\n Praying and Encouraging one another\n\n** All of the teaching sessions are being recorded and uploaded to our website **\n\n\nReplay Access to this Teaching Series and ALL other teaching series are available for FREE as a special gift to monthly partners with our ministry.\n www.kingdomfire.us/partners-classes \n\n\n*** YOU MUST REGISTER IN ORDER TO RECEIVE THE ACCESS LINK TO THE ZOOM STUDIES ***\n** THE SAME LINK IS USED EVERY WEEK\, SO SAVE THE LINK **\n\n REGISTER HERE: https://us02web.zoom.us/meeting/register/tZ0tce2hqjwsHNyJ3hGAIeeamVbyvbQW22QF \n\n\nSEE YOU THIS THURSDAY @ 9PM!
URL:https://kingdomfire.us/event/kingdom-foundations-identity-in-christ-online-bible-study-2-2/2026-05-21/
LOCATION:ZOOM VIRTUAL ONLINE CLASSROOM
CATEGORIES:Equipping Class,Kingdom Equipping
ATTACH;FMTTYPE=image/jpeg:https://kingdomfire.us/wp-content/uploads/2024/04/Online-bible-study-classes-flyer-scaled.jpg
ORGANIZER;CN="Justin Fahrenbruch":MAILTO:Admin@Kingdomfire.us
END:VEVENT
BEGIN:VEVENT
DTSTART;TZID=UTC:20260528T210000
DTEND;TZID=UTC:20260528T223000
DTSTAMP:20260423T160629
CREATED:20250216T220513Z
LAST-MODIFIED:20251111T194722Z
UID:10000764-1780002000-1780007400@kingdomfire.us
SUMMARY:Kingdom Fire Equipping and Discipleship  | |   FREE Bible Study & Community Group   ||  Online via ZOOM
DESCRIPTION:Kingdom Fire Equipping and Discipleship\n\n EVERY THURSDAY @ 9:00PM (ETZ) \n\nYour host\, Justin Fahrenbruch – Kingdom Fire Ministries – is inviting you to an On-Line\, Interactive\, LIVE (Non-Public)\, Discipleship/Bible Study Group.\n\nThis is not be your ordinary “Bible Study” group.  The instruction I have received of the LORD is to expand His Kingdom by raising up Warrior-Disciples.  In this Study Group you will be stretched\, built up and encouraged to go deeper in your walk with Christ.  Divine Connections will be bridged and building relationships that work together for Kingdom Advancement on earth as it is in Heaven.\n\nThere is 30-45 minutes of teaching on various topics by Justin Fahrenbrcuh\nAfter the teaching\, there is another 45 minutes of “Community Time”\n\n Question and Answer\n Sharing what’s on your heart\n Praying and Encouraging one another\n\n** All of the teaching sessions are being recorded and uploaded to our website **\n\n\nReplay Access to this Teaching Series and ALL other teaching series are available for FREE as a special gift to monthly partners with our ministry.\n www.kingdomfire.us/partners-classes \n\n\n*** YOU MUST REGISTER IN ORDER TO RECEIVE THE ACCESS LINK TO THE ZOOM STUDIES ***\n** THE SAME LINK IS USED EVERY WEEK\, SO SAVE THE LINK **\n\n REGISTER HERE: https://us02web.zoom.us/meeting/register/tZ0tce2hqjwsHNyJ3hGAIeeamVbyvbQW22QF \n\n\nSEE YOU THIS THURSDAY @ 9PM!
URL:https://kingdomfire.us/event/kingdom-foundations-identity-in-christ-online-bible-study-2-2/2026-05-28/
LOCATION:ZOOM VIRTUAL ONLINE CLASSROOM
CATEGORIES:Equipping Class,Kingdom Equipping
ATTACH;FMTTYPE=image/jpeg:https://kingdomfire.us/wp-content/uploads/2024/04/Online-bible-study-classes-flyer-scaled.jpg
ORGANIZER;CN="Justin Fahrenbruch":MAILTO:Admin@Kingdomfire.us
END:VEVENT
BEGIN:VEVENT
DTSTART;TZID=UTC:20260529T180000
DTEND;TZID=UTC:20260529T210000
DTSTAMP:20260423T160629
CREATED:20260325T164101Z
LAST-MODIFIED:20260325T164101Z
UID:10001068-1780077600-1780088400@kingdomfire.us
SUMMARY:Friday Evening Impartation Service  |  Evangelism Equipping Weekend | BVCC - Bay City\, Michigan
DESCRIPTION:  LET’S GO — BAY CITY\, MICHIGAN! \n\n\n\nI’m honored to be with Bay Valley Christian Church for a powerful 3-Day Revival Weekend — and you’re invited!\n\n\n\n Location:\nBay Valley Christian Church\n2535 Wilder Rd.\nBay City\, Michigan 48707\n\n\n\n May 29th – May 31st\n\n\n Weekend Schedule:\n\nFriday | 6:00 PM\n Impartation Service — Worship\, Word\, Kingdom Encounter\n\n\nFRIDAY NIGHT – IMPARTATION SERVICE 🔥 \nThis Friday evening we’re gathering hungry hearts\, burning ones\, and rising evangelists for a powerful Impartation Service. \nThis is more than a service—it’s a moment of activation\, commissioning\, and fresh fire. \nIf you’re called to:\n• Preach the Gospel• Lay hands on the sick• Carry revival into the streets• Walk in boldness\, identity\, and power \nThis night is for YOU. \nCome expect:\n🔥 Fresh fire from the Holy Spirit🔥 Impartation & activation🔥 Prophetic prayer & commissioning🔥 A stirring to GO and preach Jesus \nBring your hunger. Leave empowered. \n\n\n\n\n\nSaturday | 10:00AM\n Evangelism Equipping\, Holy Spirit Activations & Outreach\n(Be equipped\, activated\, and sent!)\n\n\nSaturday | NOON\n🖐️ Hands on – Outreach into the community\n\n\n\n\nSaturday | 6:00PM\n Evangelism Equipping\, Holy Spirit Activations\n\n\n\nSunday Morning | 9:00AM + 11:00AM\n Sunday Church Service — Justin will be sharing during both church services\n\n\n\nThis weekend is all about encountering Jesus\, being empowered by the Holy Spirit\, and living out the Gospel boldly. Whether you’re hungry for revival\, want to grow in evangelism\, or just need a fresh touch from God — this weekend is for you.\n\n\n\n Bring a friend. Come expectant. Let’s see heaven invade earth.\n\n\n Bay City — God is moving!
URL:https://kingdomfire.us/event/friday-evening-impartation-service-evangelism-equipping-weekend-bvcc-bay-city-michigan/
LOCATION:Bay Valley Christian Church\, 2535 Wilder Rd.\, Bay City\, Michigan\, 48706
CATEGORIES:Evangelism Equipping,Evangelism Outreach
ATTACH;FMTTYPE=image/png:https://kingdomfire.us/wp-content/uploads/2026/03/Bay-City-Evangelism-Weekend.png
END:VEVENT
BEGIN:VEVENT
DTSTART;TZID=UTC:20260530T100000
DTEND;TZID=UTC:20260530T210000
DTSTAMP:20260423T160629
CREATED:20260325T165329Z
LAST-MODIFIED:20260325T165329Z
UID:10001069-1780135200-1780174800@kingdomfire.us
SUMMARY:Saturday Equipping and Outreach  |  Evangelism Equipping Weekend | BVCC - Bay City\, Michigan
DESCRIPTION:  LET’S GO — BAY CITY\, MICHIGAN! \n\n\n\nI’m honored to be with Bay Valley Christian Church for a powerful 3-Day Revival Weekend — and you’re invited!\n\n\n\n Location:\nBay Valley Christian Church\n2535 Wilder Rd.\nBay City\, Michigan 48707\n\n\n\n May 29th – May 31st\n\n\n Weekend Schedule:\n\nFriday | 6:00 PM\n Impartation Service — Worship\, Word\, Kingdom Encounter\n\n\n\n\n\n\n\n\n\nSaturday | 10:00AM\n Evangelism Equipping\, Holy Spirit Activations & Outreach\n(Be equipped\, activated\, and sent!)\n\n\n\n\nSaturday | NOON\n🖐️ Hands on – Outreach into the community\n\n\n\n\n\n\nSaturday | 6:00PM\n Evangelism Equipping\, Holy Spirit Activations & Outreach\n\n\n\nSATURDAY SCHEDULE | EVANGELISM EQUIPPING & REVIVAL \n🔥 EVANGELISM EQUIPPING WEEKEND 🔥\nSaturday is where commissioning turns into action. \nAfter Friday night’s impartation\, we’re gathering for a full day of hands-on Evangelism Equipping—designed to train and activate believers to confidently share Jesus in everyday life. \nThis isn’t just teaching…This is activation. \n\n⚡ SATURDAY MORNING | 10:00 AM\nEVANGELISM EQUIPPING + ACTIVATION \nWe’ll dive into practical\, Spirit-led training on: \n▪️ Practical Evangelism – how to live a lifestyle of sharing Jesus▪️ How to share your personal testimony with confidence▪️ How to clearly and effectively share the Gospel▪️ Stepping out in boldness and faith \n🔥 Activation included — you won’t just hear it… you’ll do it. \n➡️ Then we GO.We’ll head into the community together to put it into practice—sharing the love of Jesus side by side in real time. \n\n🌆 SATURDAY EVENING\nEVANGELISM + PROPHETIC ACTIVATION SESSION \nWe’ll regather for a powerful equipping session focused on: \n▪️ Hearing the voice of God▪️ Words of Knowledge▪️ Prophetic Evangelism▪️ Being led by the Holy Spirit in real-time encounters \n🔥 With hands-on activation to step into it immediately. \n\n🔥 WHAT TO EXPECT:\n▪️ Practical training you can actually apply▪️ A safe environment to step out and grow▪️ Real outreach experience in the community▪️ Impartation\, activation\, and boldness \n\n👉 Come ready to be equipped.👉 Come ready to be stretched.👉 Come ready to GO. \n\n\n\n\n\nSunday Morning | 9:00AM + 11:00AM\n Sunday Church Service — Justin will be sharing during both church services\n\n\n\nThis weekend is all about encountering Jesus\, being empowered by the Holy Spirit\, and living out the Gospel boldly. Whether you’re hungry for revival\, want to grow in evangelism\, or just need a fresh touch from God — this weekend is for you.\n\n\n\n Bring a friend. Come expectant. Let’s see heaven invade earth.\n\n\n Bay City — God is moving!
URL:https://kingdomfire.us/event/saturday-equipping-and-outreach-evangelism-equipping-weekend-bvcc-bay-city-michigan/
LOCATION:Bay Valley Christian Church\, 2535 Wilder Rd.\, Bay City\, Michigan\, 48706
CATEGORIES:Evangelism Equipping,Evangelism Outreach
ATTACH;FMTTYPE=image/png:https://kingdomfire.us/wp-content/uploads/2026/03/Bay-City-Evangelism-Weekend.png
END:VEVENT
BEGIN:VEVENT
DTSTART;TZID=UTC:20260531T090000
DTEND;TZID=UTC:20260531T130000
DTSTAMP:20260423T160629
CREATED:20260325T165916Z
LAST-MODIFIED:20260325T165916Z
UID:10001070-1780218000-1780232400@kingdomfire.us
SUMMARY:Guest Speaker for Church Service  |  Bay Valley Christian Church |  Bay City\, MI
DESCRIPTION:🔥🔥 BAY CITY\, MICHIGAN 🔥🔥 \nIf you’re in Bay City  and don’t have a home church—or it’s been a while since you’ve been in church—we would love to invite you to join us at Bay Valley Christian Church – Sunday\, May 31st! \n⏰ Service Times:9:00 AM & 11:00 AM \n🎤 Guest Speaker:Evangelist Justin Fahrenbruch \nAfter 14 years bound by addiction\, Justin experienced a radical and miraculous encounter with Jesus in 2018 that completely changed the trajectory of his life. In the middle of an ordinary day—and an unexpected parking lot—he surrendered his life to Christ and was instantly set free. Since that moment\, Justin has seen the dynamic power of God move not only in his own life\, but through him as he shares the hope\, freedom\, and transformation found in Jesus. \nJustin will be sharing his heart during both Sunday services\, and we believe this will be a powerful morning of encouragement\, hope\, and encounter. \n✨ Come as you are. Bring a friend. We’d love to see you there.
URL:https://kingdomfire.us/event/guest-speaker-for-church-service-bay-valley-christian-church-bay-city-mi-2/
LOCATION:Bay Valley Christian Church\, 2535 Wilder Rd.\, Bay City\, Michigan\, 48706
CATEGORIES:Guest Speaker for Church Service
ATTACH;FMTTYPE=image/png:https://kingdomfire.us/wp-content/uploads/2026/03/Bay-City-Evangelism-Weekend.png
END:VEVENT
END:VCALENDAR