BEGIN:VCALENDAR
VERSION:2.0
PRODID:-//Kingdom Fire - ECPv6.15.20//NONSGML v1.0//EN
CALSCALE:GREGORIAN
METHOD:PUBLISH
X-ORIGINAL-URL:https://kingdomfire.us
X-WR-CALDESC:Events for Kingdom Fire
REFRESH-INTERVAL;VALUE=DURATION:PT1H
X-Robots-Tag:noindex
X-PUBLISHED-TTL:PT1H
BEGIN:VTIMEZONE
TZID:UTC
BEGIN:STANDARD
TZOFFSETFROM:+0000
TZOFFSETTO:+0000
TZNAME:UTC
DTSTART:20250101T000000
END:STANDARD
END:VTIMEZONE
BEGIN:VEVENT
DTSTART;TZID=UTC:20260301T090000
DTEND;TZID=UTC:20260301T120000
DTSTAMP:20260423T185449
CREATED:20260207T003926Z
LAST-MODIFIED:20260210T215216Z
UID:10001056-1772355600-1772366400@kingdomfire.us
SUMMARY:Guest Speaker for Church Service  |  Port Huron Assembly of God |  Port Huron\, MI
DESCRIPTION:🔥🔥 PORT HURON\, MICHIGAN 🔥🔥 \nIf you’re in Port Huron Area  and don’t have a home church—or it’s been a while since you’ve been in church—we would love to invite you to join us at Port Huron Assembly of God – Sunday\, March 1st! \n⏰ Service Times:9:00 AM & 10:30 \n🎤 Guest Speaker:Evangelist Justin Fahrenbruch \nAfter 14 years bound by addiction\, Justin experienced a radical and miraculous encounter with Jesus in 2018 that completely changed the trajectory of his life. In the middle of an ordinary day—and an unexpected parking lot—he surrendered his life to Christ and was instantly set free. Since that moment\, Justin has seen the dynamic power of God move not only in his own life\, but through him as he shares the hope\, freedom\, and transformation found in Jesus. \nJustin will be sharing his heart during both Sunday services\, and we believe this will be a powerful morning of encouragement\, hope\, and encounter. \n✨ Come as you are. Bring a friend. We’d love to see you there.
URL:https://kingdomfire.us/event/guest-speaker-for-church-service-port-huron-assembly-of-god-port-huron-mi/
LOCATION:Port Huron Assembly of God\, 835 River St.\, Port Huron\, MI\, 48060\, United States
ATTACH;FMTTYPE=image/png:https://kingdomfire.us/wp-content/uploads/2026/02/Black-White-and-Orange-Simple-Modern-Church-Service-Instagram-Post-7.png
END:VEVENT
BEGIN:VEVENT
DTSTART;TZID=UTC:20260305T210000
DTEND;TZID=UTC:20260305T223000
DTSTAMP:20260423T185449
CREATED:20250216T220513Z
LAST-MODIFIED:20251111T194722Z
UID:10000752-1772744400-1772749800@kingdomfire.us
SUMMARY:Kingdom Fire Equipping and Discipleship  | |   FREE Bible Study & Community Group   ||  Online via ZOOM
DESCRIPTION:Kingdom Fire Equipping and Discipleship\n\n EVERY THURSDAY @ 9:00PM (ETZ) \n\nYour host\, Justin Fahrenbruch – Kingdom Fire Ministries – is inviting you to an On-Line\, Interactive\, LIVE (Non-Public)\, Discipleship/Bible Study Group.\n\nThis is not be your ordinary “Bible Study” group.  The instruction I have received of the LORD is to expand His Kingdom by raising up Warrior-Disciples.  In this Study Group you will be stretched\, built up and encouraged to go deeper in your walk with Christ.  Divine Connections will be bridged and building relationships that work together for Kingdom Advancement on earth as it is in Heaven.\n\nThere is 30-45 minutes of teaching on various topics by Justin Fahrenbrcuh\nAfter the teaching\, there is another 45 minutes of “Community Time”\n\n Question and Answer\n Sharing what’s on your heart\n Praying and Encouraging one another\n\n** All of the teaching sessions are being recorded and uploaded to our website **\n\n\nReplay Access to this Teaching Series and ALL other teaching series are available for FREE as a special gift to monthly partners with our ministry.\n www.kingdomfire.us/partners-classes \n\n\n*** YOU MUST REGISTER IN ORDER TO RECEIVE THE ACCESS LINK TO THE ZOOM STUDIES ***\n** THE SAME LINK IS USED EVERY WEEK\, SO SAVE THE LINK **\n\n REGISTER HERE: https://us02web.zoom.us/meeting/register/tZ0tce2hqjwsHNyJ3hGAIeeamVbyvbQW22QF \n\n\nSEE YOU THIS THURSDAY @ 9PM!
URL:https://kingdomfire.us/event/kingdom-foundations-identity-in-christ-online-bible-study-2-2/2026-03-05/
LOCATION:ZOOM VIRTUAL ONLINE CLASSROOM
CATEGORIES:Equipping Class,Kingdom Equipping
ATTACH;FMTTYPE=image/jpeg:https://kingdomfire.us/wp-content/uploads/2024/04/Online-bible-study-classes-flyer-scaled.jpg
ORGANIZER;CN="Justin Fahrenbruch":MAILTO:Admin@Kingdomfire.us
END:VEVENT
BEGIN:VEVENT
DTSTART;TZID=UTC:20260312T210000
DTEND;TZID=UTC:20260312T223000
DTSTAMP:20260423T185449
CREATED:20250216T220513Z
LAST-MODIFIED:20251111T194722Z
UID:10000753-1773349200-1773354600@kingdomfire.us
SUMMARY:Kingdom Fire Equipping and Discipleship  | |   FREE Bible Study & Community Group   ||  Online via ZOOM
DESCRIPTION:Kingdom Fire Equipping and Discipleship\n\n EVERY THURSDAY @ 9:00PM (ETZ) \n\nYour host\, Justin Fahrenbruch – Kingdom Fire Ministries – is inviting you to an On-Line\, Interactive\, LIVE (Non-Public)\, Discipleship/Bible Study Group.\n\nThis is not be your ordinary “Bible Study” group.  The instruction I have received of the LORD is to expand His Kingdom by raising up Warrior-Disciples.  In this Study Group you will be stretched\, built up and encouraged to go deeper in your walk with Christ.  Divine Connections will be bridged and building relationships that work together for Kingdom Advancement on earth as it is in Heaven.\n\nThere is 30-45 minutes of teaching on various topics by Justin Fahrenbrcuh\nAfter the teaching\, there is another 45 minutes of “Community Time”\n\n Question and Answer\n Sharing what’s on your heart\n Praying and Encouraging one another\n\n** All of the teaching sessions are being recorded and uploaded to our website **\n\n\nReplay Access to this Teaching Series and ALL other teaching series are available for FREE as a special gift to monthly partners with our ministry.\n www.kingdomfire.us/partners-classes \n\n\n*** YOU MUST REGISTER IN ORDER TO RECEIVE THE ACCESS LINK TO THE ZOOM STUDIES ***\n** THE SAME LINK IS USED EVERY WEEK\, SO SAVE THE LINK **\n\n REGISTER HERE: https://us02web.zoom.us/meeting/register/tZ0tce2hqjwsHNyJ3hGAIeeamVbyvbQW22QF \n\n\nSEE YOU THIS THURSDAY @ 9PM!
URL:https://kingdomfire.us/event/kingdom-foundations-identity-in-christ-online-bible-study-2-2/2026-03-12/
LOCATION:ZOOM VIRTUAL ONLINE CLASSROOM
CATEGORIES:Equipping Class,Kingdom Equipping
ATTACH;FMTTYPE=image/jpeg:https://kingdomfire.us/wp-content/uploads/2024/04/Online-bible-study-classes-flyer-scaled.jpg
ORGANIZER;CN="Justin Fahrenbruch":MAILTO:Admin@Kingdomfire.us
END:VEVENT
BEGIN:VEVENT
DTSTART;TZID=UTC:20260315T080000
DTEND;TZID=UTC:20260315T120000
DTSTAMP:20260423T185449
CREATED:20260129T223537Z
LAST-MODIFIED:20260129T223537Z
UID:10001050-1773561600-1773576000@kingdomfire.us
SUMMARY:Guest Speaker for Church Service "Revival Kickoff"  |   Liberty Chapel Church  |  Liberty Center\, Ohio
DESCRIPTION:🔥 POWER FOR TODAY — 3-DAY REVIVAL 🔥\nPeace. Purpose. Prayer. Praise. \nWe’re honored to be joining our friends at Liberty Chapel for a powerful 3-Day Revival focused on encountering God’s Power for Today. This weekend is all about experiencing real peace\, discovering purpose\, and being refreshed through prayer and praise. \n📍 Location:Liberty Chapel9474 County Road VLiberty Center\, OH 43532 \n📅 March 15–17 \n\n🕊 SUNDAY – REVIVAL KICKOFF\n⏰ Morning Services: 8:15 AM & 10:30 AM🍝 Youth Fundraiser Lasagna Dinner: 5:30 PM🎶 Praise & Worship: 6:30 PM🔥 Guest Speaker: 7:00–8:00 PM \n\n🔥 MONDAY & TUESDAY – REVIVAL NIGHTS\n🎶 Praise & Worship: 6:30 PM🔥 Guest Speaker: 7:00–8:00 PM \n\n👶 Nursery & Kids Programs will be available during the evening services. \nCome expecting. Come hungry. Come believing for God to move today. Whether you’re seeking peace\, clarity of purpose\, fresh fire in prayer\, or a renewed heart of praise — this weekend is for you. \nEveryone is welcome. Bring your family\, invite a friend\, and come encounter the presence and power of God.
URL:https://kingdomfire.us/event/guest-speaker-for-church-service-revival-kickoff-liberty-chapel-church-liberty-center-ohio/
LOCATION:Liberty Chapel\, 9474 County Road V\, Liberty Center\, OH\, 43532\, United States
CATEGORIES:Guest Speaker for Church Service,Guest Speaker for Special Event
ATTACH;FMTTYPE=image/jpeg:https://kingdomfire.us/wp-content/uploads/2026/01/622029893_1302733111890069_7360862484899919554_n.jpg
END:VEVENT
BEGIN:VEVENT
DTSTART;TZID=UTC:20260316T183000
DTEND;TZID=UTC:20260316T203000
DTSTAMP:20260423T185449
CREATED:20260129T223900Z
LAST-MODIFIED:20260129T223900Z
UID:10001051-1773685800-1773693000@kingdomfire.us
SUMMARY:Guest Speaker for 3-Day Revival Service  |   Liberty Chapel Church  |  Liberty Center\, Ohio
DESCRIPTION:🔥 POWER FOR TODAY — 3-DAY REVIVAL 🔥\nPeace. Purpose. Prayer. Praise. \nWe’re honored to be joining our friends at Liberty Chapel for a powerful 3-Day Revival focused on encountering God’s Power for Today. This weekend is all about experiencing real peace\, discovering purpose\, and being refreshed through prayer and praise. \n📍 Location:Liberty Chapel9474 County Road VLiberty Center\, OH 43532 \n📅 March 15–17 \n\n🕊 SUNDAY – REVIVAL KICKOFF\n⏰ Morning Services: 8:15 AM & 10:30 AM🍝 Youth Fundraiser Lasagna Dinner: 5:30 PM🎶 Praise & Worship: 6:30 PM🔥 Guest Speaker: 7:00–8:00 PM \n\n🔥 MONDAY & TUESDAY – REVIVAL NIGHTS\n🎶 Praise & Worship: 6:30 PM🔥 Guest Speaker: 7:00–8:00 PM \n\n👶 Nursery & Kids Programs will be available during the evening services. \nCome expecting. Come hungry. Come believing for God to move today. Whether you’re seeking peace\, clarity of purpose\, fresh fire in prayer\, or a renewed heart of praise — this weekend is for you. \nEveryone is welcome. Bring your family\, invite a friend\, and come encounter the presence and power of God.
URL:https://kingdomfire.us/event/guest-speaker-for-3-day-revival-service-liberty-chapel-church-liberty-center-ohio/
LOCATION:Liberty Chapel\, 9474 County Road V\, Liberty Center\, OH\, 43532\, United States
CATEGORIES:Guest Speaker for Special Event,Revival Services
ATTACH;FMTTYPE=image/jpeg:https://kingdomfire.us/wp-content/uploads/2026/01/622029893_1302733111890069_7360862484899919554_n.jpg
END:VEVENT
BEGIN:VEVENT
DTSTART;TZID=UTC:20260317T183000
DTEND;TZID=UTC:20260317T203000
DTSTAMP:20260423T185449
CREATED:20260129T225622Z
LAST-MODIFIED:20260129T225622Z
UID:10001052-1773772200-1773779400@kingdomfire.us
SUMMARY:Guest Speaker for 3-Day Revival Service  |   Liberty Chapel Church  |  Liberty Center\, Ohio
DESCRIPTION:🔥 POWER FOR TODAY — 3-DAY REVIVAL 🔥\nPeace. Purpose. Prayer. Praise. \nWe’re honored to be joining our friends at Liberty Chapel for a powerful 3-Day Revival focused on encountering God’s Power for Today. This weekend is all about experiencing real peace\, discovering purpose\, and being refreshed through prayer and praise. \n📍 Location:Liberty Chapel9474 County Road VLiberty Center\, OH 43532 \n📅 March 15–17 \n\n🕊 SUNDAY – REVIVAL KICKOFF\n⏰ Morning Services: 8:15 AM & 10:30 AM🍝 Youth Fundraiser Lasagna Dinner: 5:30 PM🎶 Praise & Worship: 6:30 PM🔥 Guest Speaker: 7:00–8:00 PM \n\n🔥 MONDAY & TUESDAY – REVIVAL NIGHTS\n🎶 Praise & Worship: 6:30 PM🔥 Guest Speaker: 7:00–8:00 PM \n\n👶 Nursery & Kids Programs will be available during the evening services. \nCome expecting. Come hungry. Come believing for God to move today. Whether you’re seeking peace\, clarity of purpose\, fresh fire in prayer\, or a renewed heart of praise — this weekend is for you. \nEveryone is welcome. Bring your family\, invite a friend\, and come encounter the presence and power of God.
URL:https://kingdomfire.us/event/guest-speaker-for-3-day-revival-service-liberty-chapel-church-liberty-center-ohio-2/
LOCATION:Liberty Chapel\, 9474 County Road V\, Liberty Center\, OH\, 43532\, United States
CATEGORIES:Guest Speaker for Special Event,Revival Services
ATTACH;FMTTYPE=image/jpeg:https://kingdomfire.us/wp-content/uploads/2026/01/622029893_1302733111890069_7360862484899919554_n.jpg
END:VEVENT
BEGIN:VEVENT
DTSTART;TZID=UTC:20260319T210000
DTEND;TZID=UTC:20260319T223000
DTSTAMP:20260423T185449
CREATED:20250216T220513Z
LAST-MODIFIED:20251111T194722Z
UID:10000754-1773954000-1773959400@kingdomfire.us
SUMMARY:Kingdom Fire Equipping and Discipleship  | |   FREE Bible Study & Community Group   ||  Online via ZOOM
DESCRIPTION:Kingdom Fire Equipping and Discipleship\n\n EVERY THURSDAY @ 9:00PM (ETZ) \n\nYour host\, Justin Fahrenbruch – Kingdom Fire Ministries – is inviting you to an On-Line\, Interactive\, LIVE (Non-Public)\, Discipleship/Bible Study Group.\n\nThis is not be your ordinary “Bible Study” group.  The instruction I have received of the LORD is to expand His Kingdom by raising up Warrior-Disciples.  In this Study Group you will be stretched\, built up and encouraged to go deeper in your walk with Christ.  Divine Connections will be bridged and building relationships that work together for Kingdom Advancement on earth as it is in Heaven.\n\nThere is 30-45 minutes of teaching on various topics by Justin Fahrenbrcuh\nAfter the teaching\, there is another 45 minutes of “Community Time”\n\n Question and Answer\n Sharing what’s on your heart\n Praying and Encouraging one another\n\n** All of the teaching sessions are being recorded and uploaded to our website **\n\n\nReplay Access to this Teaching Series and ALL other teaching series are available for FREE as a special gift to monthly partners with our ministry.\n www.kingdomfire.us/partners-classes \n\n\n*** YOU MUST REGISTER IN ORDER TO RECEIVE THE ACCESS LINK TO THE ZOOM STUDIES ***\n** THE SAME LINK IS USED EVERY WEEK\, SO SAVE THE LINK **\n\n REGISTER HERE: https://us02web.zoom.us/meeting/register/tZ0tce2hqjwsHNyJ3hGAIeeamVbyvbQW22QF \n\n\nSEE YOU THIS THURSDAY @ 9PM!
URL:https://kingdomfire.us/event/kingdom-foundations-identity-in-christ-online-bible-study-2-2/2026-03-19/
LOCATION:ZOOM VIRTUAL ONLINE CLASSROOM
CATEGORIES:Equipping Class,Kingdom Equipping
ATTACH;FMTTYPE=image/jpeg:https://kingdomfire.us/wp-content/uploads/2024/04/Online-bible-study-classes-flyer-scaled.jpg
ORGANIZER;CN="Justin Fahrenbruch":MAILTO:Admin@Kingdomfire.us
END:VEVENT
BEGIN:VEVENT
DTSTART;TZID=UTC:20260326T210000
DTEND;TZID=UTC:20260326T223000
DTSTAMP:20260423T185449
CREATED:20250216T220513Z
LAST-MODIFIED:20251111T194722Z
UID:10000755-1774558800-1774564200@kingdomfire.us
SUMMARY:Kingdom Fire Equipping and Discipleship  | |   FREE Bible Study & Community Group   ||  Online via ZOOM
DESCRIPTION:Kingdom Fire Equipping and Discipleship\n\n EVERY THURSDAY @ 9:00PM (ETZ) \n\nYour host\, Justin Fahrenbruch – Kingdom Fire Ministries – is inviting you to an On-Line\, Interactive\, LIVE (Non-Public)\, Discipleship/Bible Study Group.\n\nThis is not be your ordinary “Bible Study” group.  The instruction I have received of the LORD is to expand His Kingdom by raising up Warrior-Disciples.  In this Study Group you will be stretched\, built up and encouraged to go deeper in your walk with Christ.  Divine Connections will be bridged and building relationships that work together for Kingdom Advancement on earth as it is in Heaven.\n\nThere is 30-45 minutes of teaching on various topics by Justin Fahrenbrcuh\nAfter the teaching\, there is another 45 minutes of “Community Time”\n\n Question and Answer\n Sharing what’s on your heart\n Praying and Encouraging one another\n\n** All of the teaching sessions are being recorded and uploaded to our website **\n\n\nReplay Access to this Teaching Series and ALL other teaching series are available for FREE as a special gift to monthly partners with our ministry.\n www.kingdomfire.us/partners-classes \n\n\n*** YOU MUST REGISTER IN ORDER TO RECEIVE THE ACCESS LINK TO THE ZOOM STUDIES ***\n** THE SAME LINK IS USED EVERY WEEK\, SO SAVE THE LINK **\n\n REGISTER HERE: https://us02web.zoom.us/meeting/register/tZ0tce2hqjwsHNyJ3hGAIeeamVbyvbQW22QF \n\n\nSEE YOU THIS THURSDAY @ 9PM!
URL:https://kingdomfire.us/event/kingdom-foundations-identity-in-christ-online-bible-study-2-2/2026-03-26/
LOCATION:ZOOM VIRTUAL ONLINE CLASSROOM
CATEGORIES:Equipping Class,Kingdom Equipping
ATTACH;FMTTYPE=image/jpeg:https://kingdomfire.us/wp-content/uploads/2024/04/Online-bible-study-classes-flyer-scaled.jpg
ORGANIZER;CN="Justin Fahrenbruch":MAILTO:Admin@Kingdomfire.us
END:VEVENT
END:VCALENDAR