BEGIN:VCALENDAR
VERSION:2.0
PRODID:-//Kingdom Fire - ECPv6.15.20//NONSGML v1.0//EN
CALSCALE:GREGORIAN
METHOD:PUBLISH
X-ORIGINAL-URL:https://kingdomfire.us
X-WR-CALDESC:Events for Kingdom Fire
REFRESH-INTERVAL;VALUE=DURATION:PT1H
X-Robots-Tag:noindex
X-PUBLISHED-TTL:PT1H
BEGIN:VTIMEZONE
TZID:UTC
BEGIN:STANDARD
TZOFFSETFROM:+0000
TZOFFSETTO:+0000
TZNAME:UTC
DTSTART:20250101T000000
END:STANDARD
END:VTIMEZONE
BEGIN:VEVENT
DTSTART;TZID=UTC:20260203T183000
DTEND;TZID=UTC:20260203T203000
DTSTAMP:20260423T185501
CREATED:20260118T235033Z
LAST-MODIFIED:20260119T225557Z
UID:10001049-1770143400-1770150600@kingdomfire.us
SUMMARY:"Free Indeed" Recovery Meeting  |  Guest Speaker: Justin Fahrenbruch  |  Genesee County\, Michigan
DESCRIPTION:🔥 Special Region-Wide Recovery Gathering | Genesee County 🔥\nCenterpoint Church is hosting a powerful Free Indeed Recovery Night\, and you’re invited to be part of what God is doing in our region. \nThis Tuesday night\, people from across Genesee County are coming together for a night of worship\, testimony\, ministry\, and freedom. \nI’ll be sharing my personal story of deliverance and transformation\, ministering to those in the room\, and believing together for total freedom for the captives—because who the Son sets free is free indeed. \nFree Indeed is for anyone with hurts\, hang-ups\, or habits—and for leaders\, recovery homes\, and ministries who are passionate about seeing lives restored by the power of Jesus Christ. \n🕊 What to Expect:\n\n\nPowerful praise & worship \n\n\nReal testimonies of freedom \n\n\nGospel-centered ministry & prayer \n\n\nA welcoming environment for anyone seeking healing and restoration \n\n\n📍 Event Details:\nFree Indeed Recovery Meeting📅 Tuesday Night⏰ 6:30 – 8:30 PM📍 Centerpoint Church (formerly Faith Tabernacle)📌 1225 S. Center Rd.\, Burton\, MI \nWhether you are walking a recovery journey\, supporting someone who is\, or leading a recovery ministry in Genesee County—this night is for you. \n👉 Come hungry. Come expectant. Come believing for freedom.
URL:https://kingdomfire.us/event/free-indeed-recovery-meeting-guest-speaker-justin-fahrenbruch-genesee-county-michigan/
LOCATION:CenterPoint Church\, 1225 S. Center\, Burton\, MI\, 48509
CATEGORIES:Guest Speaker for Special Event
ATTACH;FMTTYPE=image/png:https://kingdomfire.us/wp-content/uploads/2026/01/ChatGPT-Image-Jan-19-2026-05_46_36-PM.png
END:VEVENT
BEGIN:VEVENT
DTSTART;TZID=UTC:20260205T210000
DTEND;TZID=UTC:20260205T223000
DTSTAMP:20260423T185501
CREATED:20250216T220513Z
LAST-MODIFIED:20251111T194722Z
UID:10000748-1770325200-1770330600@kingdomfire.us
SUMMARY:Kingdom Fire Equipping and Discipleship  | |   FREE Bible Study & Community Group   ||  Online via ZOOM
DESCRIPTION:Kingdom Fire Equipping and Discipleship\n\n EVERY THURSDAY @ 9:00PM (ETZ) \n\nYour host\, Justin Fahrenbruch – Kingdom Fire Ministries – is inviting you to an On-Line\, Interactive\, LIVE (Non-Public)\, Discipleship/Bible Study Group.\n\nThis is not be your ordinary “Bible Study” group.  The instruction I have received of the LORD is to expand His Kingdom by raising up Warrior-Disciples.  In this Study Group you will be stretched\, built up and encouraged to go deeper in your walk with Christ.  Divine Connections will be bridged and building relationships that work together for Kingdom Advancement on earth as it is in Heaven.\n\nThere is 30-45 minutes of teaching on various topics by Justin Fahrenbrcuh\nAfter the teaching\, there is another 45 minutes of “Community Time”\n\n Question and Answer\n Sharing what’s on your heart\n Praying and Encouraging one another\n\n** All of the teaching sessions are being recorded and uploaded to our website **\n\n\nReplay Access to this Teaching Series and ALL other teaching series are available for FREE as a special gift to monthly partners with our ministry.\n www.kingdomfire.us/partners-classes \n\n\n*** YOU MUST REGISTER IN ORDER TO RECEIVE THE ACCESS LINK TO THE ZOOM STUDIES ***\n** THE SAME LINK IS USED EVERY WEEK\, SO SAVE THE LINK **\n\n REGISTER HERE: https://us02web.zoom.us/meeting/register/tZ0tce2hqjwsHNyJ3hGAIeeamVbyvbQW22QF \n\n\nSEE YOU THIS THURSDAY @ 9PM!
URL:https://kingdomfire.us/event/kingdom-foundations-identity-in-christ-online-bible-study-2-2/2026-02-05/
LOCATION:ZOOM VIRTUAL ONLINE CLASSROOM
CATEGORIES:Equipping Class,Kingdom Equipping
ATTACH;FMTTYPE=image/jpeg:https://kingdomfire.us/wp-content/uploads/2024/04/Online-bible-study-classes-flyer-scaled.jpg
ORGANIZER;CN="Justin Fahrenbruch":MAILTO:Admin@Kingdomfire.us
END:VEVENT
BEGIN:VEVENT
DTSTART;TZID=UTC:20260212T210000
DTEND;TZID=UTC:20260212T223000
DTSTAMP:20260423T185501
CREATED:20250216T220513Z
LAST-MODIFIED:20251111T194722Z
UID:10000749-1770930000-1770935400@kingdomfire.us
SUMMARY:Kingdom Fire Equipping and Discipleship  | |   FREE Bible Study & Community Group   ||  Online via ZOOM
DESCRIPTION:Kingdom Fire Equipping and Discipleship\n\n EVERY THURSDAY @ 9:00PM (ETZ) \n\nYour host\, Justin Fahrenbruch – Kingdom Fire Ministries – is inviting you to an On-Line\, Interactive\, LIVE (Non-Public)\, Discipleship/Bible Study Group.\n\nThis is not be your ordinary “Bible Study” group.  The instruction I have received of the LORD is to expand His Kingdom by raising up Warrior-Disciples.  In this Study Group you will be stretched\, built up and encouraged to go deeper in your walk with Christ.  Divine Connections will be bridged and building relationships that work together for Kingdom Advancement on earth as it is in Heaven.\n\nThere is 30-45 minutes of teaching on various topics by Justin Fahrenbrcuh\nAfter the teaching\, there is another 45 minutes of “Community Time”\n\n Question and Answer\n Sharing what’s on your heart\n Praying and Encouraging one another\n\n** All of the teaching sessions are being recorded and uploaded to our website **\n\n\nReplay Access to this Teaching Series and ALL other teaching series are available for FREE as a special gift to monthly partners with our ministry.\n www.kingdomfire.us/partners-classes \n\n\n*** YOU MUST REGISTER IN ORDER TO RECEIVE THE ACCESS LINK TO THE ZOOM STUDIES ***\n** THE SAME LINK IS USED EVERY WEEK\, SO SAVE THE LINK **\n\n REGISTER HERE: https://us02web.zoom.us/meeting/register/tZ0tce2hqjwsHNyJ3hGAIeeamVbyvbQW22QF \n\n\nSEE YOU THIS THURSDAY @ 9PM!
URL:https://kingdomfire.us/event/kingdom-foundations-identity-in-christ-online-bible-study-2-2/2026-02-12/
LOCATION:ZOOM VIRTUAL ONLINE CLASSROOM
CATEGORIES:Equipping Class,Kingdom Equipping
ATTACH;FMTTYPE=image/jpeg:https://kingdomfire.us/wp-content/uploads/2024/04/Online-bible-study-classes-flyer-scaled.jpg
ORGANIZER;CN="Justin Fahrenbruch":MAILTO:Admin@Kingdomfire.us
END:VEVENT
BEGIN:VEVENT
DTSTART;TZID=UTC:20260215T090000
DTEND;TZID=UTC:20260215T130000
DTSTAMP:20260423T185501
CREATED:20250105T021600Z
LAST-MODIFIED:20260129T230613Z
UID:10000679-1771146000-1771160400@kingdomfire.us
SUMMARY:Guest Speaker for Church Service  |  Faith Christian Center  |  Chesterfield\, MI
DESCRIPTION:🔥🔥 CHESTERFIELD\, MICHIGAN 🔥🔥 \nIf you’re in Macomb County and don’t have a home church—or it’s been a while since you’ve been in church—we would love to invite you to join us at Faith Christian Center this Sunday\, February 15th! \n⏰ Service Times:9:00 AM & 11:00 AM \n🎤 Guest Speaker:Evangelist Justin Fahrenbruch \nAfter 14 years bound by addiction\, Justin experienced a radical and miraculous encounter with Jesus in 2018 that completely changed the trajectory of his life. In the middle of an ordinary day—and an unexpected parking lot—he surrendered his life to Christ and was instantly set free. Since that moment\, Justin has seen the dynamic power of God move not only in his own life\, but through him as he shares the hope\, freedom\, and transformation found in Jesus. \nJustin will be sharing his heart during both Sunday services\, and we believe this will be a powerful morning of encouragement\, hope\, and encounter. \n✨ Come as you are. Bring a friend. We’d love to see you there.
URL:https://kingdomfire.us/event/guest-speaker-for-church-service-faith-christian-center-chesterfield-mi-2/
LOCATION:Faith Christian Center\, 46000 Gratiot Ave.
CATEGORIES:Guest Speaker for Church Service
ATTACH;FMTTYPE=image/jpeg:https://kingdomfire.us/wp-content/uploads/2025/01/623698763_1652401205929404_1104761035705444389_n.jpg
END:VEVENT
BEGIN:VEVENT
DTSTART;TZID=UTC:20260216T150000
DTEND;TZID=UTC:20260216T180000
DTSTAMP:20260423T185501
CREATED:20260207T001706Z
LAST-MODIFIED:20260207T001706Z
UID:10001053-1771254000-1771264800@kingdomfire.us
SUMMARY:Evangelism Outreach  |  Pull Over Prayer |  Flint\, Michigan
DESCRIPTION:EVANGELISM OUTREACH | PULL OVER PRAYER \n FLINT\, MICHIGAN \n\n\n\nIt’s time to get outside the 4 walls and bring Jesus to the people!!\n\n\n\nRescue Mission Outreach\, Nellie’s Mac Shack\, Kingdom Fire Evangelism\,\n\n\nMultiple Ministries\, Multiple Churches\, Many People…\n\nONE COMMON DENOMINATOR = SOULS!\nIt’s a KINGDOM thing!\n\n\n\n Pull Over 4 Prayer \n Praise and Worship on the street \n Free Pulled-Pork for the Community\n Praying for our City \n Being the Light \n\n\n\n Location:\nThe Old Angelo’s Parking Lot\n1816 Davidson Rd.\nFlint\, MI 48506\n\n\n\n Monday\, February 16st\, 2025\n 3:00PM – 6:00PM\n\n\n\nCome on out and join us!\nALL ARE WELCOME\n\n\n\nHelp us get the word out! Invite your friends and Share this event to your social media page. See you there!!
URL:https://kingdomfire.us/event/evangelism-outreach-pull-over-prayer-flint-michigan-2/
LOCATION:The Old Angelos\, 1816 Davidson Rd.\, Flint\, MI\, 48506\, United States
CATEGORIES:Evangelism Outreach
ATTACH;FMTTYPE=image/jpeg:https://kingdomfire.us/wp-content/uploads/2026/02/church-flyer-template-3.jpg
END:VEVENT
BEGIN:VEVENT
DTSTART;TZID=UTC:20260219T210000
DTEND;TZID=UTC:20260219T223000
DTSTAMP:20260423T185501
CREATED:20250216T220513Z
LAST-MODIFIED:20251111T194722Z
UID:10000750-1771534800-1771540200@kingdomfire.us
SUMMARY:Kingdom Fire Equipping and Discipleship  | |   FREE Bible Study & Community Group   ||  Online via ZOOM
DESCRIPTION:Kingdom Fire Equipping and Discipleship\n\n EVERY THURSDAY @ 9:00PM (ETZ) \n\nYour host\, Justin Fahrenbruch – Kingdom Fire Ministries – is inviting you to an On-Line\, Interactive\, LIVE (Non-Public)\, Discipleship/Bible Study Group.\n\nThis is not be your ordinary “Bible Study” group.  The instruction I have received of the LORD is to expand His Kingdom by raising up Warrior-Disciples.  In this Study Group you will be stretched\, built up and encouraged to go deeper in your walk with Christ.  Divine Connections will be bridged and building relationships that work together for Kingdom Advancement on earth as it is in Heaven.\n\nThere is 30-45 minutes of teaching on various topics by Justin Fahrenbrcuh\nAfter the teaching\, there is another 45 minutes of “Community Time”\n\n Question and Answer\n Sharing what’s on your heart\n Praying and Encouraging one another\n\n** All of the teaching sessions are being recorded and uploaded to our website **\n\n\nReplay Access to this Teaching Series and ALL other teaching series are available for FREE as a special gift to monthly partners with our ministry.\n www.kingdomfire.us/partners-classes \n\n\n*** YOU MUST REGISTER IN ORDER TO RECEIVE THE ACCESS LINK TO THE ZOOM STUDIES ***\n** THE SAME LINK IS USED EVERY WEEK\, SO SAVE THE LINK **\n\n REGISTER HERE: https://us02web.zoom.us/meeting/register/tZ0tce2hqjwsHNyJ3hGAIeeamVbyvbQW22QF \n\n\nSEE YOU THIS THURSDAY @ 9PM!
URL:https://kingdomfire.us/event/kingdom-foundations-identity-in-christ-online-bible-study-2-2/2026-02-19/
LOCATION:ZOOM VIRTUAL ONLINE CLASSROOM
CATEGORIES:Equipping Class,Kingdom Equipping
ATTACH;FMTTYPE=image/jpeg:https://kingdomfire.us/wp-content/uploads/2024/04/Online-bible-study-classes-flyer-scaled.jpg
ORGANIZER;CN="Justin Fahrenbruch":MAILTO:Admin@Kingdomfire.us
END:VEVENT
BEGIN:VEVENT
DTSTART;TZID=UTC:20260226T083000
DTEND;TZID=UTC:20260226T093000
DTSTAMP:20260423T185501
CREATED:20260207T004822Z
LAST-MODIFIED:20260207T004822Z
UID:10001057-1772094600-1772098200@kingdomfire.us
SUMMARY:Worship\, Word and Prayer at the Michigan State Capitol  |  Guest Speaker  |  Lansing\, Michigan
DESCRIPTION:Prayer\, Worship & Word at the Michigan State Capitol \nPresented by: \nThe Christian Prayer Caucus \n📅 Thursday\, February 26🕣 8:30 AM \n📍 Michigan State Capitol Building \n100 N. Capital Ave.  Lansing\, MI 48933 \nYou are invited to join us for a powerful morning gathering at the Michigan State Capitol\, focused on releasing God’s blessing\, wisdom\, and righteousness into the highest places of authority in our state. \nThis morning will include:\n• Worship• The Word• Corporate prayer \nGuest Speaker:Evangelist Justin Fahrenbruch \nWorship Led By:Cam & Morgan Powers \nW/ Special Guests:Joe FuseroJodi ReedMarty Bontrager \nWe are extending an open invitation to pastors\, ministry leaders\, and intercessors from the region to come stand together in unity—praying for our state\, our leaders\, and the direction of Michigan. \nThis is a moment to honor God publicly\, align heaven with earth\, and speak blessing over those entrusted with authority.
URL:https://kingdomfire.us/event/worship-word-and-prayer-at-the-michigan-state-capitol-guest-speaker-lansing-michigan/
LOCATION:Michigan State Capital Building\, 100 N. Capital Ave.\, Lansing\, Michigan\, 48933
CATEGORIES:Guest Speaker for Special Event
ATTACH;FMTTYPE=image/png:https://kingdomfire.us/wp-content/uploads/2026/02/Dark-Blue-USA-Flag-Happy-National-Freedom-Day-Poster-4.png
END:VEVENT
BEGIN:VEVENT
DTSTART;TZID=UTC:20260226T210000
DTEND;TZID=UTC:20260226T223000
DTSTAMP:20260423T185501
CREATED:20250216T220513Z
LAST-MODIFIED:20251111T194722Z
UID:10000751-1772139600-1772145000@kingdomfire.us
SUMMARY:Kingdom Fire Equipping and Discipleship  | |   FREE Bible Study & Community Group   ||  Online via ZOOM
DESCRIPTION:Kingdom Fire Equipping and Discipleship\n\n EVERY THURSDAY @ 9:00PM (ETZ) \n\nYour host\, Justin Fahrenbruch – Kingdom Fire Ministries – is inviting you to an On-Line\, Interactive\, LIVE (Non-Public)\, Discipleship/Bible Study Group.\n\nThis is not be your ordinary “Bible Study” group.  The instruction I have received of the LORD is to expand His Kingdom by raising up Warrior-Disciples.  In this Study Group you will be stretched\, built up and encouraged to go deeper in your walk with Christ.  Divine Connections will be bridged and building relationships that work together for Kingdom Advancement on earth as it is in Heaven.\n\nThere is 30-45 minutes of teaching on various topics by Justin Fahrenbrcuh\nAfter the teaching\, there is another 45 minutes of “Community Time”\n\n Question and Answer\n Sharing what’s on your heart\n Praying and Encouraging one another\n\n** All of the teaching sessions are being recorded and uploaded to our website **\n\n\nReplay Access to this Teaching Series and ALL other teaching series are available for FREE as a special gift to monthly partners with our ministry.\n www.kingdomfire.us/partners-classes \n\n\n*** YOU MUST REGISTER IN ORDER TO RECEIVE THE ACCESS LINK TO THE ZOOM STUDIES ***\n** THE SAME LINK IS USED EVERY WEEK\, SO SAVE THE LINK **\n\n REGISTER HERE: https://us02web.zoom.us/meeting/register/tZ0tce2hqjwsHNyJ3hGAIeeamVbyvbQW22QF \n\n\nSEE YOU THIS THURSDAY @ 9PM!
URL:https://kingdomfire.us/event/kingdom-foundations-identity-in-christ-online-bible-study-2-2/2026-02-26/
LOCATION:ZOOM VIRTUAL ONLINE CLASSROOM
CATEGORIES:Equipping Class,Kingdom Equipping
ATTACH;FMTTYPE=image/jpeg:https://kingdomfire.us/wp-content/uploads/2024/04/Online-bible-study-classes-flyer-scaled.jpg
ORGANIZER;CN="Justin Fahrenbruch":MAILTO:Admin@Kingdomfire.us
END:VEVENT
BEGIN:VEVENT
DTSTART;TZID=UTC:20260227T183000
DTEND;TZID=UTC:20260227T213000
DTSTAMP:20260423T185501
CREATED:20260207T002950Z
LAST-MODIFIED:20260210T215500Z
UID:10001054-1772217000-1772227800@kingdomfire.us
SUMMARY:Port Huron\, Michigan |  Friday Evening Impartation Service  |  PHAOG
DESCRIPTION:LET’S GO — PORT HURON\, MICHIGAN! \n\n\n\nI’m honored to be with Port Huron Assembly of God for a powerful 3-Day Revival Weekend — and you’re invited!\n\n\n\n Location:\nPort Huron Assembly of God\n835 River St.\nPott Huron\, Michigan 48060\n\n\n\n February 27 – March 1\n\n\n Weekend Schedule:\n\nFriday | 6:30 PM\n Impartation Service — Worship\, Word\, Kingdom Encounter\n\n\nFRIDAY NIGHT – IMPARTATION SERVICE 🔥 \nThis Friday evening we’re gathering hungry hearts\, burning ones\, and rising evangelists for a powerful Impartation Service. \nThis is more than a service—it’s a moment of activation\, commissioning\, and fresh fire. \nIf you’re called to:\n• Preach the Gospel• Lay hands on the sick• Carry revival into the streets• Walk in boldness\, identity\, and power \nThis night is for YOU. \nCome expect:\n🔥 Fresh fire from the Holy Spirit🔥 Impartation & activation🔥 Prophetic prayer & commissioning🔥 A stirring to GO and preach Jesus \nBring your hunger. Leave empowered. \n\n\n\n\n\nSaturday | 10:00AM\n Evangelism Equipping\, Holy Spirit Activations & Outreach\n(Be equipped\, activated\, and sent!)\n\n\n\nSaturday | 6:30PM\n Revival Service — Worship\, Word\, Kingdom Encounter\n\n\n\nSunday Morning | 10:30AM\n Sunday Church Service — I’ll be sharing during the morning service\n\n\n\nThis weekend is all about encountering Jesus\, being empowered by the Holy Spirit\, and living out the Gospel boldly. Whether you’re hungry for revival\, want to grow in evangelism\, or just need a fresh touch from God — this weekend is for you.\n\n\n\n Bring a friend. Come expectant. Let’s see heaven invade earth.\n\n\n Port Huron — God is moving!
URL:https://kingdomfire.us/event/port-huron-michigan-friday-evening-impartation-service-phaog/
LOCATION:Port Huron Assembly of God\, 835 River St.\, Port Huron\, MI\, 48060\, United States
CATEGORIES:Church Event,Evangelism Equipping,Evangelism Outreach,Guest Speaker for Special Event
ATTACH;FMTTYPE=image/png:https://kingdomfire.us/wp-content/uploads/2026/02/Black-White-and-Orange-Simple-Modern-Church-Service-Instagram-Post-7.png
END:VEVENT
BEGIN:VEVENT
DTSTART;TZID=UTC:20260228T100000
DTEND;TZID=UTC:20260228T210000
DTSTAMP:20260423T185501
CREATED:20260207T003541Z
LAST-MODIFIED:20260210T215326Z
UID:10001055-1772272800-1772312400@kingdomfire.us
SUMMARY:Port Huron\, Michigan |  Saturday Evangelism Equipping\, Outreach & Evening Revival  |  PHAOG
DESCRIPTION:LET’S GO — PORT HURON\, MICHIGAN! \n\n\n\nI’m honored to be with Port Huron Assembly of God for a powerful 3-Day Revival Weekend — and you’re invited!\n\n\n\n Location:\nPort Huron Assembly of God\n835 River St.\nPott Huron\, Michigan 48060\n\n\n\n February 27 – March 1\n\n\n Weekend Schedule:\n\nFriday | 6:300 PM\n Impartation Service — Worship\, Word\, Kingdom Encounter\n\n\n\n\n\n\n\nSaturday | 10:00AM\n Evangelism Equipping\, Holy Spirit Activations & Outreach\n(Be equipped\, activated\, and sent!)\n\n\n\nSaturday | 6:30PM\n Revival Service — Worship\, Word\, Kingdom Encounter\n\n\nSATURDAY | EVANGELISM EQUIPPING & REVIVAL \nSaturday is where commissioning turns into action. \nAfter Friday night’s impartation\, we’re gathering again for hands-on Evangelism Equipping—designed to train and activate believers to confidently share Jesus in everyday life. \nThis is not classroom-only teaching.This is Spirit-led\, hands-on activation. \nSaturday Morning / Afternoon – Evangelism Equipping\n• Practical\, Spirit-led workshops• Learning how to hear the Holy Spirit• Sharing the Gospel naturally• Stepping out in boldness• Real-time activation \n➡️ Then we GO.We will head into the marketplace together to share Jesus—side by side—putting into practice what was taught. \nSaturday Evening – REVIVAL SERVICE | 6:30 PM\nWe’ll gather again for a powerful Revival Service\, celebrating what God did during outreach and creating space for:\n🔥 Salvation🔥 Healing🔥 Deliverance🔥 Fresh fire \nCome for training.Stay for revival.Leave transformed. \n\n\n\nSunday Morning | 10:30AM\n Sunday Church Service — I’ll be sharing during the morning service\n\n\n\nThis weekend is all about encountering Jesus\, being empowered by the Holy Spirit\, and living out the Gospel boldly. Whether you’re hungry for revival\, want to grow in evangelism\, or just need a fresh touch from God — this weekend is for you.\n\n\n\n Bring a friend. Come expectant. Let’s see heaven invade earth.\n\n\n Port Huron — God is moving!
URL:https://kingdomfire.us/event/saturday-evangelism-equipping-and-revival-port-huron-michigan/
LOCATION:Port Huron Assembly of God\, 835 River St.\, Port Huron\, MI\, 48060\, United States
CATEGORIES:Church Event,Evangelism Equipping,Evangelism Outreach,Guest Speaker for Special Event,Revival Services
ATTACH;FMTTYPE=image/png:https://kingdomfire.us/wp-content/uploads/2026/02/Black-White-and-Orange-Simple-Modern-Church-Service-Instagram-Post-7.png
END:VEVENT
END:VCALENDAR