BEGIN:VCALENDAR
VERSION:2.0
PRODID:-//Kingdom Fire - ECPv6.15.20//NONSGML v1.0//EN
CALSCALE:GREGORIAN
METHOD:PUBLISH
X-WR-CALNAME:Kingdom Fire
X-ORIGINAL-URL:https://kingdomfire.us
X-WR-CALDESC:Events for Kingdom Fire
REFRESH-INTERVAL;VALUE=DURATION:PT1H
X-Robots-Tag:noindex
X-PUBLISHED-TTL:PT1H
BEGIN:VTIMEZONE
TZID:UTC
BEGIN:STANDARD
TZOFFSETFROM:+0000
TZOFFSETTO:+0000
TZNAME:UTC
DTSTART:20240101T000000
END:STANDARD
END:VTIMEZONE
BEGIN:VEVENT
DTSTART;TZID=UTC:20251204T210000
DTEND;TZID=UTC:20251204T223000
DTSTAMP:20260423T230244
CREATED:20250216T220513Z
LAST-MODIFIED:20251111T194722Z
UID:10000740-1764882000-1764887400@kingdomfire.us
SUMMARY:Kingdom Fire Equipping and Discipleship  | |   FREE Bible Study & Community Group   ||  Online via ZOOM
DESCRIPTION:Kingdom Fire Equipping and Discipleship\n\n EVERY THURSDAY @ 9:00PM (ETZ) \n\nYour host\, Justin Fahrenbruch – Kingdom Fire Ministries – is inviting you to an On-Line\, Interactive\, LIVE (Non-Public)\, Discipleship/Bible Study Group.\n\nThis is not be your ordinary “Bible Study” group.  The instruction I have received of the LORD is to expand His Kingdom by raising up Warrior-Disciples.  In this Study Group you will be stretched\, built up and encouraged to go deeper in your walk with Christ.  Divine Connections will be bridged and building relationships that work together for Kingdom Advancement on earth as it is in Heaven.\n\nThere is 30-45 minutes of teaching on various topics by Justin Fahrenbrcuh\nAfter the teaching\, there is another 45 minutes of “Community Time”\n\n Question and Answer\n Sharing what’s on your heart\n Praying and Encouraging one another\n\n** All of the teaching sessions are being recorded and uploaded to our website **\n\n\nReplay Access to this Teaching Series and ALL other teaching series are available for FREE as a special gift to monthly partners with our ministry.\n www.kingdomfire.us/partners-classes \n\n\n*** YOU MUST REGISTER IN ORDER TO RECEIVE THE ACCESS LINK TO THE ZOOM STUDIES ***\n** THE SAME LINK IS USED EVERY WEEK\, SO SAVE THE LINK **\n\n REGISTER HERE: https://us02web.zoom.us/meeting/register/tZ0tce2hqjwsHNyJ3hGAIeeamVbyvbQW22QF \n\n\nSEE YOU THIS THURSDAY @ 9PM!
URL:https://kingdomfire.us/event/kingdom-foundations-identity-in-christ-online-bible-study-2-2/2025-12-04/
LOCATION:ZOOM VIRTUAL ONLINE CLASSROOM
CATEGORIES:Equipping Class,Kingdom Equipping
ATTACH;FMTTYPE=image/jpeg:https://kingdomfire.us/wp-content/uploads/2024/04/Online-bible-study-classes-flyer-scaled.jpg
ORGANIZER;CN="Justin Fahrenbruch":MAILTO:Admin@Kingdomfire.us
END:VEVENT
BEGIN:VEVENT
DTSTART;TZID=UTC:20251211T210000
DTEND;TZID=UTC:20251211T223000
DTSTAMP:20260423T230244
CREATED:20250216T220513Z
LAST-MODIFIED:20251111T194722Z
UID:10000741-1765486800-1765492200@kingdomfire.us
SUMMARY:Kingdom Fire Equipping and Discipleship  | |   FREE Bible Study & Community Group   ||  Online via ZOOM
DESCRIPTION:Kingdom Fire Equipping and Discipleship\n\n EVERY THURSDAY @ 9:00PM (ETZ) \n\nYour host\, Justin Fahrenbruch – Kingdom Fire Ministries – is inviting you to an On-Line\, Interactive\, LIVE (Non-Public)\, Discipleship/Bible Study Group.\n\nThis is not be your ordinary “Bible Study” group.  The instruction I have received of the LORD is to expand His Kingdom by raising up Warrior-Disciples.  In this Study Group you will be stretched\, built up and encouraged to go deeper in your walk with Christ.  Divine Connections will be bridged and building relationships that work together for Kingdom Advancement on earth as it is in Heaven.\n\nThere is 30-45 minutes of teaching on various topics by Justin Fahrenbrcuh\nAfter the teaching\, there is another 45 minutes of “Community Time”\n\n Question and Answer\n Sharing what’s on your heart\n Praying and Encouraging one another\n\n** All of the teaching sessions are being recorded and uploaded to our website **\n\n\nReplay Access to this Teaching Series and ALL other teaching series are available for FREE as a special gift to monthly partners with our ministry.\n www.kingdomfire.us/partners-classes \n\n\n*** YOU MUST REGISTER IN ORDER TO RECEIVE THE ACCESS LINK TO THE ZOOM STUDIES ***\n** THE SAME LINK IS USED EVERY WEEK\, SO SAVE THE LINK **\n\n REGISTER HERE: https://us02web.zoom.us/meeting/register/tZ0tce2hqjwsHNyJ3hGAIeeamVbyvbQW22QF \n\n\nSEE YOU THIS THURSDAY @ 9PM!
URL:https://kingdomfire.us/event/kingdom-foundations-identity-in-christ-online-bible-study-2-2/2025-12-11/
LOCATION:ZOOM VIRTUAL ONLINE CLASSROOM
CATEGORIES:Equipping Class,Kingdom Equipping
ATTACH;FMTTYPE=image/jpeg:https://kingdomfire.us/wp-content/uploads/2024/04/Online-bible-study-classes-flyer-scaled.jpg
ORGANIZER;CN="Justin Fahrenbruch":MAILTO:Admin@Kingdomfire.us
END:VEVENT
BEGIN:VEVENT
DTSTART;TZID=UTC:20251213T120000
DTEND;TZID=UTC:20251213T140000
DTSTAMP:20260423T230244
CREATED:20251006T162626Z
LAST-MODIFIED:20251111T181621Z
UID:10001011-1765627200-1765634400@kingdomfire.us
SUMMARY:"Heart of Saginaw"'s Annual Christmas Party | Guest Speaker: Justin Fahrenbruch | Saginaw\, MI
DESCRIPTION:SAGINAW\, MICHIGAN \nDecember 13th\, 2025 12pm-2pm\n\n\n\n730 S. 14th St. Saginaw\, Michigan\n\n\n\nOur good friends at Heart of Saginaw host an annual Christmas Party every year.\n\n\n\n Massive Give-a-Ways\n Live Worship\n Sharing Testimonies\n Preaching the Gospel\n Free Food\n\n\n\nI’ll be there sharing my testimony and giving everyone an opportunity to receive the love of Christ. \n\n\n\nIf you know someone in need – please invite! Last year\, there were bikes\, big screen televisions\, tons of toys\, clothing\, coats\, hats\, gloves\, furniture… ALL types of items for FREE!\n\n\n\nBelieving for many souls to come into the Kingdom \n\n\n\n“For God so loved the world that he gave his one and only Son\, that whoever believes in him shall not perish but have eternal life.”\n— John 3:16
URL:https://kingdomfire.us/event/heart-of-saginaws-annual-christmas-party-guest-speaker-justin-fahrenbruch-saginaw-mi-2/
LOCATION:Heart of Saginaw\, 714 S. 14th St.\, Saginaw\, MI\, 48601\, United States
CATEGORIES:Evangelism Outreach
ATTACH;FMTTYPE=image/jpeg:https://kingdomfire.us/wp-content/uploads/2025/10/download.jpg
END:VEVENT
BEGIN:VEVENT
DTSTART;TZID=UTC:20251213T183000
DTEND;TZID=UTC:20251213T203000
DTSTAMP:20260423T230244
CREATED:20251111T184645Z
LAST-MODIFIED:20251111T184645Z
UID:10001015-1765650600-1765657800@kingdomfire.us
SUMMARY:Guest Speaker for Men\, Meat\, the Messiah |  Pigeon\, Michigan  |  Laker Legacy Center
DESCRIPTION:PIGEON\, MICHIGAN \n\n\n\n\nAll men are invited to this Men’s 5th annual event held at the Laker Legacy Center.  Justin Fahrenbruch\, of Kingdom Fire Ministry will be the speaker.\n“Justin Fahrenbruch is the founder of Kingdom Fire Ministries and a passionate missionary\, evangelist committed to advancing the Gospel through power evangelism\, local church partnership\, and regional revival initiatives.\nOnce bound by addiction for 14 years\, he encountered Jesus and was radically set free.  Today\, Justin travels equipping believers\, preaching the Gospel with power\, and seeing lives transformed by the Holy Spirit.  He is passionate about awakening souls and reaching the lost with the love of Jesus.\nJustin\, his wife Candace\, and their three children serve communities across the nation through tent crusades\, community outreaches\, ministry training\, and church partnerships.”\nDoors open at 6 pm.  Invite a friend!\n\n\n\n\nJustin will be sharing his testimony and heart at this event.\n\n\nYou won’t want to miss this POWERFUL service!\n\nCome expecting and receive your blessing from the Lord!\n\n\n\n Altar Ministry \n Preaching the Kingdom \n Holy Spirit Baptisms \n Fresh Fire \n\n\n\nHallelujah – He’s Alive!!\n\n\nIt’s time to change the world!\nLet’s Go!!\n\n\n\n“…He will baptize you with the Holy Spirit and fire.”\nMatthew 3:11\n\n\n\n“But you shall receive power when the Holy Spirit has come upon you; and you shall be witnesses to Me in Jerusalem\, and in all Judea and Samaria\, and to the end of the earth.”\nActs 1:8
URL:https://kingdomfire.us/event/guest-speaker-for-men-meat-the-messiah-pigeon-michigan/
LOCATION:Laker Legacy Center\, 6136 Pigeon Rd\, Pigeon\, 48755\, United States
CATEGORIES:Guest Speaker for Special Event,Special Event
ATTACH;FMTTYPE=image/png:https://kingdomfire.us/wp-content/uploads/2025/11/202510210059ec8c298a44a1b2799cc5bf8e4a8c.png
END:VEVENT
BEGIN:VEVENT
DTSTART;TZID=UTC:20251218T210000
DTEND;TZID=UTC:20251218T223000
DTSTAMP:20260423T230244
CREATED:20250216T220513Z
LAST-MODIFIED:20251111T194722Z
UID:10000742-1766091600-1766097000@kingdomfire.us
SUMMARY:Kingdom Fire Equipping and Discipleship  | |   FREE Bible Study & Community Group   ||  Online via ZOOM
DESCRIPTION:Kingdom Fire Equipping and Discipleship\n\n EVERY THURSDAY @ 9:00PM (ETZ) \n\nYour host\, Justin Fahrenbruch – Kingdom Fire Ministries – is inviting you to an On-Line\, Interactive\, LIVE (Non-Public)\, Discipleship/Bible Study Group.\n\nThis is not be your ordinary “Bible Study” group.  The instruction I have received of the LORD is to expand His Kingdom by raising up Warrior-Disciples.  In this Study Group you will be stretched\, built up and encouraged to go deeper in your walk with Christ.  Divine Connections will be bridged and building relationships that work together for Kingdom Advancement on earth as it is in Heaven.\n\nThere is 30-45 minutes of teaching on various topics by Justin Fahrenbrcuh\nAfter the teaching\, there is another 45 minutes of “Community Time”\n\n Question and Answer\n Sharing what’s on your heart\n Praying and Encouraging one another\n\n** All of the teaching sessions are being recorded and uploaded to our website **\n\n\nReplay Access to this Teaching Series and ALL other teaching series are available for FREE as a special gift to monthly partners with our ministry.\n www.kingdomfire.us/partners-classes \n\n\n*** YOU MUST REGISTER IN ORDER TO RECEIVE THE ACCESS LINK TO THE ZOOM STUDIES ***\n** THE SAME LINK IS USED EVERY WEEK\, SO SAVE THE LINK **\n\n REGISTER HERE: https://us02web.zoom.us/meeting/register/tZ0tce2hqjwsHNyJ3hGAIeeamVbyvbQW22QF \n\n\nSEE YOU THIS THURSDAY @ 9PM!
URL:https://kingdomfire.us/event/kingdom-foundations-identity-in-christ-online-bible-study-2-2/2025-12-18/
LOCATION:ZOOM VIRTUAL ONLINE CLASSROOM
CATEGORIES:Equipping Class,Kingdom Equipping
ATTACH;FMTTYPE=image/jpeg:https://kingdomfire.us/wp-content/uploads/2024/04/Online-bible-study-classes-flyer-scaled.jpg
ORGANIZER;CN="Justin Fahrenbruch":MAILTO:Admin@Kingdomfire.us
END:VEVENT
END:VCALENDAR