BEGIN:VCALENDAR
VERSION:2.0
PRODID:-//Kingdom Fire - ECPv6.15.20//NONSGML v1.0//EN
CALSCALE:GREGORIAN
METHOD:PUBLISH
X-WR-CALNAME:Kingdom Fire
X-ORIGINAL-URL:https://kingdomfire.us
X-WR-CALDESC:Events for Kingdom Fire
REFRESH-INTERVAL;VALUE=DURATION:PT1H
X-Robots-Tag:noindex
X-PUBLISHED-TTL:PT1H
BEGIN:VTIMEZONE
TZID:UTC
BEGIN:STANDARD
TZOFFSETFROM:+0000
TZOFFSETTO:+0000
TZNAME:UTC
DTSTART:20240101T000000
END:STANDARD
END:VTIMEZONE
BEGIN:VEVENT
DTSTART;TZID=UTC:20251002T210000
DTEND;TZID=UTC:20251002T223000
DTSTAMP:20260424T014511
CREATED:20250216T220513Z
LAST-MODIFIED:20251111T194722Z
UID:10000732-1759438800-1759444200@kingdomfire.us
SUMMARY:Kingdom Fire Equipping and Discipleship  | |   FREE Bible Study & Community Group   ||  Online via ZOOM
DESCRIPTION:Kingdom Fire Equipping and Discipleship\n\n EVERY THURSDAY @ 9:00PM (ETZ) \n\nYour host\, Justin Fahrenbruch – Kingdom Fire Ministries – is inviting you to an On-Line\, Interactive\, LIVE (Non-Public)\, Discipleship/Bible Study Group.\n\nThis is not be your ordinary “Bible Study” group.  The instruction I have received of the LORD is to expand His Kingdom by raising up Warrior-Disciples.  In this Study Group you will be stretched\, built up and encouraged to go deeper in your walk with Christ.  Divine Connections will be bridged and building relationships that work together for Kingdom Advancement on earth as it is in Heaven.\n\nThere is 30-45 minutes of teaching on various topics by Justin Fahrenbrcuh\nAfter the teaching\, there is another 45 minutes of “Community Time”\n\n Question and Answer\n Sharing what’s on your heart\n Praying and Encouraging one another\n\n** All of the teaching sessions are being recorded and uploaded to our website **\n\n\nReplay Access to this Teaching Series and ALL other teaching series are available for FREE as a special gift to monthly partners with our ministry.\n www.kingdomfire.us/partners-classes \n\n\n*** YOU MUST REGISTER IN ORDER TO RECEIVE THE ACCESS LINK TO THE ZOOM STUDIES ***\n** THE SAME LINK IS USED EVERY WEEK\, SO SAVE THE LINK **\n\n REGISTER HERE: https://us02web.zoom.us/meeting/register/tZ0tce2hqjwsHNyJ3hGAIeeamVbyvbQW22QF \n\n\nSEE YOU THIS THURSDAY @ 9PM!
URL:https://kingdomfire.us/event/kingdom-foundations-identity-in-christ-online-bible-study-2-2/2025-10-02/
LOCATION:ZOOM VIRTUAL ONLINE CLASSROOM
CATEGORIES:Equipping Class,Kingdom Equipping
ATTACH;FMTTYPE=image/jpeg:https://kingdomfire.us/wp-content/uploads/2024/04/Online-bible-study-classes-flyer-scaled.jpg
ORGANIZER;CN="Justin Fahrenbruch":MAILTO:Admin@Kingdomfire.us
END:VEVENT
BEGIN:VEVENT
DTSTART;TZID=UTC:20251009T210000
DTEND;TZID=UTC:20251009T223000
DTSTAMP:20260424T014511
CREATED:20250216T220513Z
LAST-MODIFIED:20251111T194722Z
UID:10000733-1760043600-1760049000@kingdomfire.us
SUMMARY:Kingdom Fire Equipping and Discipleship  | |   FREE Bible Study & Community Group   ||  Online via ZOOM
DESCRIPTION:Kingdom Fire Equipping and Discipleship\n\n EVERY THURSDAY @ 9:00PM (ETZ) \n\nYour host\, Justin Fahrenbruch – Kingdom Fire Ministries – is inviting you to an On-Line\, Interactive\, LIVE (Non-Public)\, Discipleship/Bible Study Group.\n\nThis is not be your ordinary “Bible Study” group.  The instruction I have received of the LORD is to expand His Kingdom by raising up Warrior-Disciples.  In this Study Group you will be stretched\, built up and encouraged to go deeper in your walk with Christ.  Divine Connections will be bridged and building relationships that work together for Kingdom Advancement on earth as it is in Heaven.\n\nThere is 30-45 minutes of teaching on various topics by Justin Fahrenbrcuh\nAfter the teaching\, there is another 45 minutes of “Community Time”\n\n Question and Answer\n Sharing what’s on your heart\n Praying and Encouraging one another\n\n** All of the teaching sessions are being recorded and uploaded to our website **\n\n\nReplay Access to this Teaching Series and ALL other teaching series are available for FREE as a special gift to monthly partners with our ministry.\n www.kingdomfire.us/partners-classes \n\n\n*** YOU MUST REGISTER IN ORDER TO RECEIVE THE ACCESS LINK TO THE ZOOM STUDIES ***\n** THE SAME LINK IS USED EVERY WEEK\, SO SAVE THE LINK **\n\n REGISTER HERE: https://us02web.zoom.us/meeting/register/tZ0tce2hqjwsHNyJ3hGAIeeamVbyvbQW22QF \n\n\nSEE YOU THIS THURSDAY @ 9PM!
URL:https://kingdomfire.us/event/kingdom-foundations-identity-in-christ-online-bible-study-2-2/2025-10-09/
LOCATION:ZOOM VIRTUAL ONLINE CLASSROOM
CATEGORIES:Equipping Class,Kingdom Equipping
ATTACH;FMTTYPE=image/jpeg:https://kingdomfire.us/wp-content/uploads/2024/04/Online-bible-study-classes-flyer-scaled.jpg
ORGANIZER;CN="Justin Fahrenbruch":MAILTO:Admin@Kingdomfire.us
END:VEVENT
BEGIN:VEVENT
DTSTART;TZID=UTC:20251016T210000
DTEND;TZID=UTC:20251016T223000
DTSTAMP:20260424T014511
CREATED:20250216T220513Z
LAST-MODIFIED:20251111T194722Z
UID:10000734-1760648400-1760653800@kingdomfire.us
SUMMARY:Kingdom Fire Equipping and Discipleship  | |   FREE Bible Study & Community Group   ||  Online via ZOOM
DESCRIPTION:Kingdom Fire Equipping and Discipleship\n\n EVERY THURSDAY @ 9:00PM (ETZ) \n\nYour host\, Justin Fahrenbruch – Kingdom Fire Ministries – is inviting you to an On-Line\, Interactive\, LIVE (Non-Public)\, Discipleship/Bible Study Group.\n\nThis is not be your ordinary “Bible Study” group.  The instruction I have received of the LORD is to expand His Kingdom by raising up Warrior-Disciples.  In this Study Group you will be stretched\, built up and encouraged to go deeper in your walk with Christ.  Divine Connections will be bridged and building relationships that work together for Kingdom Advancement on earth as it is in Heaven.\n\nThere is 30-45 minutes of teaching on various topics by Justin Fahrenbrcuh\nAfter the teaching\, there is another 45 minutes of “Community Time”\n\n Question and Answer\n Sharing what’s on your heart\n Praying and Encouraging one another\n\n** All of the teaching sessions are being recorded and uploaded to our website **\n\n\nReplay Access to this Teaching Series and ALL other teaching series are available for FREE as a special gift to monthly partners with our ministry.\n www.kingdomfire.us/partners-classes \n\n\n*** YOU MUST REGISTER IN ORDER TO RECEIVE THE ACCESS LINK TO THE ZOOM STUDIES ***\n** THE SAME LINK IS USED EVERY WEEK\, SO SAVE THE LINK **\n\n REGISTER HERE: https://us02web.zoom.us/meeting/register/tZ0tce2hqjwsHNyJ3hGAIeeamVbyvbQW22QF \n\n\nSEE YOU THIS THURSDAY @ 9PM!
URL:https://kingdomfire.us/event/kingdom-foundations-identity-in-christ-online-bible-study-2-2/2025-10-16/
LOCATION:ZOOM VIRTUAL ONLINE CLASSROOM
CATEGORIES:Equipping Class,Kingdom Equipping
ATTACH;FMTTYPE=image/jpeg:https://kingdomfire.us/wp-content/uploads/2024/04/Online-bible-study-classes-flyer-scaled.jpg
ORGANIZER;CN="Justin Fahrenbruch":MAILTO:Admin@Kingdomfire.us
END:VEVENT
BEGIN:VEVENT
DTSTART;TZID=UTC:20251017T090000
DTEND;TZID=UTC:20251017T150000
DTSTAMP:20260424T014511
CREATED:20251006T163843Z
LAST-MODIFIED:20251008T183513Z
UID:10001012-1760691600-1760713200@kingdomfire.us
SUMMARY:"Time to Lead" | Special Speaker | New Life Church | Attica\, MI
DESCRIPTION:ATTICA\, MICHIGAN \n\n\n\nMark your calendars! You won’t want to miss this!!\n Friday\, October 17th  \n\n\n\n SPECIAL SPEAKER – 9:00AM-3:00PM \n\n\n\n“Time to Lead” is an exciting and vital initiative designed to empower pastors\, faith leaders\, and grassroots activists across Michigan.\n\n\n\n**Justin was a drug addict for 14 years of his life. In 2018 he was radically and miraculously set free when a chain of events lead to an encounter with Jesus Christ in the middle of a parking lot. Since the surrender of his life\, Justin has seen the miraculous power of The Holy Spirit move mightily through his life and many others around him.**\n\n\n✔ NETWORKING\n🎁 LEADERSHIP TRAINING\n💥 TEAM BUILDING\nALL FOR KINGDOM IMPACT!!!\n\n\n\nCome expecting to be filled up!!\n\nLet’s Go!
URL:https://kingdomfire.us/event/time-to-lead-special-speaker-new-life-church-attica-mi/
LOCATION:New Life Church\, 4411 Newark Rd.\, Attica\, MI\, 48412\, United States
CATEGORIES:Guest Speaker at Conference,Guest Speaker for Special Event,Special Event
ATTACH;FMTTYPE=image/jpeg:https://kingdomfire.us/wp-content/uploads/2025/10/0201c9b8-c275-45e0-ac88-621c4382e57b.jpg
ORGANIZER;CN="Pastor Tim Martin":MAILTO:nlcc@newlifechristian.net
END:VEVENT
BEGIN:VEVENT
DTSTART;TZID=UTC:20251018T173000
DTEND;TZID=UTC:20251018T220000
DTSTAMP:20260424T014511
CREATED:20250321T201837Z
LAST-MODIFIED:20250502T214256Z
UID:10000964-1760808600-1760824800@kingdomfire.us
SUMMARY:"Fall In Love With Jesus" Revival Services  |  Wauseon\, Ohio  |  Guest Speakers:  Eli Yoder and Justin Fahrenbruch
DESCRIPTION:Guest speakers will be Eli Yoder from Waynesfield\, Ohio and\nJustin Fahrenbruch from the Detroit\, Michigan area. Both men\nand their families are on fire for the Lord…never ashamed to\nshare the Gospel of Christ! \nEli is an exAmish man and describes himself as “the Preaching\nTruck Driver!” He is the author of “UNDECEIVED” and travels the\ncountry preaching\, sharing his personal testimony\, and loving on\npeople! Together with his wife Nikki\, they’re building their\nministry and the Kingdom of Heaven! \nJustin is an evangelist\, founder of “Kingdom Fire Ministries\,” and\npublic speaker. He calls himself the “HOPE dealer” as he now\nshares the Love and Hope of JESUS rather than dealing and being\ninvolved in drug addiction. He and his wife Candace travel the\narea sharing God’s Glory!
URL:https://kingdomfire.us/event/fall-in-love-with-jesus-revival-services-wauseon-ohio-guest-speakers-eli-yoder-and-justin-fahrenbruch/
LOCATION:Special Grounds Event Hall\, St. Rt. 108\, Wauseon\, OH\, 43567\, United States
CATEGORIES:Revival Services
ATTACH;FMTTYPE=application/pdf:https://kingdomfire.us/wp-content/uploads/2025/03/Karen-Flory-Flyer.pdf
END:VEVENT
BEGIN:VEVENT
DTSTART;TZID=UTC:20251019T103000
DTEND;TZID=UTC:20251019T120000
DTSTAMP:20260424T014511
CREATED:20251011T125705Z
LAST-MODIFIED:20251015T185435Z
UID:10001013-1760869800-1760875200@kingdomfire.us
SUMMARY:Guest Speaker for Church Services  |  Utica\, OH  |  Grace Pointe Community Church
DESCRIPTION:UTICA\, OHIO \n\n\n\nIf you are from Utica\, OH area and do not have a Home Church or haven’t been to church in a while… we would LOVE to see you at Grace Pointe Community Church –  Sunday\, October 19th!!\n\n\n\n**Justin was a drug addict for 14 years of his life. In 2018 he was radically and miraculously set free when a chain of events lead to an encounter with Jesus Christ in the middle of a parking lot. Since the surrender of his life\, Justin has seen the miraculous power of The Holy Spirit move mightily through his life and many others around him.**\n\n\n\nJustin will be sharing his testimony and heart at church.\n\n\nYou won’t want to miss this POWERFUL service!\n\nCome expecting and receive your blessing from the Lord!\n\n\n\n Altar Ministry \n Preaching the Kingdom \n Holy Spirit Baptisms \n Fresh Fire \n\n\n\nHallelujah – He’s Alive!!\n\n\nIt’s time to change the world!\nLet’s Go!!\n\n\n\n“…He will baptize you with the Holy Spirit and fire.”\nMatthew 3:11\n\n\n\n“But you shall receive power when the Holy Spirit has come upon you; and you shall be witnesses to Me in Jerusalem\, and in all Judea and Samaria\, and to the end of the earth.”\nActs 1:8
URL:https://kingdomfire.us/event/guest-speaker-for-church-services-utica-oh-grace-pointe-community-church/
LOCATION:Grace Pointe Community Church\, 892 E. Columbus Rd.\, Utica\, OH\, 43080\, United States
CATEGORIES:Guest Speaker for Church Service
ATTACH;FMTTYPE=image/jpeg:https://kingdomfire.us/wp-content/uploads/2025/10/Online-Webinar-ADS.jpg
END:VEVENT
BEGIN:VEVENT
DTSTART;TZID=UTC:20251023T210000
DTEND;TZID=UTC:20251023T223000
DTSTAMP:20260424T014511
CREATED:20250216T220513Z
LAST-MODIFIED:20251111T194722Z
UID:10000735-1761253200-1761258600@kingdomfire.us
SUMMARY:Kingdom Fire Equipping and Discipleship  | |   FREE Bible Study & Community Group   ||  Online via ZOOM
DESCRIPTION:Kingdom Fire Equipping and Discipleship\n\n EVERY THURSDAY @ 9:00PM (ETZ) \n\nYour host\, Justin Fahrenbruch – Kingdom Fire Ministries – is inviting you to an On-Line\, Interactive\, LIVE (Non-Public)\, Discipleship/Bible Study Group.\n\nThis is not be your ordinary “Bible Study” group.  The instruction I have received of the LORD is to expand His Kingdom by raising up Warrior-Disciples.  In this Study Group you will be stretched\, built up and encouraged to go deeper in your walk with Christ.  Divine Connections will be bridged and building relationships that work together for Kingdom Advancement on earth as it is in Heaven.\n\nThere is 30-45 minutes of teaching on various topics by Justin Fahrenbrcuh\nAfter the teaching\, there is another 45 minutes of “Community Time”\n\n Question and Answer\n Sharing what’s on your heart\n Praying and Encouraging one another\n\n** All of the teaching sessions are being recorded and uploaded to our website **\n\n\nReplay Access to this Teaching Series and ALL other teaching series are available for FREE as a special gift to monthly partners with our ministry.\n www.kingdomfire.us/partners-classes \n\n\n*** YOU MUST REGISTER IN ORDER TO RECEIVE THE ACCESS LINK TO THE ZOOM STUDIES ***\n** THE SAME LINK IS USED EVERY WEEK\, SO SAVE THE LINK **\n\n REGISTER HERE: https://us02web.zoom.us/meeting/register/tZ0tce2hqjwsHNyJ3hGAIeeamVbyvbQW22QF \n\n\nSEE YOU THIS THURSDAY @ 9PM!
URL:https://kingdomfire.us/event/kingdom-foundations-identity-in-christ-online-bible-study-2-2/2025-10-23/
LOCATION:ZOOM VIRTUAL ONLINE CLASSROOM
CATEGORIES:Equipping Class,Kingdom Equipping
ATTACH;FMTTYPE=image/jpeg:https://kingdomfire.us/wp-content/uploads/2024/04/Online-bible-study-classes-flyer-scaled.jpg
ORGANIZER;CN="Justin Fahrenbruch":MAILTO:Admin@Kingdomfire.us
END:VEVENT
BEGIN:VEVENT
DTSTART;TZID=UTC:20251026T120000
DTEND;TZID=UTC:20251026T170000
DTSTAMP:20260424T014511
CREATED:20250216T215222Z
LAST-MODIFIED:20251008T183156Z
UID:10000702-1761480000-1761498000@kingdomfire.us
SUMMARY:Fall Block Party || Kingdom Fire - Flint Driven Church || Flint\, Michigan
DESCRIPTION:FREE COMMUNITY EVENT!  \nBaptisms\, Prayer\, Hotdogs\, Cider\, Donuts\, and Giveaways!!! \nThere will be live Praise and Worship and The Gospel Shared!  Bring out the Family and Come Have Some Fun! \n\nThe Littles will be able to paint a pumpkin to take home!!\n\n\n\nWant to know what’s happening at this year’s Fall Block Party???\n\n\n\n*Live Praise & Worship\n*Baptisms\n*Prayer\n*Gaming Truck\n*Candy\n*Smore Barrels\n*Pumpkin Painting Tent\n*Games\n*Donuts and Cider\n*Popcorn\n*Giveaways\n\n\n\nDid I mention… EVERYTHING IS FREE!!!!!
URL:https://kingdomfire.us/event/fall-block-party-kingdom-fire-flint-driven-church-flint-michigan/
LOCATION:Flint Driven Church\, 2901 Brown St.\, Flint\, MI\, 48503\, United States
CATEGORIES:Evangelism Outreach
ATTACH;FMTTYPE=image/jpeg:https://kingdomfire.us/wp-content/uploads/2025/02/adf125a5-776f-4b19-bb14-4d5e90391145.jpg
END:VEVENT
BEGIN:VEVENT
DTSTART;TZID=UTC:20251030T210000
DTEND;TZID=UTC:20251030T223000
DTSTAMP:20260424T014511
CREATED:20250216T220513Z
LAST-MODIFIED:20251111T194722Z
UID:10000736-1761858000-1761863400@kingdomfire.us
SUMMARY:Kingdom Fire Equipping and Discipleship  | |   FREE Bible Study & Community Group   ||  Online via ZOOM
DESCRIPTION:Kingdom Fire Equipping and Discipleship\n\n EVERY THURSDAY @ 9:00PM (ETZ) \n\nYour host\, Justin Fahrenbruch – Kingdom Fire Ministries – is inviting you to an On-Line\, Interactive\, LIVE (Non-Public)\, Discipleship/Bible Study Group.\n\nThis is not be your ordinary “Bible Study” group.  The instruction I have received of the LORD is to expand His Kingdom by raising up Warrior-Disciples.  In this Study Group you will be stretched\, built up and encouraged to go deeper in your walk with Christ.  Divine Connections will be bridged and building relationships that work together for Kingdom Advancement on earth as it is in Heaven.\n\nThere is 30-45 minutes of teaching on various topics by Justin Fahrenbrcuh\nAfter the teaching\, there is another 45 minutes of “Community Time”\n\n Question and Answer\n Sharing what’s on your heart\n Praying and Encouraging one another\n\n** All of the teaching sessions are being recorded and uploaded to our website **\n\n\nReplay Access to this Teaching Series and ALL other teaching series are available for FREE as a special gift to monthly partners with our ministry.\n www.kingdomfire.us/partners-classes \n\n\n*** YOU MUST REGISTER IN ORDER TO RECEIVE THE ACCESS LINK TO THE ZOOM STUDIES ***\n** THE SAME LINK IS USED EVERY WEEK\, SO SAVE THE LINK **\n\n REGISTER HERE: https://us02web.zoom.us/meeting/register/tZ0tce2hqjwsHNyJ3hGAIeeamVbyvbQW22QF \n\n\nSEE YOU THIS THURSDAY @ 9PM!
URL:https://kingdomfire.us/event/kingdom-foundations-identity-in-christ-online-bible-study-2-2/2025-10-30/
LOCATION:ZOOM VIRTUAL ONLINE CLASSROOM
CATEGORIES:Equipping Class,Kingdom Equipping
ATTACH;FMTTYPE=image/jpeg:https://kingdomfire.us/wp-content/uploads/2024/04/Online-bible-study-classes-flyer-scaled.jpg
ORGANIZER;CN="Justin Fahrenbruch":MAILTO:Admin@Kingdomfire.us
END:VEVENT
END:VCALENDAR