BEGIN:VCALENDAR
VERSION:2.0
PRODID:-//Kingdom Fire - ECPv6.15.20//NONSGML v1.0//EN
CALSCALE:GREGORIAN
METHOD:PUBLISH
X-ORIGINAL-URL:https://kingdomfire.us
X-WR-CALDESC:Events for Kingdom Fire
REFRESH-INTERVAL;VALUE=DURATION:PT1H
X-Robots-Tag:noindex
X-PUBLISHED-TTL:PT1H
BEGIN:VTIMEZONE
TZID:UTC
BEGIN:STANDARD
TZOFFSETFROM:+0000
TZOFFSETTO:+0000
TZNAME:UTC
DTSTART:20240101T000000
END:STANDARD
END:VTIMEZONE
BEGIN:VEVENT
DTSTART;TZID=UTC:20250111T093000
DTEND;TZID=UTC:20250111T130000
DTSTAMP:20260426T004803
CREATED:20250108T035540Z
LAST-MODIFIED:20250108T035541Z
UID:10000683-1736587800-1736600400@kingdomfire.us
SUMMARY:Men's LeadershipBreakfast  |  Leadership Development  |  CenterPoint Church - Burton\, MI
DESCRIPTION:MEN’S BREAKFAST & FELLOWSHIP \n\n\n\nSuper excited and FIRED UP about 2025! \n\n\n\nI’ll kicking off the year off with our good friends and family from CenterPoint Church! They are hosting their annual “Men’s Breakfast” … I’m honored to be the Guest Speaker for this event.\n\n\nJoin us THIS SATURDAY (1/11/25) @ 10:00AM for a great time of Food\, Fellowship\, Worship\, and a Timely Word on Leadership that will set you on pace to start your year out right!!!\n\n\n\n*** This is a FREE event but RSVP is required!! ***\n (Link in comments) \n\n\n\n Location:\nCenterPoint Church\n1225 S. Center Rd.\nBurton\, MI 48509\n\n\n\nSee you there!
URL:https://kingdomfire.us/event/mens-leadershipbreakfast-leadership-development-centerpoint-church-burton-mi/
LOCATION:CenterPoint Church\, 1225 S. Center\, Burton\, MI\, 48509
CATEGORIES:Guest Speaker for Special Event
ATTACH;FMTTYPE=image/png:https://kingdomfire.us/wp-content/uploads/2025/01/Bulletin-Insert-5.5-x-8.5-in.png
END:VEVENT
BEGIN:VEVENT
DTSTART;TZID=UTC:20250114T180000
DTEND;TZID=UTC:20250114T193000
DTSTAMP:20260426T004803
CREATED:20250103T233632Z
LAST-MODIFIED:20250103T233632Z
UID:10000299-1736877600-1736883000@kingdomfire.us
SUMMARY:Lifestyle Evangelism Equipping Courses |  @Faith Christian Center  I  Chesterfield\, MI
DESCRIPTION:FREE EVANGELISM EQUIPPING COURSES \n\n\n\nDo you believe you are called to be an Evangelist?\nOr maybe you just wanna grow in this area of your walk…\n\n\n\nEvangelist Justin Fahrenbruch will be training us to grow beyond comfort zones and reach OUR world for Christ. This won’t just be another class… This course will challenge you to discover and become everything God has called you to be!\n\n\n\n A Lifestyle of walking in Kingdom Evangelism.\n\n\n\nSessions Include:\n\n\n – Identity / Becoming Love\n – Destroying Fear / Increased Boldness\n – Holy Spirit / Gifts of the Holy Spirit\n – Kingdom Evangelism / The Jesus Way\n – The Power of Personal Testimony\n – Hearing God’s Voice / Prophetic Gifts\n – Healing & Deliverance / Power Gifts\n\n\n\nThere will also be HANDS-ON Equipping Activations…\n\n\n\n How to share the Gospel\n How to craft and share your personal testimony\n How to give and receive a prophetic word\n How to receive and give words of knowledge\n How to minister to the sick\n How to cast out spirits\n\n\n\n— ONCE A MONTH OUTREACH OPPORTUNITIES —\n\n\n\n Classes will begin on Tuesday\, January 14th and will be held EVERY OTHER TUESDAY (For 7 Weeks)\n\n\n\n*** Registration Required ***\n\n\n\n In-Person Location:\nFaith Christian Center\n46000 N Gratiot Ave.\nChesterfield\, MI 48051\n\n\n\n Online Access\nZOOM LINK provided via E-Mail.\n\n\n\nYou can sign up right now!!!!\n\nREGISTER FOR IN PERSON:\n\nhttps://docs.google.com/forms/d/1n2Uugs18QW0Sdwfs-qBcW0kPCNMvdLUs5lO-lcO0Tx0/viewform?fbclid=IwZXh0bgNhZW0CMTAAAR16FiB1MN3QHj42pUXB8eTz3BAtgAbDxC7SzgzewVBWH1pWcGhdUeaHfV8_aem_D8sMj5V08iTd0oL8ILJrkA&edit_requested=true\n\nREGISTER FOR VIRTUAL ONLINE:\nhttps://us02web.zoom.us/meeting/register/NevTtIo-SoeM7LZh816olg\n\n\n\nAs a friendly reminder… If you cannot make these classes… In-Person or Virtual Online… REPLAY ACCESS will be available for FREE for partners with our ministry.\n\n\n\n Looking forward to seeing you in a few weeks!
URL:https://kingdomfire.us/event/lifestyle-evangelism-equipping-class/2025-01-14/
LOCATION:Faith Christian Center\, 46000 Gratiot Ave.
CATEGORIES:Evangelism Equipping
ATTACH;FMTTYPE=image/jpeg:https://kingdomfire.us/wp-content/uploads/2025/01/street-evangelism-scaled.jpg
ORGANIZER;CN="Justin Fahrenbruch":MAILTO:Admin@Kingdomfire.us
END:VEVENT
BEGIN:VEVENT
DTSTART;VALUE=DATE:20250115
DTEND;VALUE=DATE:20250118
DTSTAMP:20260426T004803
CREATED:20250104T003842Z
LAST-MODIFIED:20250105T012425Z
UID:10000307-1736899200-1737158399@kingdomfire.us
SUMMARY:Pastor's Intensive  |  CityQuake - Power Evangelism Equipping |  Orlanda\, FL
DESCRIPTION:Super Excited to join our good friends for the Pastor’s Intensive\, CITY QUAKE – Power Evangelism Confernce! \n  \nCity Quake will motivate and activate you to “live out” what you believe. Join Tom Ruotolo\, JonMark Baker\, Scott Gilbert\, Ryan Adcock\, Trey Dowdy\, Jay Adkins and Art Thomas for this life-changing adventure! Come and receive the confidence to walk-in signs\, wonders\, and miracles — energized by the love of Jesus — every day! \n  \n\nPrepare your church to make the shift to become a multiplying ARMY! Other congregations are doing so\, why not yours?\nPlan for a continual increase of lifestyle Power Evangelism for your whole congregation.\nAnticipate how City Quake sets the stage for a natural movement toward multiplying disciples.\nHear about the impact City Quake is having on many congregations across the US and around the world…Yours in NEXT!\nTake a big step forward toward being “naturally supernatural” in your own life.\nEnjoy a shortened but intensive City Quake schedule to fit a pastor’s busy life!\nTake advantage of a smaller\, limited size event allowing for a more relational format.\nThis event is only for Staff Pastors and spouses\, Ministry Leaders and Spouses\, and those who feel like God has called them to bring City Quake to their region. Also\, the Staff Pastor may bring along others from his/her leadership team.
URL:https://kingdomfire.us/event/cityquake-power-evangelism-equipping/2025-01-15/1/
LOCATION:Orlando Florida
CATEGORIES:Kingdom Equipping
ATTACH;FMTTYPE=image/jpeg:https://kingdomfire.us/wp-content/uploads/2025/01/PHOTO-2024-09-19-11-09-32-819x1024-1.jpeg
END:VEVENT
BEGIN:VEVENT
DTSTART;VALUE=DATE:20250115
DTEND;VALUE=DATE:20250116
DTSTAMP:20260426T004803
CREATED:20250104T003842Z
LAST-MODIFIED:20250105T012425Z
UID:10000675-1736928000-1736960400@kingdomfire.us
SUMMARY:Pastor's Intensive  |  CityQuake - Power Evangelism Equipping |  Orlanda\, FL
DESCRIPTION:Super Excited to join our good friends for the Pastor’s Intensive\, CITY QUAKE – Power Evangelism Confernce! \n  \nCity Quake will motivate and activate you to “live out” what you believe. Join Tom Ruotolo\, JonMark Baker\, Scott Gilbert\, Ryan Adcock\, Trey Dowdy\, Jay Adkins and Art Thomas for this life-changing adventure! Come and receive the confidence to walk-in signs\, wonders\, and miracles — energized by the love of Jesus — every day! \n  \n\nPrepare your church to make the shift to become a multiplying ARMY! Other congregations are doing so\, why not yours?\nPlan for a continual increase of lifestyle Power Evangelism for your whole congregation.\nAnticipate how City Quake sets the stage for a natural movement toward multiplying disciples.\nHear about the impact City Quake is having on many congregations across the US and around the world…Yours in NEXT!\nTake a big step forward toward being “naturally supernatural” in your own life.\nEnjoy a shortened but intensive City Quake schedule to fit a pastor’s busy life!\nTake advantage of a smaller\, limited size event allowing for a more relational format.\nThis event is only for Staff Pastors and spouses\, Ministry Leaders and Spouses\, and those who feel like God has called them to bring City Quake to their region. Also\, the Staff Pastor may bring along others from his/her leadership team.
URL:https://kingdomfire.us/event/cityquake-power-evangelism-equipping/2025-01-15/2/
LOCATION:Orlando Florida
CATEGORIES:Kingdom Equipping
ATTACH;FMTTYPE=image/jpeg:https://kingdomfire.us/wp-content/uploads/2025/01/PHOTO-2024-09-19-11-09-32-819x1024-1.jpeg
END:VEVENT
BEGIN:VEVENT
DTSTART;TZID=UTC:20250128T100000
DTEND;TZID=UTC:20250128T130000
DTSTAMP:20260426T004803
CREATED:20250105T025302Z
LAST-MODIFIED:20250105T025302Z
UID:10000682-1738058400-1738069200@kingdomfire.us
SUMMARY:Thumb Pastor's Assembly | LifeSong Church | Snover\, MI
DESCRIPTION:Greetings Thumb Pastors and Ministry Leaders!\n\nI hope and pray all is well as God is moving mightily! He has given us authority over this region called the Thumb of Michigan. Together\, God’ anointing is magnified\, allowing us to do great things for our Lord.\n\nWill you please join us on January 28th\, Tuesday\, from 10am to 1pm at Life Song Church\, 5208 W. Sanilac\, Snover MI 48472? We have Pastors coming from Huron\, Tuscola\, Sanilac\, Lapeer and St. Clair counties. We need you to represent your area as we come into agreement\, into unity as one. Jesus said when we do this\, He will give us His glory\, to be made perfect in Him (Jn 17:20-26).\n\nWe will have a continental breakfast and luncheon. There is no cost for this event\, but I need to know if you (and your spouse) plan to attend for a head count
URL:https://kingdomfire.us/event/thumb-pastors-assembly-lifesong-church-snover-mi/
LOCATION:Lifesong Church\, 5208 Sanilac Rd.\, Snover\, MI\, 48472\, United States
CATEGORIES:Church Event
ATTACH;FMTTYPE=image/jpeg:https://kingdomfire.us/wp-content/uploads/2023/08/fire-545374_1280.jpg
END:VEVENT
BEGIN:VEVENT
DTSTART;TZID=UTC:20250128T180000
DTEND;TZID=UTC:20250128T193000
DTSTAMP:20260426T004803
CREATED:20250103T233632Z
LAST-MODIFIED:20250103T233632Z
UID:10000300-1738087200-1738092600@kingdomfire.us
SUMMARY:Lifestyle Evangelism Equipping Courses |  @Faith Christian Center  I  Chesterfield\, MI
DESCRIPTION:FREE EVANGELISM EQUIPPING COURSES \n\n\n\nDo you believe you are called to be an Evangelist?\nOr maybe you just wanna grow in this area of your walk…\n\n\n\nEvangelist Justin Fahrenbruch will be training us to grow beyond comfort zones and reach OUR world for Christ. This won’t just be another class… This course will challenge you to discover and become everything God has called you to be!\n\n\n\n A Lifestyle of walking in Kingdom Evangelism.\n\n\n\nSessions Include:\n\n\n – Identity / Becoming Love\n – Destroying Fear / Increased Boldness\n – Holy Spirit / Gifts of the Holy Spirit\n – Kingdom Evangelism / The Jesus Way\n – The Power of Personal Testimony\n – Hearing God’s Voice / Prophetic Gifts\n – Healing & Deliverance / Power Gifts\n\n\n\nThere will also be HANDS-ON Equipping Activations…\n\n\n\n How to share the Gospel\n How to craft and share your personal testimony\n How to give and receive a prophetic word\n How to receive and give words of knowledge\n How to minister to the sick\n How to cast out spirits\n\n\n\n— ONCE A MONTH OUTREACH OPPORTUNITIES —\n\n\n\n Classes will begin on Tuesday\, January 14th and will be held EVERY OTHER TUESDAY (For 7 Weeks)\n\n\n\n*** Registration Required ***\n\n\n\n In-Person Location:\nFaith Christian Center\n46000 N Gratiot Ave.\nChesterfield\, MI 48051\n\n\n\n Online Access\nZOOM LINK provided via E-Mail.\n\n\n\nYou can sign up right now!!!!\n\nREGISTER FOR IN PERSON:\n\nhttps://docs.google.com/forms/d/1n2Uugs18QW0Sdwfs-qBcW0kPCNMvdLUs5lO-lcO0Tx0/viewform?fbclid=IwZXh0bgNhZW0CMTAAAR16FiB1MN3QHj42pUXB8eTz3BAtgAbDxC7SzgzewVBWH1pWcGhdUeaHfV8_aem_D8sMj5V08iTd0oL8ILJrkA&edit_requested=true\n\nREGISTER FOR VIRTUAL ONLINE:\nhttps://us02web.zoom.us/meeting/register/NevTtIo-SoeM7LZh816olg\n\n\n\nAs a friendly reminder… If you cannot make these classes… In-Person or Virtual Online… REPLAY ACCESS will be available for FREE for partners with our ministry.\n\n\n\n Looking forward to seeing you in a few weeks!
URL:https://kingdomfire.us/event/lifestyle-evangelism-equipping-class/2025-01-28/
LOCATION:Faith Christian Center\, 46000 Gratiot Ave.
CATEGORIES:Evangelism Equipping
ATTACH;FMTTYPE=image/jpeg:https://kingdomfire.us/wp-content/uploads/2025/01/street-evangelism-scaled.jpg
ORGANIZER;CN="Justin Fahrenbruch":MAILTO:Admin@Kingdomfire.us
END:VEVENT
END:VCALENDAR